BEGIN:VCALENDAR
VERSION:2.0
PRODID:-//Global Atlanta - ECPv6.15.20//NONSGML v1.0//EN
CALSCALE:GREGORIAN
METHOD:PUBLISH
X-ORIGINAL-URL:https://www.globalatlanta.com
X-WR-CALDESC:Events for Global Atlanta
REFRESH-INTERVAL;VALUE=DURATION:PT1H
X-Robots-Tag:noindex
X-PUBLISHED-TTL:PT1H
BEGIN:VTIMEZONE
TZID:America/New_York
BEGIN:DAYLIGHT
TZOFFSETFROM:-0500
TZOFFSETTO:-0400
TZNAME:EDT
DTSTART:20240310T070000
END:DAYLIGHT
BEGIN:STANDARD
TZOFFSETFROM:-0400
TZOFFSETTO:-0500
TZNAME:EST
DTSTART:20241103T060000
END:STANDARD
BEGIN:DAYLIGHT
TZOFFSETFROM:-0500
TZOFFSETTO:-0400
TZNAME:EDT
DTSTART:20250309T070000
END:DAYLIGHT
BEGIN:STANDARD
TZOFFSETFROM:-0400
TZOFFSETTO:-0500
TZNAME:EST
DTSTART:20251102T060000
END:STANDARD
BEGIN:DAYLIGHT
TZOFFSETFROM:-0500
TZOFFSETTO:-0400
TZNAME:EDT
DTSTART:20260308T070000
END:DAYLIGHT
BEGIN:STANDARD
TZOFFSETFROM:-0400
TZOFFSETTO:-0500
TZNAME:EST
DTSTART:20261101T060000
END:STANDARD
END:VTIMEZONE
BEGIN:VEVENT
DTSTART;TZID=America/New_York:20251028T100000
DTEND;TZID=America/New_York:20251028T160000
DTSTAMP:20260423T025408
CREATED:20251024T203000Z
LAST-MODIFIED:20251024T203101Z
UID:10040895-1761645600-1761667200@www.globalatlanta.com
SUMMARY:Culture need not be spooky: The Skeletons in the Closet — Fear\, Silence\, and Cultural Taboos
DESCRIPTION:Every global team has a few skeletons in the closet. Unspoken assumptions. Awkward silences. “We thought they meant yes.” These moments are not spooky. They are predictable. And expensive. \n\n\n\nOn Tuesday\, October 28 in Atlanta\, GA\, The Culture Mastery is hosting a fast-moving\, hands-on workshop: \n\n\n\nWhat you will walk away with:\n\n\n\n\nIdentify your cultural values and how they play out in meetings\, emails\, and decisions\n\n\n\nCompare U.S. norms with key partners in Germany\, Mexico\, India\, or Nigeria\n\n\n\nSee how culture impacts every area of business from timelines to risk to hierarchy\n\n\n\nA set of tips and strategies you can apply the next day for smoother collaboration and sustainable growth across borders\n\n\n\n\nWhat this session will help you avoid:\n\n\n\n\nReal-life costly culture clashes that blow up projects\n\n\n\nIgnoring the gap between intention and interpretation\n\n\n\nFalse similarity assumptions that derail trust\n\n\n\nThe painful embarrassment of miscommunication in front of clients and leadership\n\n\n\n\nWho should attend:\n\n\n\nLeaders in international roles\, sales and sourcing\, HR and L&D\, project managers\, and anyone who has to get results with people who do not think or decide like you. \n\n\n\nWhy now:\n\n\n\nOctober is a good time to de-risk Q4 interactions and plan 2026. One day with your team can save months of “lost in translation.” \n\n\n\n\n\n\nRegister\n\n\n\n\n\n\n\nDownload Flyer
URL:https://www.globalatlanta.com/event/fear-silence-and-cultural-taboos/
LOCATION:Atlanta\, Atlanta\, Georgia
CATEGORIES:Business,Culture,Germany,India,Mexico,Nigeria
ATTACH;FMTTYPE=image/jpeg:https://www.globalatlanta.com/wp-content/uploads/13007b0e-7422-4b05-bc75-adbb928d48df-2.jpg
ORGANIZER;CN="The Culture Mastery LLC":MAILTO:office@theculturemastery.com
END:VEVENT
BEGIN:VEVENT
DTSTART;TZID=America/New_York:20251030T000000
DTEND;TZID=America/New_York:20251031T235959
DTSTAMP:20260423T025408
CREATED:20250620T195413Z
LAST-MODIFIED:20251021T163858Z
UID:10040709-1761782400-1761955199@www.globalatlanta.com
SUMMARY:Africa Women Innovation & Entrepreneurship Forum 2025 Conference and Exhibition
DESCRIPTION:The Africa Women Innovation & Entrepreneurship Forum (AWIEF) Conference & Exhibition brings together key players in the African entrepreneurial ecosystem to engage in impactful dialogue\, share good practices\, and foster collaboration. \n\n\n\nThis year’s theme\, “BREAKING THE BARRIERS: Now More Than Ever\,” highlights the urgent need to remove systemic obstacles hindering women’s economic empowerment and entrepreneurship.  \n\n\n\nJoin AWIEF this October at the Cape Town International Convention Centre (CTICC) for an inspiring gathering of speakers\, exhibitors\, and delegates. AWIEF will share strategies to promote inclusive\, equitable\, and sustainable growth through entrepreneurship. \n\n\n\n\n\n\nRegister
URL:https://www.globalatlanta.com/event/awief-2025-conference-exhibition/
LOCATION:Cape Town International Convention Centre\, 1 Lower Long Street Convention Square\, Cape Town Central 8001\, South Africa
CATEGORIES:Business,Economic Development,Entrepreneur,Entrepreneurship,Networking,Professional Development,South Africa,Sustainability,Women
ATTACH;FMTTYPE=image/jpeg:https://www.globalatlanta.com/wp-content/uploads/Event-Calendar-Logos-15.jpg
END:VEVENT
END:VCALENDAR