BEGIN:VCALENDAR
VERSION:2.0
PRODID:-//Global Atlanta - ECPv6.15.20//NONSGML v1.0//EN
CALSCALE:GREGORIAN
METHOD:PUBLISH
X-ORIGINAL-URL:https://www.globalatlanta.com
X-WR-CALDESC:Events for Global Atlanta
REFRESH-INTERVAL;VALUE=DURATION:PT1H
X-Robots-Tag:noindex
X-PUBLISHED-TTL:PT1H
BEGIN:VTIMEZONE
TZID:America/New_York
BEGIN:DAYLIGHT
TZOFFSETFROM:-0500
TZOFFSETTO:-0400
TZNAME:EDT
DTSTART:20240310T070000
END:DAYLIGHT
BEGIN:STANDARD
TZOFFSETFROM:-0400
TZOFFSETTO:-0500
TZNAME:EST
DTSTART:20241103T060000
END:STANDARD
BEGIN:DAYLIGHT
TZOFFSETFROM:-0500
TZOFFSETTO:-0400
TZNAME:EDT
DTSTART:20250309T070000
END:DAYLIGHT
BEGIN:STANDARD
TZOFFSETFROM:-0400
TZOFFSETTO:-0500
TZNAME:EST
DTSTART:20251102T060000
END:STANDARD
BEGIN:DAYLIGHT
TZOFFSETFROM:-0500
TZOFFSETTO:-0400
TZNAME:EDT
DTSTART:20260308T070000
END:DAYLIGHT
BEGIN:STANDARD
TZOFFSETFROM:-0400
TZOFFSETTO:-0500
TZNAME:EST
DTSTART:20261101T060000
END:STANDARD
BEGIN:DAYLIGHT
TZOFFSETFROM:-0500
TZOFFSETTO:-0400
TZNAME:EDT
DTSTART:20270314T070000
END:DAYLIGHT
BEGIN:STANDARD
TZOFFSETFROM:-0400
TZOFFSETTO:-0500
TZNAME:EST
DTSTART:20271107T060000
END:STANDARD
END:VTIMEZONE
BEGIN:VEVENT
DTSTART;TZID=America/New_York:20251104T180000
DTEND;TZID=America/New_York:20251104T200000
DTSTAMP:20260425T231201
CREATED:20251021T170248Z
LAST-MODIFIED:20251021T170251Z
UID:10040887-1762279200-1762286400@www.globalatlanta.com
SUMMARY:Shared Interest Fireside Chat With Justice Albie Sachs
DESCRIPTION:You’re invited to a Fireside Chat with Justice Albie Sachs\, renowned South African activist\, writer and former judge whose lifelong fight for human rights helped dismantle apartheid and shape a democratic South Africa. In celebration of his 90th birthday\, Justice Sachs joins Shared Interest to share reflections on justice\, equality and empowering the next generation of Social Impact Leaders. The conversation will be moderated by Josie Duffy Rice\, Atlanta-based political commentator and journalist. \n\n\n\n\n\n\nRegister\n\n\n\n\n\n\n\nDownload Flyer
URL:https://www.globalatlanta.com/event/shared-interest-fireside-chat-with-justice-albie-sachs/
LOCATION:The Carter Center\, 453 Freedom Parkway NE\, Atlanta\, GA\, 30307\, United States
CATEGORIES:Law,South Africa
ATTACH;FMTTYPE=image/png:https://www.globalatlanta.com/wp-content/uploads/Shared-Interest.png
ORGANIZER;CN="Shared Interest":MAILTO:info@sharedinterest.org
GEO:33.7675631;-84.3568733
X-APPLE-STRUCTURED-LOCATION;VALUE=URI;X-ADDRESS=The Carter Center 453 Freedom Parkway NE Atlanta GA 30307 United States;X-APPLE-RADIUS=500;X-TITLE=453 Freedom Parkway NE:geo:-84.3568733,33.7675631
END:VEVENT
BEGIN:VEVENT
DTSTART;TZID=America/New_York:20251118T000000
DTEND;TZID=America/New_York:20251118T235959
DTSTAMP:20260425T231201
CREATED:20251001T235820Z
LAST-MODIFIED:20251021T172150Z
UID:10040849-1763424000-1763510399@www.globalatlanta.com
SUMMARY:Nigeria–USA Economic and Investment Summit
DESCRIPTION:The stage is set for a defining moment in Nigeria–United States relations as global attention turns to theNigeria–USA Economic and Investment Summit (NIGUSEIS 2025). NIGUSEIS-2025 is a landmark eventtaking place across Washington DC\, Maryland\,Texas\, and Georgia. More than a summit\, NIGUSEIS 2025 represents the unveiling of a new chapter in legislative and economic engagement\, parliamentary diplomacy\, and shared prosperity between two great nations. \n\n\n\n\n\n\nDownload Flyer
URL:https://www.globalatlanta.com/event/nigeria-usa-economic-investment-summit/
CATEGORIES:Economic Development,Investment,Nigeria
ATTACH;FMTTYPE=image/png:https://www.globalatlanta.com/wp-content/uploads/Event-Calendar-Logos-48.png
END:VEVENT
BEGIN:VEVENT
DTSTART;TZID=America/New_York:20251122T100000
DTEND;TZID=America/New_York:20260111T170000
DTSTAMP:20260425T231201
CREATED:20251202T132332Z
LAST-MODIFIED:20251202T142333Z
UID:10040934-1763805600-1768150800@www.globalatlanta.com
SUMMARY:Fernbank Winter Wonderland
DESCRIPTION:Celebrate cultures and traditions from around the world in this seasonal exhibit that features decorated trees and other displays. Each display uses rich\, artistic expression\, including art\, craft\, symbols and ornaments\, to tell unique stories selected by local cultural partners. \n\n\n\nWinter Wonderland will highlight cultural stories\, including from the countries of Japan\, Scotland\, Kenya\, Turkey\, Ukraine\, Argentina\, Guatemala\, Canada\, Philippines\, and many more. \n\n\n\nExhibit Highlights:\n\n\n\n\nA variety of secular and nonsecular representations of holidays\, celebrations and cultural traditions worldwide.\n\n\n\nCreative expression through culturally relevant artistry.\n\n\n\nBeautifully decorated trees that highlight holidays\, celebrations and traditions.\n\n\n\nAdditional displays featuring vibrant and iconic cultural objects.\n\n\n\n\n\n\n\nGet Tickets
URL:https://www.globalatlanta.com/event/fernbank-winter-wonderland/
LOCATION:Fernbank Museum of Natural History\, 767 Clifton Road\, NE\,  Atlanta\, GA\, 30307\, United States
CATEGORIES:Argentina,Canada,Culture,Holiday,Japan,Kenya,turkey,Ukraine
ATTACH;FMTTYPE=image/jpeg:https://www.globalatlanta.com/wp-content/uploads/Event-Calendar-Logos-2-3.jpg
GEO:33.7740001;-84.327745
X-APPLE-STRUCTURED-LOCATION;VALUE=URI;X-ADDRESS=Fernbank Museum of Natural History 767 Clifton Road NE  Atlanta GA 30307 United States;X-APPLE-RADIUS=500;X-TITLE=767 Clifton Road\, NE:geo:-84.327745,33.7740001
END:VEVENT
END:VCALENDAR