BEGIN:VCALENDAR
VERSION:2.0
PRODID:-//Global Atlanta - ECPv6.15.20//NONSGML v1.0//EN
CALSCALE:GREGORIAN
METHOD:PUBLISH
X-WR-CALNAME:Global Atlanta
X-ORIGINAL-URL:https://www.globalatlanta.com
X-WR-CALDESC:Events for Global Atlanta
REFRESH-INTERVAL;VALUE=DURATION:PT1H
X-Robots-Tag:noindex
X-PUBLISHED-TTL:PT1H
BEGIN:VTIMEZONE
TZID:America/New_York
BEGIN:DAYLIGHT
TZOFFSETFROM:-0500
TZOFFSETTO:-0400
TZNAME:EDT
DTSTART:20230312T070000
END:DAYLIGHT
BEGIN:STANDARD
TZOFFSETFROM:-0400
TZOFFSETTO:-0500
TZNAME:EST
DTSTART:20231105T060000
END:STANDARD
BEGIN:DAYLIGHT
TZOFFSETFROM:-0500
TZOFFSETTO:-0400
TZNAME:EDT
DTSTART:20240310T070000
END:DAYLIGHT
BEGIN:STANDARD
TZOFFSETFROM:-0400
TZOFFSETTO:-0500
TZNAME:EST
DTSTART:20241103T060000
END:STANDARD
BEGIN:DAYLIGHT
TZOFFSETFROM:-0500
TZOFFSETTO:-0400
TZNAME:EDT
DTSTART:20250309T070000
END:DAYLIGHT
BEGIN:STANDARD
TZOFFSETFROM:-0400
TZOFFSETTO:-0500
TZNAME:EST
DTSTART:20251102T060000
END:STANDARD
END:VTIMEZONE
BEGIN:VEVENT
DTSTART;TZID=America/New_York:20240907T110000
DTEND;TZID=America/New_York:20240907T173000
DTSTAMP:20260424T121445
CREATED:20240813T185142Z
LAST-MODIFIED:20240813T185146Z
UID:10040343-1725706800-1725730200@www.globalatlanta.com
SUMMARY:The Beloved Community International Expo
DESCRIPTION:The Beloved Community International Expo serves as an all-encompassing experience for global citizens to unite in celebration of Dr. King’s love-centered vision of the Beloved Community\, where peace and harmony for all cultures can be achieved through nonviolence. In collaboration with the National Historic Park and the Atlanta Consular Corps (representing more than 35 countries and other key stakeholders)\, The King Center’s historic campus is transformed into a “World House!” People of all ages can travel around the world without leaving “Sweet Auburn Avenue.” The Expo celebrates global culture by showcasing captivating performances\, curated creative works\, politics\, food\, music\, dance and more\, from societies around the World! Mark your calendars now for an experience you won’t forget! \n\n\n\n\n\n\nLearn More
URL:https://www.globalatlanta.com/event/the-beloved-community-international-expo/
LOCATION:The King Center\, 449 Auburn Avenue NE\, Atlanta\, GA\, 30312\, United States
CATEGORIES:Art,Art & History,Culture,Dance,Entertainment,Festival,Food,Music,North America,Politics
ATTACH;FMTTYPE=image/png:https://www.globalatlanta.com/wp-content/uploads/The-King-Center-Logo-1.png
ORGANIZER;CN="The King Center":MAILTO:bharrison@thekingcenter.org
GEO:33.7553157;-84.3729745
X-APPLE-STRUCTURED-LOCATION;VALUE=URI;X-ADDRESS=The King Center 449 Auburn Avenue NE Atlanta GA 30312 United States;X-APPLE-RADIUS=500;X-TITLE=449 Auburn Avenue NE:geo:-84.3729745,33.7553157
END:VEVENT
BEGIN:VEVENT
DTSTART;TZID=America/New_York:20240926T163000
DTEND;TZID=America/New_York:20240926T180000
DTSTAMP:20260424T121445
CREATED:20240920T205246Z
LAST-MODIFIED:20240926T153921Z
UID:10040423-1727368200-1727373600@www.globalatlanta.com
SUMMARY:Spaces of the Soul: Felwine Sarr on Literature\, Music\, and Dreams in Conversation with Stéphanie Boulard
DESCRIPTION:Due to inclement weather related to Hurricane Helene\, this event has been postponed. We will update you with more information at a later date. \n\n\n\nThis event is part of the annual France-Atlanta series organized by Georgia Tech and the Embassy of France in the United States. \n\n\n\nRegister now to learn more about Felwine Sarr’s creative practices\, examining how artistic forms —such as musical composition\, poetry\, and narrative fiction— shape and express our emotional and intellectual landscapes. He will be in conversation with Stéphanie Boulard\, Professor of French Literature and Visual Arts at Georgia Tech. \n\n\n\n\n\n\nRegister
URL:https://www.globalatlanta.com/event/spaces-of-the-soul-felwine-sarr-on-literature-music-and-dreams-in-conversation-with-stephanie-boulard/
LOCATION:Scholars Event Theater (Room 1280)\, Price Gilbert Memorial Library at Georgia Tech\, 704 Cherry St NW\, Atlanta\, Georgia\, 30332
CATEGORIES:Art,Art & History,Arts & Books,Europe,France,Music
ATTACH;FMTTYPE=image/png:https://www.globalatlanta.com/wp-content/uploads/France-Atlanta-logo-1.png
END:VEVENT
BEGIN:VEVENT
DTSTART;TZID=America/New_York:20240927T160000
DTEND;TZID=America/New_York:20240927T173000
DTSTAMP:20260424T121445
CREATED:20240920T210027Z
LAST-MODIFIED:20240926T154632Z
UID:10040424-1727452800-1727458200@www.globalatlanta.com
SUMMARY:Decolonizing Knowledge\, a Conversation with Felwine Sarr
DESCRIPTION:  \n\n\n\nDue to inclement weather related to Hurricane Helene\, this event has been postponed. We will update you with more information at a later date. \n\n\n\nThis event is part of the annual France-Atlanta series organized by Georgia Tech and the Embassy of France in the United States. \n\n\n\nOne of the great intellectuals of our time\, committed to the decolonization of knowledge from an African perspective\, Senegalese thinker Felwine Sarr is invited for the first time in Atlanta to present his work and his intellectual journey. Felwine Sarr will be in conversation with Lauren Tate Baeza\, Curator of African Art at the High Museum of Art and Axelle Karera\, Assistant Professor in the Department of Philosophy at Emory University. \n\n\n\nIn 2021\, Time magazine featured Felwine Sarr as one of the 100 most influential people in the world. His thinking is developing in different directions and on several fronts at once. With philosopher Achille Mbembe\, he is the initiator of the “Ateliers de la pensée”\, which has been bringing together writers\, thinkers\, artists and academics from Africa and the diaspora in Dakar since 2016. The same year\, he published Afrotopia [University of Minnesota Press\, 2020]\, an essay on the future of the continent and the need to pursue decolonization. Together with art historian Bénédicte Savoy\, he is also the author of the landmark “Rapport sur la restitution du patrimoine culturel africain” [The Restitution of African Cultural Heritage. Toward a New Relational Ethics\, 2018]\, logical compensation for colonial predation. Felwine Sarr now teaches at Duke University\, where he brings knowledge produced in Africa and promotes an ecology of knowledge from different geographies and traditions. More recently\, he has played a major role\, alongside numerous intellectuals\, activists and citizens\, in the defense of Senegalese democracy\, and advocates a deepening of democracy in Africa. Today\, he is working to create a “pluriversity” in Dakar\, a university based on the plurality of knowledge. \n\n\n\n\n\n\nRegister
URL:https://www.globalatlanta.com/event/decolonizing-knowledge-a-conversation-with-felwine-sarr/
LOCATION:Ackerman Hall – Michael C. Carlos Museum\, 571 South Kilgo Cir NE\, Atlanta\, GA\, 30322\, United States
CATEGORIES:Africa,Art & History,Author Talks,Senegal
ATTACH;FMTTYPE=image/png:https://www.globalatlanta.com/wp-content/uploads/France-Atlanta-logo-1.png
GEO:33.7903529;-84.3243218
X-APPLE-STRUCTURED-LOCATION;VALUE=URI;X-ADDRESS=Ackerman Hall – Michael C. Carlos Museum 571 South Kilgo Cir NE Atlanta GA 30322 United States;X-APPLE-RADIUS=500;X-TITLE=571 South Kilgo Cir NE:geo:-84.3243218,33.7903529
END:VEVENT
END:VCALENDAR