BEGIN:VCALENDAR
VERSION:2.0
PRODID:-//Global Atlanta - ECPv6.15.20//NONSGML v1.0//EN
CALSCALE:GREGORIAN
METHOD:PUBLISH
X-ORIGINAL-URL:https://www.globalatlanta.com
X-WR-CALDESC:Events for Global Atlanta
REFRESH-INTERVAL;VALUE=DURATION:PT1H
X-Robots-Tag:noindex
X-PUBLISHED-TTL:PT1H
BEGIN:VTIMEZONE
TZID:America/New_York
BEGIN:DAYLIGHT
TZOFFSETFROM:-0500
TZOFFSETTO:-0400
TZNAME:EDT
DTSTART:20230312T070000
END:DAYLIGHT
BEGIN:STANDARD
TZOFFSETFROM:-0400
TZOFFSETTO:-0500
TZNAME:EST
DTSTART:20231105T060000
END:STANDARD
BEGIN:DAYLIGHT
TZOFFSETFROM:-0500
TZOFFSETTO:-0400
TZNAME:EDT
DTSTART:20240310T070000
END:DAYLIGHT
BEGIN:STANDARD
TZOFFSETFROM:-0400
TZOFFSETTO:-0500
TZNAME:EST
DTSTART:20241103T060000
END:STANDARD
BEGIN:DAYLIGHT
TZOFFSETFROM:-0500
TZOFFSETTO:-0400
TZNAME:EDT
DTSTART:20250309T070000
END:DAYLIGHT
BEGIN:STANDARD
TZOFFSETFROM:-0400
TZOFFSETTO:-0500
TZNAME:EST
DTSTART:20251102T060000
END:STANDARD
BEGIN:DAYLIGHT
TZOFFSETFROM:-0500
TZOFFSETTO:-0400
TZNAME:EDT
DTSTART:20260308T070000
END:DAYLIGHT
BEGIN:STANDARD
TZOFFSETFROM:-0400
TZOFFSETTO:-0500
TZNAME:EST
DTSTART:20261101T060000
END:STANDARD
BEGIN:DAYLIGHT
TZOFFSETFROM:-0500
TZOFFSETTO:-0400
TZNAME:EDT
DTSTART:20270314T070000
END:DAYLIGHT
BEGIN:STANDARD
TZOFFSETFROM:-0400
TZOFFSETTO:-0500
TZNAME:EST
DTSTART:20271107T060000
END:STANDARD
END:VTIMEZONE
BEGIN:VEVENT
DTSTART;TZID=America/New_York:20241020T200000
DTEND;TZID=America/New_York:20241020T200000
DTSTAMP:20260425T080414
CREATED:20240828T220902Z
LAST-MODIFIED:20240911T001554Z
UID:10040373-1729454400-1729454400@www.globalatlanta.com
SUMMARY:The National Ballet of Ukraine
DESCRIPTION:Experience the magic of the National Ballet of Ukraine\, one of the world’s top ballet companies and the country’s official ballet company\, on their premiere tour of the United States\, first time in over 30 years since the dissolution of the USSR. Straight from the historic Kyiv National Opera House\, these world-class dancers will captivate you with a stunning program featuring timeless classics\, including “The Dying Swan\,” “Don Quixote\,” and “Giselle.” The program tells stories of love\, loss\, and triumph\, leaving you mesmerized by the company’s unparalleled grace and strength. Prepare to be swept away as the dancers defy gravity\, their bodies soaring high above the stage with dance movements filled with intensity\, emotion and perfect harmony.    \n\n\n\nThe spectacular Ukrainian Shumka Dancers (Shumka) are joining the tour\, thrilling audiences with their powerful traditional music\, jaw-droppingly athletic choreography\, and colorful historic costumes. Shumka brings beloved folk dances to life with an energy and vibrancy that pulses through the theatre\, earning them a worldwide reputation as one of the finest Ukrainian folk ensembles.  \n\n\n\nIn a first-of-its-kind experience\, prepare to be immersed in a breathtaking fusion of dance and technology as the 44 incredible artists perform in front of a massive cutting-edge 3D LED screen with groundbreaking technology that makes the audience feel as if they are traveling onto the stage and become one with the spectacular scenery. This revolutionary backdrop brings the beauty and spirit of Ukraine to life. A celebration of Ukrainian culture and resilience\, where each leap\, spin\, and lift symbolize the indomitable spirit of a nation.    \n\n\n\nThe tour also serves a greater purpose: supporting the war-torn nation of Ukraine as it courageously faces the ongoing Russian invasion. Portions of the proceeds from the tour—from ticket purchases\, merchandise\, and individual donations—will benefit HUMANITE\, an organization dedicated to restoring and improving the lives of Ukrainian families affected by the war.    \n\n\n\nRegister now for a night of passion\, hope\, and the tireless spirit of Ukraine as the National Ballet of Ukraine and Shumka Dancers bring their extraordinary talent and heart to the stage. Let their artistry lift your spirit\, inspire your soul\, and remind you of the power of art in the face of adversity.  \n\n\n\n\n\n\nRegister
URL:https://www.globalatlanta.com/event/the-national-ballet-of-ukraine/
LOCATION:Cobb Energy Performing Arts Centre\, 2800 Cobb Galleria Pkwy\, Atlanta\, GA\, 30339\, United States
CATEGORIES:Art & History,Culture,Dance,Entertainment,Europe,Music,Ukraine
ATTACH;FMTTYPE=image/png:https://www.globalatlanta.com/wp-content/uploads/The-National-Ballet-of-Ukraine-logo.png
GEO:33.8846554;-84.4591061
X-APPLE-STRUCTURED-LOCATION;VALUE=URI;X-ADDRESS=Cobb Energy Performing Arts Centre 2800 Cobb Galleria Pkwy Atlanta GA 30339 United States;X-APPLE-RADIUS=500;X-TITLE=2800 Cobb Galleria Pkwy:geo:-84.4591061,33.8846554
END:VEVENT
BEGIN:VEVENT
DTSTART;TZID=America/New_York:20250329T170000
DTEND;TZID=America/New_York:20250329T183000
DTSTAMP:20260425T080414
CREATED:20250324T180636Z
LAST-MODIFIED:20250324T180812Z
UID:10040607-1743267600-1743273000@www.globalatlanta.com
SUMMARY:A Musical Journey to Cyprus: Traditional Songs of Love\, Sorrow\, and Hope
DESCRIPTION:Throughout history\, Cyprus has been variously described as ‘the island of love’\, ‘the birthplace of Aphrodite’\, ‘the blessed isle’\, ‘the land of lemon and olive trees’\, among many other things. But in the past half century\, Cyprus has also been known as a land of pain and sorrow; an island of division and loss.  \n\n\n\nOn this ‘Musical Journey to Cyprus\,’ Nicoletta Demetriou (voice)\, Nikitas Tampakis (viola)\, Roger Mgrdichian (oud)\, and Panayotis League (laouto and perscussion) explore this varied identity\, as expressed through the island’s music and song.  \n\n\n\nJoin these accomplished musicians on an imaginary journey to Cyprus\, as they sing about the joys and intricacies of love\, the pain and sorrow of loss\, and the hope for better days to come. \n\n\n\nThis program is free and open to the public. Registration is required.  \n\n\n\n\n\n\nRegister
URL:https://www.globalatlanta.com/event/a-musical-journey-to-cyprus-traditional-songs-of-love-sorrow-and-hope/
LOCATION:Ackerman Hall – Michael C. Carlos Museum\, 571 South Kilgo Cir NE\, Atlanta\, GA\, 30322\, United States
CATEGORIES:Art & History,Arts & Humanities,Concert,Entertainment,Music
ATTACH;FMTTYPE=image/png:https://www.globalatlanta.com/wp-content/uploads/Emory-Museum-Logo.png
GEO:33.7903529;-84.3243218
X-APPLE-STRUCTURED-LOCATION;VALUE=URI;X-ADDRESS=Ackerman Hall – Michael C. Carlos Museum 571 South Kilgo Cir NE Atlanta GA 30322 United States;X-APPLE-RADIUS=500;X-TITLE=571 South Kilgo Cir NE:geo:-84.3243218,33.7903529
END:VEVENT
BEGIN:VEVENT
DTSTART;TZID=America/New_York:20250510T160000
DTEND;TZID=America/New_York:20250510T190000
DTSTAMP:20260425T080414
CREATED:20250509T145856Z
LAST-MODIFIED:20250509T145902Z
UID:10040667-1746892800-1746903600@www.globalatlanta.com
SUMMARY:Edgewood Art Walk
DESCRIPTION:This Saturday\, May 10\, from 4 – 7 PM\, the newly established Edgewood Arts District will host its inaugural Edgewood Art Walk\, a shared effort among organizations demonstrating the spirit of openness and collaboration in our growing creative community. Works by Atlanta artist\, Christie Harwell\, and Senegalese artists Laye Thioune and Audrey d’Erneville will be featured.  \n\n\n\nArt Walk visitors are invited to explore local commercial and non-profit galleries and cultural hubs while enjoying local food and unique programs throughout the district. This event is free and open to the public. \n\n\n\nThe Edgewood Arts District aims to become a permanent fixture in the Atlanta arts community\, with additional regularly scheduled Art Walks to be announced. \n\n\n\nEdgewood Art Walk Partners include aKAZ!Atl\, Atlanta Center for Photography\, Atlanta Influences Everything\, Ernie’s in the Cut\, Fred Martin Welding Co.\, Haugabrooks Gallery\, One Contemporary\, The Sun ATL\, and whitespace.  \n\n\n\n\n\n\nRegister\n\n\n\n\n\n\n\nGoogle Map
URL:https://www.globalatlanta.com/event/edgewood-art-walk/
LOCATION:GA
CATEGORIES:Art,Art & History,Arts & Humanities,Culture,Senegal
ATTACH;FMTTYPE=image/jpeg:https://www.globalatlanta.com/wp-content/uploads/Edgewood-Arts-.jpg
END:VEVENT
BEGIN:VEVENT
DTSTART;TZID=America/New_York:20250518T120000
DTEND;TZID=America/New_York:20250518T180000
DTSTAMP:20260425T080414
CREATED:20250428T162228Z
LAST-MODIFIED:20250428T162451Z
UID:10040650-1747569600-1747591200@www.globalatlanta.com
SUMMARY:The German Cultural Center Presents: Frühlingsfest
DESCRIPTION:The German term “Frühlingsfest” translates to “spring festival.” This annual family-friendly celebration marks the end of winter and welcomes the renewal of spring. Frühlingsfests are popular traditions throughout Germany and other German-speaking countries\, attracting over one million visitors annually. These vibrant community gatherings serve to strengthen social bonds after the isolation of winter through shared celebration. \n\n\n\nThis family-friendly experience offers:  \n\n\n\n\nExhibitions by 40 exceptional local artists\n\n\n\nAuthentic German and European beer\, wine\, and cuisine in our Biergarten and beer tent\n\n\n\nLive DJ sets and musical performances throughout the day\n\n\n\nHourly cultural exhibitions in the “Goethe-Haus” tent\n\n\n\n\n\n\n\nRegister
URL:https://www.globalatlanta.com/event/the-german-cultural-center-presents-fruhlingsfest/
LOCATION:Westside Provisions District\, 1198 Howell Mill Rd\, Atlanta\, GA\, 30318
CATEGORIES:Art,Art & History,Culture,Festival,Germany,Music
ATTACH;FMTTYPE=image/jpeg:https://www.globalatlanta.com/wp-content/uploads/German-Cultural-Center.jpg
END:VEVENT
BEGIN:VEVENT
DTSTART;TZID=America/New_York:20250712T160000
DTEND;TZID=America/New_York:20250712T190000
DTSTAMP:20260425T080414
CREATED:20250604T205247Z
LAST-MODIFIED:20250604T205252Z
UID:10040691-1752336000-1752346800@www.globalatlanta.com
SUMMARY:Steffen Thomas Museum of Art Founder's Day Celebration
DESCRIPTION:The Steffen Thomas Museum of Art Founder’s Day Celebration will honor the museum’s founder Sara Douglass Thomas on Saturday\, June 12th.  \n\n\n\nHighlights Include: \n\n\n\n\nThe Charlie Bonner Award for Advancing Art Education to be awarded posthumously to Richard Olsen\, Professor of Art Emeritus\,UGA\n\n\n\nDinner: Buffet with a hint of Germany \n\n\n\nRaffle and Silent auction items\n\n\n\nPresentation and Exhibit preview: Germany: The Screening of Steffen Thomas: Rock and Chisel in Bavaria and new exhibit preview \n\n\n\n\n\n\n\nGet Tickets\n\n\n\n\n\n\n\nDownload Flyer
URL:https://www.globalatlanta.com/event/steffen-thomas-museum-of-art-founders-day-celebration/
LOCATION:Steffen Thomas Museum of Art\, 4200 Bethany Road\, Buckhead\, Georgia\, 30625
CATEGORIES:Art,Art & History,Arts & Humanities,Germany
ATTACH;FMTTYPE=image/jpeg:https://www.globalatlanta.com/wp-content/uploads/SteffenThomasMuseum.jpg
END:VEVENT
BEGIN:VEVENT
DTSTART;TZID=America/New_York:20250813T180000
DTEND;TZID=America/New_York:20250813T200000
DTSTAMP:20260425T080414
CREATED:20250808T183517Z
LAST-MODIFIED:20250808T183533Z
UID:10040761-1755108000-1755115200@www.globalatlanta.com
SUMMARY:Business X Design: Xocolatl Small Batch Chocolate
DESCRIPTION:Join the Museum of Design Atlanta for a rich and eye-opening evening with Elaine Read and Matt Weynadt\, founders of Xocolatl Small Batch Chocolate—Atlanta’s pioneering craft chocolate company devoted to transparency\, sustainability\, and the power of good design. The conversation will be facilitated by Gene Kansas. \n\n\n\nIn this edition of Business x Design\, they’ll delve into Xocolatl’s origin story—from Elaine and her husband Matt’s eye-opening travels through Central America to the birth of their bean-to-bar company in Krog Street Market. They will explore how they built a purpose-driven brand that prioritizes ethical sourcing\, ecological stewardship\, and community education\, all while creating some of the most delicious dark chocolate in the country. \n\n\n\nDiscover how design has shaped every part of their journey—from packaging that tells a story to factory tours that invite transparency\, from flavor development rooted in terroir to the ethics behind every supply chain decision. \n\n\n\nWhether you’re passionate about chocolate\, sustainability\, or thoughtful entrepreneurship\, this conversation will stir your imagination and your appetite. \n\n\n\nCome for the vision. Stay for the chocolate. \n\n\n\n\n\n\nRegister
URL:https://www.globalatlanta.com/event/business-x-design-xocolatl-small-batch-chocolate/
LOCATION:Museum of Design Atlanta\, 1315 Peachtree St NE\, Atlanta\, GA\, 30309\, United States
CATEGORIES:Art,Art & History,Business,Design,Food,Sustainability
ATTACH;FMTTYPE=image/png:https://www.globalatlanta.com/wp-content/uploads/Event-Calendar-Logos-12-1.png
GEO:33.7907311;-84.3845536
X-APPLE-STRUCTURED-LOCATION;VALUE=URI;X-ADDRESS=Museum of Design Atlanta 1315 Peachtree St NE Atlanta GA 30309 United States;X-APPLE-RADIUS=500;X-TITLE=1315 Peachtree St NE:geo:-84.3845536,33.7907311
END:VEVENT
BEGIN:VEVENT
DTSTART;TZID=America/New_York:20260209T111500
DTEND;TZID=America/New_York:20260209T120500
DTSTAMP:20260425T080414
CREATED:20260205T202959Z
LAST-MODIFIED:20260206T164105Z
UID:10041024-1770635700-1770638700@www.globalatlanta.com
SUMMARY:What Was So Great About 18th Century Scotland?
DESCRIPTION:It’s widely agreed that the center of philosophy in the United Kingdom\, during the Enlightenment\, was Scotland rather than England. This lecture will explain why\, focusing on the work of Frances Hutcheson\, David Hume\, and Adam Smith\, and on the importance of sociability and of emotion in their work.  \n\n\n\n\n\n\nMore information
URL:https://www.globalatlanta.com/event/what-was-so-great-about-18th-century-scotland/
LOCATION:Convocation Center\, 590 Cobb Ave\, Kennesaw\, Georgia\, 30144
CATEGORIES:Art & History,Arts & Books,Arts & Humanities,Lecture,United Kingdom
ATTACH;FMTTYPE=image/jpeg:https://www.globalatlanta.com/wp-content/uploads/Event-Calendar-Logos-29.jpg
END:VEVENT
BEGIN:VEVENT
DTSTART;TZID=America/New_York:20260224T140000
DTEND;TZID=America/New_York:20260224T150000
DTSTAMP:20260425T080414
CREATED:20260205T210704Z
LAST-MODIFIED:20260206T165707Z
UID:10041030-1771941600-1771945200@www.globalatlanta.com
SUMMARY:Transatlantic Design at Kennesaw State
DESCRIPTION:Dr. Danielle S. Willkens\, Associate Professor of Architecture at Georgia Tech\, shares insights from her book\, The Transatlantic Design Network: Thomas Jefferson\, John Soane\, and Agents of Architectural Exchange. \n\n\n\n\n\n\nMore information
URL:https://www.globalatlanta.com/event/transatlantic-design-at-kennesaw-state/
LOCATION:Student Center Ballrooms\, 860 Rossbacher Wy Building A\, Ste 230\, Marietta\, Georgia\, 30060
CATEGORIES:Art,Art & History,Arts & Humanities,United Kingdom
ATTACH;FMTTYPE=image/jpeg:https://www.globalatlanta.com/wp-content/uploads/Event-Calendar-Logos-29.jpg
END:VEVENT
BEGIN:VEVENT
DTSTART;TZID=America/New_York:20260508T200000
DTEND;TZID=America/New_York:20260510T140000
DTSTAMP:20260425T080414
CREATED:20260408T155825Z
LAST-MODIFIED:20260408T155827Z
UID:10041180-1778270400-1778421600@www.globalatlanta.com
SUMMARY:Frida Comes to Life: Atlanta Ballet Brings Iconic Artist's Story to the Stage
DESCRIPTION:Atlanta Ballet presents Frida\, a visually striking and emotionally rich ballet that explores the life\, art\, and legacy of Mexican painter Frida Kahlo. Choreographed by Annabelle Lopez Ochoa\, the production blends expressive movement with imagery inspired by Kahlo’s work\, offering a powerful portrait of one of the 20th century’s most influential artists. \n\n\n\nPerformed with a live score by the Atlanta Ballet Orchestra\, the production immerses audiences in Kahlo’s world\, weaving together themes of identity\, resilience\, and creativity. Through dynamic choreography and theatrical storytelling\, the ballet reimagines her paintings\, dreams\, and personal struggles on stage\, creating a compelling experience that bridges art\, culture\, and performance.  \n\n\n\n\n\n\nMore Information\n\n\n\n\n\n\n\nDownload Flyer
URL:https://www.globalatlanta.com/event/frida-comes-to-life-atlanta-ballet-brings-iconic-artists-story-to-the-stage/
LOCATION:Cobb Energy Performing Arts Centre\, 2800 Cobb Galleria Pkwy\, Atlanta\, GA\, 30339\, United States
CATEGORIES:Art,Art & History,Arts & Humanities,Culture,Dance,Latin America,Mexico
ATTACH;FMTTYPE=image/png:https://www.globalatlanta.com/wp-content/uploads/Atlanta-Ballet-Logo-1-edited.png
GEO:33.8846554;-84.4591061
X-APPLE-STRUCTURED-LOCATION;VALUE=URI;X-ADDRESS=Cobb Energy Performing Arts Centre 2800 Cobb Galleria Pkwy Atlanta GA 30339 United States;X-APPLE-RADIUS=500;X-TITLE=2800 Cobb Galleria Pkwy:geo:-84.4591061,33.8846554
END:VEVENT
END:VCALENDAR