BEGIN:VCALENDAR
VERSION:2.0
PRODID:-//Global Atlanta - ECPv6.15.20//NONSGML v1.0//EN
CALSCALE:GREGORIAN
METHOD:PUBLISH
X-ORIGINAL-URL:https://www.globalatlanta.com
X-WR-CALDESC:Events for Global Atlanta
REFRESH-INTERVAL;VALUE=DURATION:PT1H
X-Robots-Tag:noindex
X-PUBLISHED-TTL:PT1H
BEGIN:VTIMEZONE
TZID:America/New_York
BEGIN:DAYLIGHT
TZOFFSETFROM:-0500
TZOFFSETTO:-0400
TZNAME:EDT
DTSTART:20200308T070000
END:DAYLIGHT
BEGIN:STANDARD
TZOFFSETFROM:-0400
TZOFFSETTO:-0500
TZNAME:EST
DTSTART:20201101T060000
END:STANDARD
BEGIN:DAYLIGHT
TZOFFSETFROM:-0500
TZOFFSETTO:-0400
TZNAME:EDT
DTSTART:20210314T070000
END:DAYLIGHT
BEGIN:STANDARD
TZOFFSETFROM:-0400
TZOFFSETTO:-0500
TZNAME:EST
DTSTART:20211107T060000
END:STANDARD
BEGIN:DAYLIGHT
TZOFFSETFROM:-0500
TZOFFSETTO:-0400
TZNAME:EDT
DTSTART:20220313T070000
END:DAYLIGHT
BEGIN:STANDARD
TZOFFSETFROM:-0400
TZOFFSETTO:-0500
TZNAME:EST
DTSTART:20221106T060000
END:STANDARD
END:VTIMEZONE
BEGIN:VEVENT
DTSTART;TZID=America/New_York:20210626T130000
DTEND;TZID=America/New_York:20210626T160000
DTSTAMP:20260424T012419
CREATED:20210609T183144Z
LAST-MODIFIED:20210609T183144Z
UID:10039439-1624712400-1624723200@www.globalatlanta.com
SUMMARY:African Union Ambassador to Keynote BFA Warehouse Grand Opening
DESCRIPTION:Books For Africa’s Georgia Warehouse Party is June 26th! \nJoin Books For Africa during the grand opening of Books For Africa’s new warehouse on June 26th! \nIn addition to refreshments and music by the BFA Warehouse Band\, the event will feature keynote speaker Her Excellency Hilda Suka-Mafudze\, the African Union’s Ambassador to the U.S.\, along with remarks by BFA Founder Tom Warth\, BFA Board President Joni Sussman\, and other dignitaries. \nThey look forward to seeing you there! \nAbout Books For Africa\nBooks For Africa was founded upon a singular mission: to end the book famine in Africa. BFA collects\, sorts\, and ships books\, computers\, tablets\, and library enhancement materials to every country in Africa. In collaboration with worldwide donors\, publishers\, and African partners\, we provide the tools of empowerment to children and students across Africa. Our vision is an Africa rich in readers- in classrooms\, during leisure time in libraries\, and throughout university and prosperous careers. We supply varied\, relevant books in English\, French\, and national languages\, computers and tablets with digital content\, specialty post-secondary materials\, and supplies to create vibrant learning spaces. \nBooks For Africa remains the largest shipper of donated text and library books to the African continent\, shipping over 51 million books and serving all 55 countries on the African continent since 1988.  Last year alone\, Books For Africa shipped 3.7 million books valued at over $38 million\, and 167 computers and e-readers containing nearly 300\,000 digital books\, to 20 African countries. More than $3.2 million was raised last year to ship these books to the students of Africa.
URL:https://www.globalatlanta.com/event/african-union-ambassador-to-keynote-bfa-warehouse-grand-opening/
LOCATION:Books For Africa – Atlanta\, 1491 Cobb Industrial Drive\, Bldg B\, Marietta\, GA\, 30066\, United States
CATEGORIES:Arts & Books
ATTACH;FMTTYPE=image/jpeg:https://www.globalatlanta.com/wp-content/uploads/unnamed-142.jpg
GEO:33.983317;-84.534242
X-APPLE-STRUCTURED-LOCATION;VALUE=URI;X-ADDRESS=Books For Africa – Atlanta 1491 Cobb Industrial Drive Bldg B Marietta GA 30066 United States;X-APPLE-RADIUS=500;X-TITLE=1491 Cobb Industrial Drive\, Bldg B:geo:-84.534242,33.983317
END:VEVENT
END:VCALENDAR