BEGIN:VCALENDAR
VERSION:2.0
PRODID:-//Global Atlanta - ECPv6.15.20//NONSGML v1.0//EN
CALSCALE:GREGORIAN
METHOD:PUBLISH
X-ORIGINAL-URL:https://www.globalatlanta.com
X-WR-CALDESC:Events for Global Atlanta
REFRESH-INTERVAL;VALUE=DURATION:PT1H
X-Robots-Tag:noindex
X-PUBLISHED-TTL:PT1H
BEGIN:VTIMEZONE
TZID:America/New_York
BEGIN:DAYLIGHT
TZOFFSETFROM:-0500
TZOFFSETTO:-0400
TZNAME:EDT
DTSTART:20210314T070000
END:DAYLIGHT
BEGIN:STANDARD
TZOFFSETFROM:-0400
TZOFFSETTO:-0500
TZNAME:EST
DTSTART:20211107T060000
END:STANDARD
BEGIN:DAYLIGHT
TZOFFSETFROM:-0500
TZOFFSETTO:-0400
TZNAME:EDT
DTSTART:20220313T070000
END:DAYLIGHT
BEGIN:STANDARD
TZOFFSETFROM:-0400
TZOFFSETTO:-0500
TZNAME:EST
DTSTART:20221106T060000
END:STANDARD
BEGIN:DAYLIGHT
TZOFFSETFROM:-0500
TZOFFSETTO:-0400
TZNAME:EDT
DTSTART:20230312T070000
END:DAYLIGHT
BEGIN:STANDARD
TZOFFSETFROM:-0400
TZOFFSETTO:-0500
TZNAME:EST
DTSTART:20231105T060000
END:STANDARD
END:VTIMEZONE
BEGIN:VEVENT
DTSTART;TZID=America/New_York:20220120T000000
DTEND;TZID=America/New_York:20220219T235959
DTSTAMP:20260419T190746
CREATED:20220112T185704Z
LAST-MODIFIED:20220112T185704Z
UID:10038212-1642636800-1645315199@www.globalatlanta.com
SUMMARY:Spruill Center For The Arts Presents Homecoming By Ilona Cutts
DESCRIPTION:Finnish-born artist\, Ilona Cutts exhibits her new series of paintings\, HOMECOMING. Having spent much of her life as a nomad\, moving from country to country\, Cutts has been searching for Home most of her life. She has the eye of a wanderer\, like a plant without roots. It is this rootlessness that has formed her artistic style where a myriad of cultures can be seen in her fantastical figures and dreamlike landscapes. After recently becoming a US Citizen\, Cutts has begun to put down roots and discover the elusive feeling of Home. In her new body of work\, HOMECOMING\, Cutts explores this idea of Home and what it means to her and others. \nOPENING RECEPTION: Thursday\, January 20\, 6-9 pm\nARTIST TALK: Saturday\, February 5\, 2 pm \nAbout the Artist\nIlona Cutts \nIlona Cutts (born Sampovaara) studied Fine Arts at Central Saint Martin’s College of Art and Design. In 1995 she received her BFA in painting from Kankaanpää Art College\, in Finland. Ilona’s paintings have been exhibited internationally in numerous solo and group Shows. She has exhibited in Finland\, Mexico\, the USA\, France and Spain. Her work can be found in important collections such as the Oulu Museum of Modern Art in Oulu\, Finland. Her latest group show in Finland was at SINKKA\, Contemporary Art Museum of Kerava in Finland\, and participated in 2 group shows at Stone Sparrow Gallery in New York City in 2020. \nBorn to a diplomatic family\, her family continuously moved from country to country since her birth in 1972. She lived in Argentina\, Poland\, the U.K\, Mexico and Spain. She spent 21yrs in Mexico which deeply impacted her being and the art she makes. \nAs her family was continually moving from country to country as a child\, Ilona often felt alone as she had to say goodbye to her friends. So as not to feel lonely she began drawing at a very early age and found solice in the creatures she painted. \nIlona and her Mother have a very special bond. Her Mother collected Art and antiques and encouraged Ilona to see beauty all around observing nature and animals. Surrounded by art and antiques Ilona had the chance to observe and study art in many forms. Her Mother crossed over to the Other Side in 2016\, their special bond continues. \nIlona’s paintings center on anthropomorphic creatures or girl like figures\, surrounded by nature or objects of obscure symbolic and ethereal meaning. Her narrative storytelling is both cute and cruel\, at times disclosing her own personal views on the delicate relationship between man and spirit nature. \nCurrently Ilona is working on a new body of work for upcoming exhibitions\, she also teaches oil painting and mentors other artists who are interested in pursuing a career in painting. \nIlona moved to the US in 2016. She and her husband John\, their Shar-Pei\, Liisa Lightray and their cat\, Frida Katlo all live in Atlanta in a romantic white house. \nDaily Parking\nThe parking entrance is located on Meadow Lane. Turn right after entering the complex. Marked parking spots are located on the right\, near the gallery’s garden. Spaces on the left are first come first serve. Overflow parking is available on terraced levels below the gallery. \nContact gallery@spruillarts.org with inquiries.
URL:https://www.globalatlanta.com/event/spruill-center-for-the-arts-presents-homecoming-by-ilona-cutts/
LOCATION:Spruill Center\, 4681 Ashford Dunwoody Road\, Atlanta\, GA\, 30338\, United States
CATEGORIES:Arts & Books
ATTACH;FMTTYPE=image/png:https://www.globalatlanta.com/wp-content/uploads/spruill-center-logo.png
ORGANIZER;CN="Spruill Center For The Arts":MAILTO:gallery@spruillarts.org
GEO:33.9312851;-84.3370394
X-APPLE-STRUCTURED-LOCATION;VALUE=URI;X-ADDRESS=Spruill Center 4681 Ashford Dunwoody Road Atlanta GA 30338 United States;X-APPLE-RADIUS=500;X-TITLE=4681 Ashford Dunwoody Road:geo:-84.3370394,33.9312851
END:VEVENT
BEGIN:VEVENT
DTSTART;TZID=America/New_York:20220131T084302
DTEND;TZID=America/New_York:20220131T084302
DTSTAMP:20260419T190746
CREATED:20171108T181134Z
LAST-MODIFIED:20171108T181134Z
UID:10036579-1643618582-1643618582@www.globalatlanta.com
SUMMARY:The Ramayana in Art
DESCRIPTION:In the 17th and 18th centuries\, artists produced gloriously illustrated Ramayanas for both Hindu and Muslim rulers. In a lecture titled Beyond Hindu and Muslim: The Courtly Ramayanas of North India\, Debra Diamond\, curator of South and Southeast Asian art at the Freer Gallery of Art and Arthur M. Sackler Gallery\, compares four illustrated Ramayanas and explores the diverse meanings of the epic during this period. She will consider how Sanskrit\, Persian\, and Hindi Ramayana manuscripts variously inflected the epic narrative\, and what they reveal about the mechanisms though which a shared Indo-Islamic elite culture was forged. \nThis lecture will be held in Ackerman Hall on Level Three of the Carlos Museum. It is free and open to the Emory community and the public
URL:https://www.globalatlanta.com/event/the-ramayana-in-art/
LOCATION:Georgia
CATEGORIES:Arts & Books,Culture
END:VEVENT
END:VCALENDAR