BEGIN:VCALENDAR
VERSION:2.0
PRODID:-//Global Atlanta - ECPv6.15.20//NONSGML v1.0//EN
CALSCALE:GREGORIAN
METHOD:PUBLISH
X-ORIGINAL-URL:https://www.globalatlanta.com
X-WR-CALDESC:Events for Global Atlanta
REFRESH-INTERVAL;VALUE=DURATION:PT1H
X-Robots-Tag:noindex
X-PUBLISHED-TTL:PT1H
BEGIN:VTIMEZONE
TZID:America/New_York
BEGIN:DAYLIGHT
TZOFFSETFROM:-0500
TZOFFSETTO:-0400
TZNAME:EDT
DTSTART:20240310T070000
END:DAYLIGHT
BEGIN:STANDARD
TZOFFSETFROM:-0400
TZOFFSETTO:-0500
TZNAME:EST
DTSTART:20241103T060000
END:STANDARD
BEGIN:DAYLIGHT
TZOFFSETFROM:-0500
TZOFFSETTO:-0400
TZNAME:EDT
DTSTART:20250309T070000
END:DAYLIGHT
BEGIN:STANDARD
TZOFFSETFROM:-0400
TZOFFSETTO:-0500
TZNAME:EST
DTSTART:20251102T060000
END:STANDARD
BEGIN:DAYLIGHT
TZOFFSETFROM:-0500
TZOFFSETTO:-0400
TZNAME:EDT
DTSTART:20260308T070000
END:DAYLIGHT
BEGIN:STANDARD
TZOFFSETFROM:-0400
TZOFFSETTO:-0500
TZNAME:EST
DTSTART:20261101T060000
END:STANDARD
END:VTIMEZONE
BEGIN:VEVENT
DTSTART;TZID=America/New_York:20250712T160000
DTEND;TZID=America/New_York:20250712T190000
DTSTAMP:20260419T153116
CREATED:20250604T205247Z
LAST-MODIFIED:20250604T205252Z
UID:10040691-1752336000-1752346800@www.globalatlanta.com
SUMMARY:Steffen Thomas Museum of Art Founder's Day Celebration
DESCRIPTION:The Steffen Thomas Museum of Art Founder’s Day Celebration will honor the museum’s founder Sara Douglass Thomas on Saturday\, June 12th.  \n\n\n\nHighlights Include: \n\n\n\n\nThe Charlie Bonner Award for Advancing Art Education to be awarded posthumously to Richard Olsen\, Professor of Art Emeritus\,UGA\n\n\n\nDinner: Buffet with a hint of Germany \n\n\n\nRaffle and Silent auction items\n\n\n\nPresentation and Exhibit preview: Germany: The Screening of Steffen Thomas: Rock and Chisel in Bavaria and new exhibit preview \n\n\n\n\n\n\n\nGet Tickets\n\n\n\n\n\n\n\nDownload Flyer
URL:https://www.globalatlanta.com/event/steffen-thomas-museum-of-art-founders-day-celebration/
LOCATION:Steffen Thomas Museum of Art\, 4200 Bethany Road\, Buckhead\, Georgia\, 30625
CATEGORIES:Art,Art & History,Arts & Humanities,Germany
ATTACH;FMTTYPE=image/jpeg:https://www.globalatlanta.com/wp-content/uploads/SteffenThomasMuseum.jpg
END:VEVENT
END:VCALENDAR