BEGIN:VCALENDAR
VERSION:2.0
PRODID:-//Global Atlanta - ECPv6.15.20//NONSGML v1.0//EN
CALSCALE:GREGORIAN
METHOD:PUBLISH
X-ORIGINAL-URL:https://www.globalatlanta.com
X-WR-CALDESC:Events for Global Atlanta
REFRESH-INTERVAL;VALUE=DURATION:PT1H
X-Robots-Tag:noindex
X-PUBLISHED-TTL:PT1H
BEGIN:VTIMEZONE
TZID:America/New_York
BEGIN:DAYLIGHT
TZOFFSETFROM:-0500
TZOFFSETTO:-0400
TZNAME:EDT
DTSTART:20210314T070000
END:DAYLIGHT
BEGIN:STANDARD
TZOFFSETFROM:-0400
TZOFFSETTO:-0500
TZNAME:EST
DTSTART:20211107T060000
END:STANDARD
BEGIN:DAYLIGHT
TZOFFSETFROM:-0500
TZOFFSETTO:-0400
TZNAME:EDT
DTSTART:20220313T070000
END:DAYLIGHT
BEGIN:STANDARD
TZOFFSETFROM:-0400
TZOFFSETTO:-0500
TZNAME:EST
DTSTART:20221106T060000
END:STANDARD
BEGIN:DAYLIGHT
TZOFFSETFROM:-0500
TZOFFSETTO:-0400
TZNAME:EDT
DTSTART:20230312T070000
END:DAYLIGHT
BEGIN:STANDARD
TZOFFSETFROM:-0400
TZOFFSETTO:-0500
TZNAME:EST
DTSTART:20231105T060000
END:STANDARD
END:VTIMEZONE
BEGIN:VEVENT
DTSTART;TZID=America/New_York:20220217T120000
DTEND;TZID=America/New_York:20220217T124500
DTSTAMP:20260421T132239
CREATED:20220209T161156Z
LAST-MODIFIED:20220209T161156Z
UID:10038226-1645099200-1645101900@www.globalatlanta.com
SUMMARY:Spies\, Lies and Algorithms: Author Talk With Amy Zegart
DESCRIPTION:“Today we face a critical juncture for American spy agencies\, as big as 9/11 — only most people don’t know it\,” says Amy B. Zegart\, one of the country’s leading experts on intelligence. “New dangers come from tech\, not terrorists. Emerging technologies like AI and social media are weakening the strong and empowering the weak\, fundamentally changing dynamics of international conflict. To be blunt: The U.S. is losing its intelligence advantage.”\n\nJoin the World Affairs Council of Atlanta  Thursday\, February 17 at noon ET as it hosts Amy B. Zegart — a senior fellow at the Hoover Institute\, former national security analyst (for MSNBC\, CNN\, Fox News\, and NPR)\, and professor at Stanford University. Dr. Zegart will share insights and answer questions about America’s evolving intelligence threats\, examining Chinese spying\, the lack of intelligence expertise in Congress\, cyber threats\, and more.\n\nYou can purchase her book\, “Spies\, Lies\, and Algorithms: The History and Future of American Intelligence\,” HERE.
URL:https://www.globalatlanta.com/event/spies-lies-and-algorithms-author-talk-with-amy-zegart/
LOCATION:Zoom
CATEGORIES:Author Talks,Cybersecurity,Security
ATTACH;FMTTYPE=image/png:https://www.globalatlanta.com/wp-content/uploads/WAClargestackedblue_trans1.png
ORGANIZER;CN="The World Affairs Council of Atlanta":MAILTO:info@wacatlanta.org
END:VEVENT
BEGIN:VEVENT
DTSTART;TZID=America/New_York:20220218T120000
DTEND;TZID=America/New_York:20220218T133000
DTSTAMP:20260421T132239
CREATED:20220209T160425Z
LAST-MODIFIED:20220209T160425Z
UID:10038225-1645185600-1645191000@www.globalatlanta.com
SUMMARY:Peter Martin 'China's Civilian Army: The Making of Wolf Warrior Diplomacy'
DESCRIPTION:Peter Martin joins the Atlanta Global Studies Center for a discussion on his book\, “China’s Civilian Army: The Making of Wolf Warrior Diplomacy\,” which charts China’s transformation from an isolated and impoverished communist state to a global superpower from the perspective of those on the front line: China’s diplomats.\n\nPeter Martin is Bloomberg’s defense policy and intelligence reporter in Washington\, DC and author of “China’s Civilian Army: The Making of Wolf Warrior Diplomacy.” He was previously based in Beijing where he wrote extensively on escalating tensions in the US-China relationship and reported from China’s border with North Korea and its far-western region of Xinjiang. His writing has been published by outlets including Foreign Affairs\, The Atlantic\, Foreign Policy\, the National Interest\, and the Guardian. He holds degrees from the University of Oxford\, Peking University and the London School of Economics.\n\nPeter Martin will discuss his new book with Maria Repnikova\, an expert on Chinese political communication and Assistant Professor of Global Communication at Georgia State University.
URL:https://www.globalatlanta.com/event/peter-martin-chinas-civilian-army-the-making-of-wolf-warrior-diplomacy/
LOCATION:Zoom
CATEGORIES:Author Talks
ATTACH;FMTTYPE=image/jpeg:https://www.globalatlanta.com/wp-content/uploads/atlanta-global-studies.jpg
END:VEVENT
END:VCALENDAR