BEGIN:VCALENDAR
VERSION:2.0
PRODID:-//Global Atlanta - ECPv6.15.20//NONSGML v1.0//EN
CALSCALE:GREGORIAN
METHOD:PUBLISH
X-ORIGINAL-URL:https://www.globalatlanta.com
X-WR-CALDESC:Events for Global Atlanta
REFRESH-INTERVAL;VALUE=DURATION:PT1H
X-Robots-Tag:noindex
X-PUBLISHED-TTL:PT1H
BEGIN:VTIMEZONE
TZID:America/New_York
BEGIN:DAYLIGHT
TZOFFSETFROM:-0500
TZOFFSETTO:-0400
TZNAME:EDT
DTSTART:20210314T070000
END:DAYLIGHT
BEGIN:STANDARD
TZOFFSETFROM:-0400
TZOFFSETTO:-0500
TZNAME:EST
DTSTART:20211107T060000
END:STANDARD
BEGIN:DAYLIGHT
TZOFFSETFROM:-0500
TZOFFSETTO:-0400
TZNAME:EDT
DTSTART:20220313T070000
END:DAYLIGHT
BEGIN:STANDARD
TZOFFSETFROM:-0400
TZOFFSETTO:-0500
TZNAME:EST
DTSTART:20221106T060000
END:STANDARD
BEGIN:DAYLIGHT
TZOFFSETFROM:-0500
TZOFFSETTO:-0400
TZNAME:EDT
DTSTART:20230312T070000
END:DAYLIGHT
BEGIN:STANDARD
TZOFFSETFROM:-0400
TZOFFSETTO:-0500
TZNAME:EST
DTSTART:20231105T060000
END:STANDARD
END:VTIMEZONE
BEGIN:VEVENT
DTSTART;TZID=America/New_York:20220727T190000
DTEND;TZID=America/New_York:20220727T200000
DTSTAMP:20260422T130032
CREATED:20220721T215104Z
LAST-MODIFIED:20220721T215104Z
UID:10007004-1658948400-1658952000@www.globalatlanta.com
SUMMARY:Efrén Olivares in conversation with Laura Rivera - My Boy Will Die of Sorrow
DESCRIPTION:The Jimmy Carter Presidential Library and A Cappella Books welcome author and Deputy Legal Director of the Immigrant Justice Project at Southern Poverty Law Center Efrén C. Olivares to The Carter Center for a discussion on his new book\, “My Boy Will Die of Sorrow: A Memoir of Immigration From the Front Lines” on Wednesday July 27\, 2022\, at 7 PM. The author will appear in conversation with Laura Rivera\, director of SPLC’s Southeast Immigrant Freedom Initiative (SIFI). \nThis deeply personal perspective from a human rights lawyer—whose work on the front lines of the fight against family separations in South Texas intertwines with his own story of immigrating to the United States at thirteen—reframes the United States’ history as a nation of immigrants but also a nation against immigrants. \nThis event is free and open to the public. Copies of the book will be available for purchase at the venue. Masks are optional. \n  \nAbout the Author\nEfrén C. Olivares is the Deputy Legal Director of the Immigrant Justice Project at Southern Poverty Law Center. He was the lead lawyer in a successful landmark petition to the Inter-American Commission on Human Rights on behalf of families separated under the Zero Tolerance policy. He previously directed the Racial and Economic Justice Program at the Texas Civil Rights Project. His writings on immigration policy have also been published by the New York Times\, USA Today\, and Newsweek\, and he has testified before Congress and at briefings on Capitol Hill about immigration and border policies. Part of his work representing separated families was featured in the CBS News documentary “The Faces of Family Separation\,” released in October 2019. He has also been interviewed as an expert attorney on immigrants’ rights issues on numerous TV and radio shows\, and was featured in John Legend’s “Can’t Just Preach” series. \nOlivares was the first member of his family to attend college. He is a graduate of the University of Pennsylvania and Yale Law School. \n  \nAbout the Conversation Partner\nFor the past decade\, Laura Rivera has worked in partnership with immigrant and BIPOC communities in the South to advance and defend their legal and human rights. She has contributed to the movement to end the detention of immigrants by litigating class action cases against government agencies and directing a program that provides direct representation to detained immigrants in removal proceedings\, the Southeast Immigrant Freedom Initiative of the Southern Poverty Law Center. She has also represented farmworkers in wage theft and trafficking cases as part of the Farmworker Division of the Georgia Legal Services Program.  Laura is committed to practicing community lawyering\, centering directly impacted people in her work\, and building coalitions. Previously\, Laura worked as a journalist in New York and Puerto Rico. Laura is a proud native of Puerto Rico and is fluent in Spanish. She lives in Decatur with her wife and dogs and enjoys spending time with her family\, hiking\, and cooking.
URL:https://www.globalatlanta.com/event/efren-olivares-in-conversation-with-laura-rivera-my-boy-will-die-of-sorrow/
LOCATION:Georgia
CATEGORIES:Arts & Books,Author Talks
ATTACH;FMTTYPE=image/png:https://www.globalatlanta.com/wp-content/uploads/Official_logo_of_the_Jimmy_Carter_Presidential_Library.svg_.png
END:VEVENT
END:VCALENDAR