BEGIN:VCALENDAR
VERSION:2.0
PRODID:-//Global Atlanta - ECPv6.15.20//NONSGML v1.0//EN
CALSCALE:GREGORIAN
METHOD:PUBLISH
X-ORIGINAL-URL:https://www.globalatlanta.com
X-WR-CALDESC:Events for Global Atlanta
REFRESH-INTERVAL;VALUE=DURATION:PT1H
X-Robots-Tag:noindex
X-PUBLISHED-TTL:PT1H
BEGIN:VTIMEZONE
TZID:America/New_York
BEGIN:DAYLIGHT
TZOFFSETFROM:-0500
TZOFFSETTO:-0400
TZNAME:EDT
DTSTART:20240310T070000
END:DAYLIGHT
BEGIN:STANDARD
TZOFFSETFROM:-0400
TZOFFSETTO:-0500
TZNAME:EST
DTSTART:20241103T060000
END:STANDARD
BEGIN:DAYLIGHT
TZOFFSETFROM:-0500
TZOFFSETTO:-0400
TZNAME:EDT
DTSTART:20250309T070000
END:DAYLIGHT
BEGIN:STANDARD
TZOFFSETFROM:-0400
TZOFFSETTO:-0500
TZNAME:EST
DTSTART:20251102T060000
END:STANDARD
BEGIN:DAYLIGHT
TZOFFSETFROM:-0500
TZOFFSETTO:-0400
TZNAME:EDT
DTSTART:20260308T070000
END:DAYLIGHT
BEGIN:STANDARD
TZOFFSETFROM:-0400
TZOFFSETTO:-0500
TZNAME:EST
DTSTART:20261101T060000
END:STANDARD
END:VTIMEZONE
BEGIN:VEVENT
DTSTART;TZID=America/New_York:20250329T180000
DTEND;TZID=America/New_York:20250329T230000
DTSTAMP:20260425T232653
CREATED:20250310T164609Z
LAST-MODIFIED:20250318T182647Z
UID:10040585-1743271200-1743289200@www.globalatlanta.com
SUMMARY:Villa Albertine - Night of Ideas
DESCRIPTION:This year\, Night of Ideas Atlanta explores the literal and metaphorical meanings of this year’s theme “Common Ground\,” questioning how we live in cities and embrace the diversity of worlds. The evening includes an impressive lineup of 25+ speakers and artists\, including:  \n\n\n\n\nMusicians & sound artists like Stefan Ringer\, T.I.E\, Marquinn Mason\, as well as 2CUBES by Henrik von Coler & Hyunkyung Shin\n\n\n\nAcclaimed WABE journalist Rose Scott \n\n\n\nCurators TK Smith\, Pierre Singaravélou & Miranda Kyle\n\n\n\nVisual artists like Gyun Hur & Nicole Kang Ahn\n\n\n\nAI experts Gil Weinberg\, Ben Miller and others from the Atlanta Interdisciplinary AI Network \n\n\n\nCultural institution leaders Alban Corbier-Labasse & Miya Bailey\n\n\n\nWriters and researchers such as Walid Hajar Rachedi\, Mame-Fatou Niang & Illya Davis \n\n\n\nNonprofit and business leaders such as Jacqui Chew\, Gigi Pedraza\, Saba Long & Anne Archer Dennington\n\n\n\n\nLearn more about the People of Night of Ideas 2025. \n\n\n\nNight of Ideas Atlanta is presented by Villa Albertine and the Goat Farm\, in partnership with WABE\, with support from the City of Atlanta Mayor’s Office of Cultural Affairs\, and in collaboration with ASHA Advisory.  \n\n\n\nThis event is free and open to the public. Registration is required. \n\n\n\nPaid parking on site. Rideshare encouraged. \n\n\n\nSee the schedule>> \n\n\n\n\n\n\nMore Info & Register
URL:https://www.globalatlanta.com/event/villa-albertine-night-of-ideas/
LOCATION:The Goat Farm\, 1200 Foster St NW\, Atlanta\, Georgia\, 30318
CATEGORIES:Author Talks,Business,Climate Change,Communities,Culture,Digitalization,Diversity and Inclusion,Education,Europe,Food,France,Global Affairs,Health,Music,Networking,Policy,Technology
ATTACH;FMTTYPE=image/jpeg:https://www.globalatlanta.com/wp-content/uploads/villa-albertine-events-logo.jpg
END:VEVENT
END:VCALENDAR