BEGIN:VCALENDAR
VERSION:2.0
PRODID:-//Global Atlanta - ECPv6.15.20//NONSGML v1.0//EN
CALSCALE:GREGORIAN
METHOD:PUBLISH
X-ORIGINAL-URL:https://www.globalatlanta.com
X-WR-CALDESC:Events for Global Atlanta
REFRESH-INTERVAL;VALUE=DURATION:PT1H
X-Robots-Tag:noindex
X-PUBLISHED-TTL:PT1H
BEGIN:VTIMEZONE
TZID:America/New_York
BEGIN:DAYLIGHT
TZOFFSETFROM:-0500
TZOFFSETTO:-0400
TZNAME:EDT
DTSTART:20240310T070000
END:DAYLIGHT
BEGIN:STANDARD
TZOFFSETFROM:-0400
TZOFFSETTO:-0500
TZNAME:EST
DTSTART:20241103T060000
END:STANDARD
BEGIN:DAYLIGHT
TZOFFSETFROM:-0500
TZOFFSETTO:-0400
TZNAME:EDT
DTSTART:20250309T070000
END:DAYLIGHT
BEGIN:STANDARD
TZOFFSETFROM:-0400
TZOFFSETTO:-0500
TZNAME:EST
DTSTART:20251102T060000
END:STANDARD
BEGIN:DAYLIGHT
TZOFFSETFROM:-0500
TZOFFSETTO:-0400
TZNAME:EDT
DTSTART:20260308T070000
END:DAYLIGHT
BEGIN:STANDARD
TZOFFSETFROM:-0400
TZOFFSETTO:-0500
TZNAME:EST
DTSTART:20261101T060000
END:STANDARD
END:VTIMEZONE
BEGIN:VEVENT
DTSTART;TZID=America/New_York:20250408T114500
DTEND;TZID=America/New_York:20250408T131500
DTSTAMP:20260423T200759
CREATED:20250322T165139Z
LAST-MODIFIED:20250322T165143Z
UID:10040604-1744112700-1744118100@www.globalatlanta.com
SUMMARY:Consular Corps Day: How Atlanta Connects to the Global Community
DESCRIPTION:2025 Consular Corps Luncheon \n\n\n\nSpeaker will be Trevor Williams\, Managing Editor of Global Atlanta\, with an introduction from Jennifer Richardson and invocation from Thornton Kennedy. Please visit the KCA speaker page for complete bio information! \n\n\n\nLuncheon fee is $25\, payable by cash\, check (made payable to Kiwanis Club of Atlanta)\, Zelle to @KiwanisClubAtlanta@gmail.com  or bill to member account. \n\n\n\nRegistration is Free for Regular and Corporate Members. \n\n\n\nAssociate\, Satellite\, Emeritus and Honorary Members who make a reservation by Thursday\, Noon\, prior to the luncheon\, will receive a $5 discount. In person registration will also close by  Thursday\, April 3 at Noon. \n\n\n\nParking Fee is $1.50.  Please park in the parking deck adjacent to the Loudermilk Center. If you don’t have a parking card\, bring your parking ticket inside to receive a validation. \n\n\n\n\n\n\nRegister\n\n\n\n\n\n\n\nZoom
URL:https://www.globalatlanta.com/event/consular-corps-day-how-atlanta-connects-to-the-global-community/
LOCATION:Loudermilk Conference Center\, 40 Courtland St. NE\, Atlanta\, Georgia\, 30303
CATEGORIES:Communities,Global Affairs
ATTACH;FMTTYPE=image/jpeg:https://www.globalatlanta.com/wp-content/uploads/kiwanis-atlanta.jpeg
END:VEVENT
END:VCALENDAR