BEGIN:VCALENDAR
VERSION:2.0
PRODID:-//Global Atlanta - ECPv6.15.20//NONSGML v1.0//EN
CALSCALE:GREGORIAN
METHOD:PUBLISH
X-WR-CALNAME:Global Atlanta
X-ORIGINAL-URL:https://www.globalatlanta.com
X-WR-CALDESC:Events for Global Atlanta
REFRESH-INTERVAL;VALUE=DURATION:PT1H
X-Robots-Tag:noindex
X-PUBLISHED-TTL:PT1H
BEGIN:VTIMEZONE
TZID:America/New_York
BEGIN:DAYLIGHT
TZOFFSETFROM:-0500
TZOFFSETTO:-0400
TZNAME:EDT
DTSTART:20240310T070000
END:DAYLIGHT
BEGIN:STANDARD
TZOFFSETFROM:-0400
TZOFFSETTO:-0500
TZNAME:EST
DTSTART:20241103T060000
END:STANDARD
BEGIN:DAYLIGHT
TZOFFSETFROM:-0500
TZOFFSETTO:-0400
TZNAME:EDT
DTSTART:20250309T070000
END:DAYLIGHT
BEGIN:STANDARD
TZOFFSETFROM:-0400
TZOFFSETTO:-0500
TZNAME:EST
DTSTART:20251102T060000
END:STANDARD
BEGIN:DAYLIGHT
TZOFFSETFROM:-0500
TZOFFSETTO:-0400
TZNAME:EDT
DTSTART:20260308T070000
END:DAYLIGHT
BEGIN:STANDARD
TZOFFSETFROM:-0400
TZOFFSETTO:-0500
TZNAME:EST
DTSTART:20261101T060000
END:STANDARD
END:VTIMEZONE
BEGIN:VEVENT
DTSTART;TZID=America/New_York:20250503T120000
DTEND;TZID=America/New_York:20250503T180000
DTSTAMP:20260423T213538
CREATED:20250430T175657Z
LAST-MODIFIED:20250430T175701Z
UID:10040653-1746273600-1746295200@www.globalatlanta.com
SUMMARY:Johns Creek International Festival
DESCRIPTION:The 2025 Johns Creek International Festival is a celebration of the best traditional food\, music and art from our own backyard. Johns Creek invites everyone to come dance\, eat\, drink\, and play on the field located across from the Atlanta Athletic Club\, 1930 Bobby Jones Drive. \n\n\n\n\n\n\nMore Info
URL:https://www.globalatlanta.com/event/johns-creek-international-festival-2/
LOCATION:Atlanta Athletic Club fields\, 1930 Bobby Jones Drive\, Johns Creek\, Georgia\, 30097
CATEGORIES:Art,Communities,Dance,Festival,Food,Music
ATTACH;FMTTYPE=image/png:https://www.globalatlanta.com/wp-content/uploads/Johns-creek-ga-logo-e1746035758529.png
GEO:34.0039271;-84.1919771
X-APPLE-STRUCTURED-LOCATION;VALUE=URI;X-ADDRESS=Atlanta Athletic Club fields 1930 Bobby Jones Drive Johns Creek Georgia 30097;X-APPLE-RADIUS=500;X-TITLE=1930 Bobby Jones Drive:geo:-84.1919771,34.0039271
END:VEVENT
BEGIN:VEVENT
DTSTART;TZID=America/New_York:20250503T173000
DTEND;TZID=America/New_York:20250503T220000
DTSTAMP:20260423T213538
CREATED:20250406T141355Z
LAST-MODIFIED:20250406T141906Z
UID:10040624-1746293400-1746309600@www.globalatlanta.com
SUMMARY:Feeding Hope and Fueling Growth - IRC
DESCRIPTION:Atlanta thrives on the diverse contributions of its people. On May 3rd\, the International Rescue Committee (IRC) invites you to the IRC in Atlanta’s 2nd Annual Dinner Together Gala as we come together to feed hope and fuel growth for refugee\, immigrant\, and migrant (RIM) communities. \n\n\n\nThis evening will highlight the resilience\, innovation\, and determination of individuals who are shaping Atlanta’s future—our workforce\, businesses\, and communities. Your presence and partnership are more important than ever. \n\n\n\nWhy Attend?\n\n\n\n\nHonoring Communities – Celebrate the cultural\, economic\, and social contributions of RIM communities\n\n\n\nMake an Impact – Proceeds directly support programs in education\, employment\, legal assistance\, youth mentorship\, and health services.\n\n\n\nNetwork & Collaborate – Connect with community leaders\, business executives\, and change-makers committed to fostering togetherness and economic growth\n\n\n\n\nRSVP by April 18th\, 2025 \n\n\n\n\n\n\nRegister
URL:https://www.globalatlanta.com/event/feeding-hope-and-fueling-growth-irc/
LOCATION:Atlanta International School\, 2890 N. Fulton Drive NE\, Atlanta\, GA\, 30305\, United States
CATEGORIES:Business,Communities,Economic Development,Immigration,Networking,Nonprofit
ATTACH;FMTTYPE=image/png:https://www.globalatlanta.com/wp-content/uploads/IRC-logo.png
GEO:33.8334273;-84.3797046
X-APPLE-STRUCTURED-LOCATION;VALUE=URI;X-ADDRESS=Atlanta International School 2890 N. Fulton Drive NE Atlanta GA 30305 United States;X-APPLE-RADIUS=500;X-TITLE=2890 N. Fulton Drive NE:geo:-84.3797046,33.8334273
END:VEVENT
BEGIN:VEVENT
DTSTART;TZID=America/New_York:20250510T150000
DTEND;TZID=America/New_York:20250510T190000
DTSTAMP:20260423T213538
CREATED:20250501T214445Z
LAST-MODIFIED:20250501T214450Z
UID:10040655-1746889200-1746903600@www.globalatlanta.com
SUMMARY:Mums in Bloom Brunch
DESCRIPTION:Join the United Barbadians in Georgia for an unforgettable afternoon of love\, laughter\, and elegance! \n\n\n\nThe countdown is ON and seats are filling fast for our annual Mums in Bloom Brunch — the ultimate Mother’s Day celebration for the powerful women in our lives. From delicious bites to dazzling vibes\, this is the event of the season you do NOT want to miss. \n\n\n\n NEW! Drink Specials Available Online Only! \n\n\n\nShow your table some love and pre-purchase 5 drinks for the price of 4 — exclusively online. No drink specials will be available at the door! \n\n\n\n\n\n\nRegister\n\n\n\n\n\n\n\nDownload Flyer
URL:https://www.globalatlanta.com/event/mums-in-bloom-brunch/
LOCATION:Waters Edge Drive\, Georgia\, 30087
CATEGORIES:Caribbean,Communities,Diaspora,Food,Women
ATTACH;FMTTYPE=image/jpeg:https://www.globalatlanta.com/wp-content/uploads/ubig-logo-1.jpg
END:VEVENT
BEGIN:VEVENT
DTSTART;TZID=America/New_York:20250515T083000
DTEND;TZID=America/New_York:20250515T123000
DTSTAMP:20260423T213538
CREATED:20250505T202613Z
LAST-MODIFIED:20250505T202825Z
UID:10040658-1747297800-1747312200@www.globalatlanta.com
SUMMARY:GRPA Financial Wellness Summit
DESCRIPTION:The Georgia Rotary Professional Alliance (GRPA) is proud to present its first Signature Event – the GRPA Financial Wellness Summit\, a collaborative effort with our valued AAPI Community Co-Hosts. This special event is designed to strengthen financial preparedness\, boost personal information security\, and deepen connections across the AAPI community. \n\n\n\nOpen to professionals\, community leaders\, and members of all ages\, the summit offers a practical and empowering program focused on financial wellness and digital safety—two essentials for personal and community resilience. \n\n\n\n\n\n\nRegister\n\n\n\n\n\n\n\nDownload Flyer
URL:https://www.globalatlanta.com/event/grpa-financial-wellness-summit/
LOCATION:Arrow Creek Community Room\, Chamblee Police Dept\, 4445 Buford Hwy NE\, Chamblee\, Georgia
CATEGORIES:Communities,Finance,Professional Development
ATTACH;FMTTYPE=image/jpeg:https://www.globalatlanta.com/wp-content/uploads/Event-Calendar-Logos-10.jpg
END:VEVENT
BEGIN:VEVENT
DTSTART;TZID=America/New_York:20250516T090000
DTEND;TZID=America/New_York:20250516T173000
DTSTAMP:20260423T213538
CREATED:20250417T212825Z
LAST-MODIFIED:20250417T213235Z
UID:10040635-1747386000-1747416600@www.globalatlanta.com
SUMMARY:Symposium on ASIA-USA Partnership Opportunities (SAUPO) 2025
DESCRIPTION:Organized by KSU’s Asian Studies Program\, the Symposium on ASIA-USA Partnership Opportunities (SAUPO) is the largest Asia business conference in the USA since 2011. You will be entertained with innovative ideas\, exciting discussions\, live Shamisen performance\, food & drinks\, and valuable networking with business leaders\, government officials\, community organizers and scholars from USA and ASIA. \n\n\n\nConfirmed Speakers at SAUPO 2025: \n\n\n\n\nVictor Osumi\, President-Japan\, Delta Air Lines; President\, AmCham Japan\n\n\n\nMakoto Hidai\, Manager\, Offshore Wind Power\, Shimizu Corporation\n\n\n\nMasahiro Indo\, NOVARE\, Shimizu Corporation\n\n\n\nAlex Gregory\, former President & CEO\, YKK Corporation of America\n\n\n\nKiyo Kojima\, Partner\, Smith Gambrell Russell\, President\, JCCG\n\n\n\nHiroshi Sekiya\, President\, Maintech\, Japan\n\n\n\nAsahi Iwasawa\, CEO\, HATSU Japan\n\n\n\nToru Ichikawa\, Kanda University of International Studies\, Chiba\, Japan\n\n\n\nShinji Matsuda\, Chukyo University\, Nagoya\, Japan\n\n\n\nYuumi Mochizuki\, State of Georgia – Japan\n\n\n\nGeorge Mui\, Managing Partner\, Global Consultants United\n\n\n\nJessica Cork\, VP for Global Engagement\, YKK Corporation\n\n\n\nMichael Chen\, Associate Dean\, RCHSS\, Kennesaw State University\n\n\n\nKazuhiro Chikayama\, J. F. Oberlin University\n\n\n\nSweta Sneha\, Executive Director\, MSHMI\, Kennesaw State University\n\n\n\n\nIf you cannot travel to Japan\, please enjoy SAUPO via free Zoom livestreaming  \n\n\n\n895 2918 9082 – Passcode: Saupo2025 \n\n\n\n\n\n\nRegister\n\n\n\n\n\ndownload flyer\n\n\n\n\n\n\n\nZoom Link
URL:https://www.globalatlanta.com/event/symposium-on-asia-usa-partnership-opportunities-saupo-2025/
LOCATION:The Royal Park Hotel Iconic Tokyo Shiodome\, 1 Chrome-6-3 Higashishinbashi\, Tokyo\, Japan
CATEGORIES:Asia,Business,Communities,Innovation,Japan,Networking
ATTACH;FMTTYPE=image/png:https://www.globalatlanta.com/wp-content/uploads/SAUPO-logo.png
END:VEVENT
BEGIN:VEVENT
DTSTART;TZID=America/New_York:20250529T170000
DTEND;TZID=America/New_York:20250529T190000
DTSTAMP:20260423T213538
CREATED:20250425T144053Z
LAST-MODIFIED:20250428T133122Z
UID:10040642-1748538000-1748545200@www.globalatlanta.com
SUMMARY:2025 Latino Power Hour
DESCRIPTION:Join the GALEO Latino Community Development Fund as we celebrate the power of the Latinx electorate in Georgia for a night of dancing and community.   \n\n\n\nThe Latinx electorate has become a force in Georgia\, and the Latino Power Hour gives our community a platform to uplift the power of the Latino-Hispanic voices within our state. \n\n\n\n\n\n\n\n\n\n\n\nElizabeth Silva\, Director for Leadership Development at GALEO\nElizabeth Silva\, a proud Mexican-American born and raised in Atlanta\, serves as GALEO’s Director for Leadership Development. With dual degrees in Managerial Sciences and Marketing from Georgia State University and over five years of experience in business and civic engagement\, she is passionate about empowering her community to amplify its voice. \n\n\n\n\n\n\n\n\n\n\n\n\n\n\nPaloma Valdovinos\, GALEO Institute for Leadership 2024 Cohort \nPaloma Valdovinos\, the eldest daughter of Mexican immigrants\, is a passionate and resilient first-generation Mexican-American whose Southern upbringing sparked her commitment to community service and social equity. Her work focuses on challenging systemic injustice and encouraging individuals and organizations to reflect on how their actions may contribute to inequity. \n\n\n\n\n\n\n\n\n\n\n\n\n\n\n\n\n\n\n\nRegister
URL:https://www.globalatlanta.com/event/2025-latino-power-hour/
LOCATION:Crowne Plaza- Norcross\, 6050 Peachtree Industrial Blvd.\, Norcross\, GA\, 30071
CATEGORIES:Communities,Dance,Latin America,Nonprofit,Policy,Politics
ATTACH;FMTTYPE=image/png:https://www.globalatlanta.com/wp-content/uploads/Galeo-logo.png
END:VEVENT
END:VCALENDAR