BEGIN:VCALENDAR
VERSION:2.0
PRODID:-//Global Atlanta - ECPv6.15.20//NONSGML v1.0//EN
CALSCALE:GREGORIAN
METHOD:PUBLISH
X-ORIGINAL-URL:https://www.globalatlanta.com
X-WR-CALDESC:Events for Global Atlanta
REFRESH-INTERVAL;VALUE=DURATION:PT1H
X-Robots-Tag:noindex
X-PUBLISHED-TTL:PT1H
BEGIN:VTIMEZONE
TZID:America/New_York
BEGIN:DAYLIGHT
TZOFFSETFROM:-0500
TZOFFSETTO:-0400
TZNAME:EDT
DTSTART:20240310T070000
END:DAYLIGHT
BEGIN:STANDARD
TZOFFSETFROM:-0400
TZOFFSETTO:-0500
TZNAME:EST
DTSTART:20241103T060000
END:STANDARD
BEGIN:DAYLIGHT
TZOFFSETFROM:-0500
TZOFFSETTO:-0400
TZNAME:EDT
DTSTART:20250309T070000
END:DAYLIGHT
BEGIN:STANDARD
TZOFFSETFROM:-0400
TZOFFSETTO:-0500
TZNAME:EST
DTSTART:20251102T060000
END:STANDARD
BEGIN:DAYLIGHT
TZOFFSETFROM:-0500
TZOFFSETTO:-0400
TZNAME:EDT
DTSTART:20260308T070000
END:DAYLIGHT
BEGIN:STANDARD
TZOFFSETFROM:-0400
TZOFFSETTO:-0500
TZNAME:EST
DTSTART:20261101T060000
END:STANDARD
END:VTIMEZONE
BEGIN:VEVENT
DTSTART;TZID=America/New_York:20250624T173000
DTEND;TZID=America/New_York:20250624T203000
DTSTAMP:20260423T225359
CREATED:20250604T210300Z
LAST-MODIFIED:20250604T210427Z
UID:10040692-1750786200-1750797000@www.globalatlanta.com
SUMMARY:Swedish Midsummer Networking Event 2025
DESCRIPTION:Join the Swedish-American Chambers of Commerce (SACC) for a special evening of cultural celebration and professional networking as we honor the traditions of Swedish Midsummer. Celebrated as the brightest day of the year\, Midsummer is a beloved part of Swedish heritage\, filled with joy\, community\, and festivity. SACC Georgia is proud to bring this tradition to life here\, creating a unique opportunity to connect with fellow members and grow your professional network in a vibrant\, Swedish-inspired atmosphere. \n\n\n\n\n\n\nRegister
URL:https://www.globalatlanta.com/event/swedish-midsummer-networking-event-2025/
LOCATION:Axis Communications Rooftop\, 3455 Peachtree Road\, Atlanta\, Georgia\, 30326
CATEGORIES:Communities,Festival,Networking,Sweden
ATTACH;FMTTYPE=image/jpeg:https://www.globalatlanta.com/wp-content/uploads/sacc-logo.jpg
END:VEVENT
BEGIN:VEVENT
DTSTART;TZID=America/New_York:20250625T173000
DTEND;TZID=America/New_York:20250625T193000
DTSTAMP:20260423T225359
CREATED:20250616T184320Z
LAST-MODIFIED:20250616T184324Z
UID:10040702-1750872600-1750879800@www.globalatlanta.com
SUMMARY:Partnership Gwinnett Intern Mix
DESCRIPTION:The Intern Mix in an invitation-only networking event for college aged interns in Gwinnett County. At this event\, interns will have the opportunity to meet other emerging leaders in the community while enjoying fun\, food\, games\, and drinks.  \n\n\n\nWhy Should You Send Your Interns?The partnership Gwinnett Intern Mix will introduce your interns to Gwinnett County in an out-of-the-office setting\, showcasing the high quality of life in our community. Together we can create compelling professional and social experiences that help solidify your company as an employer of choice in a community of preference for the next wave of competitive emerging talent. \n\n\n\n\n\n\nRegister\n\n\n\n\n\n\n\nDownload Flyer
URL:https://www.globalatlanta.com/event/partnership-gwinnett-intern-mix/
LOCATION:Gwinnett Chamber of Commerce Patio\, 6500 Sugarloaf Parkway\, Duluth\, Georgia\, 30097
CATEGORIES:Business,Communities,Networking,Professional Development,Youth Development
ATTACH;FMTTYPE=image/png:https://www.globalatlanta.com/wp-content/uploads/Partnership-Gwinett-logo.png
END:VEVENT
BEGIN:VEVENT
DTSTART;TZID=America/New_York:20250626T180000
DTEND;TZID=America/New_York:20250626T203000
DTSTAMP:20260423T225359
CREATED:20250624T194341Z
LAST-MODIFIED:20250624T194600Z
UID:10040717-1750960800-1750969800@www.globalatlanta.com
SUMMARY:From Arrival to Impact: Immigrant Voices Shaping Atlanta Panel
DESCRIPTION:Join The Collective for Community Empowerment and the host organizations\, the Hispanic Young Professionals & Entrepreneurs (HYPE) and the Atlanta chapter of the National Association of Asian American Professionals (NAAAP) for an Immigrant Heritage Month event on Thursday\, June 26 from 6:00-8:30 pm\, in partnership with The Mayor’s Office of International and Immigrant Affairs – Welcoming Atlanta. \n\n\n\nThis event will highlight the contributions of Atlanta’s diverse young professionals while celebrating their cultures and histories. In today’s challenging climate\, CCE’s goal is to emphasize the importance of unity and solidarity within Atlanta’s community. The evening will feature intentional networking\, community building\, and a panel discussion with local Atlanta leaders who work directly to support Atlanta’s immigrant and refugee communities. \n\n\n\nConfirmed panelists include: \n\n\n\n\nLiliana Bakhtiari\, Atlanta City Councilmember\, District 5\n\n\n\nLily Pabian\, Executive Director\, We Love Buford Highway\n\n\n\nJaime Rangel\, Regional Government Relations Director\, FWD.us\n\n\n\nOmar Rodriguez\, Tax Consultant – Global & Mobility Services\, E&Y\n\n\n\n\nLight bites and refreshments from Lao Szechaun and Kamayan ATL will be available for attendees. This is a free event\, but registration is required. \n\n\n\n\n\n\nRegister
URL:https://www.globalatlanta.com/event/from-arrival-to-impact-immigrant-voices-shaping-atlanta-panel/
LOCATION:Atlanta City Hall\, 55 Trinity Ave SW
CATEGORIES:Asia,Communities,Immigration,Latin America,Networking
ATTACH;FMTTYPE=image/jpeg:https://www.globalatlanta.com/wp-content/uploads/Event-Calendar-Logos-17.jpg
GEO:33.7483996;-84.3902601
X-APPLE-STRUCTURED-LOCATION;VALUE=URI;X-ADDRESS=Atlanta City Hall 55 Trinity Ave SW;X-APPLE-RADIUS=500;X-TITLE=55 Trinity Ave SW:geo:-84.3902601,33.7483996
END:VEVENT
END:VCALENDAR