BEGIN:VCALENDAR
VERSION:2.0
PRODID:-//Global Atlanta - ECPv6.15.20//NONSGML v1.0//EN
CALSCALE:GREGORIAN
METHOD:PUBLISH
X-ORIGINAL-URL:https://www.globalatlanta.com
X-WR-CALDESC:Events for Global Atlanta
REFRESH-INTERVAL;VALUE=DURATION:PT1H
X-Robots-Tag:noindex
X-PUBLISHED-TTL:PT1H
BEGIN:VTIMEZONE
TZID:America/New_York
BEGIN:DAYLIGHT
TZOFFSETFROM:-0500
TZOFFSETTO:-0400
TZNAME:EDT
DTSTART:20240310T070000
END:DAYLIGHT
BEGIN:STANDARD
TZOFFSETFROM:-0400
TZOFFSETTO:-0500
TZNAME:EST
DTSTART:20241103T060000
END:STANDARD
BEGIN:DAYLIGHT
TZOFFSETFROM:-0500
TZOFFSETTO:-0400
TZNAME:EDT
DTSTART:20250309T070000
END:DAYLIGHT
BEGIN:STANDARD
TZOFFSETFROM:-0400
TZOFFSETTO:-0500
TZNAME:EST
DTSTART:20251102T060000
END:STANDARD
BEGIN:DAYLIGHT
TZOFFSETFROM:-0500
TZOFFSETTO:-0400
TZNAME:EDT
DTSTART:20260308T070000
END:DAYLIGHT
BEGIN:STANDARD
TZOFFSETFROM:-0400
TZOFFSETTO:-0500
TZNAME:EST
DTSTART:20261101T060000
END:STANDARD
BEGIN:DAYLIGHT
TZOFFSETFROM:-0500
TZOFFSETTO:-0400
TZNAME:EDT
DTSTART:20270314T070000
END:DAYLIGHT
BEGIN:STANDARD
TZOFFSETFROM:-0400
TZOFFSETTO:-0500
TZNAME:EST
DTSTART:20271107T060000
END:STANDARD
END:VTIMEZONE
BEGIN:VEVENT
DTSTART;TZID=America/New_York:20250626T180000
DTEND;TZID=America/New_York:20250626T203000
DTSTAMP:20260424T015758
CREATED:20250624T194341Z
LAST-MODIFIED:20250624T194600Z
UID:10040717-1750960800-1750969800@www.globalatlanta.com
SUMMARY:From Arrival to Impact: Immigrant Voices Shaping Atlanta Panel
DESCRIPTION:Join The Collective for Community Empowerment and the host organizations\, the Hispanic Young Professionals & Entrepreneurs (HYPE) and the Atlanta chapter of the National Association of Asian American Professionals (NAAAP) for an Immigrant Heritage Month event on Thursday\, June 26 from 6:00-8:30 pm\, in partnership with The Mayor’s Office of International and Immigrant Affairs – Welcoming Atlanta. \n\n\n\nThis event will highlight the contributions of Atlanta’s diverse young professionals while celebrating their cultures and histories. In today’s challenging climate\, CCE’s goal is to emphasize the importance of unity and solidarity within Atlanta’s community. The evening will feature intentional networking\, community building\, and a panel discussion with local Atlanta leaders who work directly to support Atlanta’s immigrant and refugee communities. \n\n\n\nConfirmed panelists include: \n\n\n\n\nLiliana Bakhtiari\, Atlanta City Councilmember\, District 5\n\n\n\nLily Pabian\, Executive Director\, We Love Buford Highway\n\n\n\nJaime Rangel\, Regional Government Relations Director\, FWD.us\n\n\n\nOmar Rodriguez\, Tax Consultant – Global & Mobility Services\, E&Y\n\n\n\n\nLight bites and refreshments from Lao Szechaun and Kamayan ATL will be available for attendees. This is a free event\, but registration is required. \n\n\n\n\n\n\nRegister
URL:https://www.globalatlanta.com/event/from-arrival-to-impact-immigrant-voices-shaping-atlanta-panel/
LOCATION:Atlanta City Hall\, 55 Trinity Ave SW
CATEGORIES:Asia,Communities,Immigration,Latin America,Networking
ATTACH;FMTTYPE=image/jpeg:https://www.globalatlanta.com/wp-content/uploads/Event-Calendar-Logos-17.jpg
GEO:33.7483996;-84.3902601
X-APPLE-STRUCTURED-LOCATION;VALUE=URI;X-ADDRESS=Atlanta City Hall 55 Trinity Ave SW;X-APPLE-RADIUS=500;X-TITLE=55 Trinity Ave SW:geo:-84.3902601,33.7483996
END:VEVENT
BEGIN:VEVENT
DTSTART;TZID=America/New_York:20250708T190000
DTEND;TZID=America/New_York:20250708T210000
DTSTAMP:20260424T015758
CREATED:20250701T165534Z
LAST-MODIFIED:20250701T165810Z
UID:10040723-1752001200-1752008400@www.globalatlanta.com
SUMMARY:Fireside Chat on Jewish - Christian Relations
DESCRIPTION:Join the Consulate General of Israel to the Southeast United States for an inspiring evening as they come together to strengthen Jewish-Christian relations in the greater Atlanta community. “Building Bridges: Jewish-Christian Relations in Atlanta” will feature esteemed speakers\, insightful dialogue\, and opportunities to connect across faiths. Together\, they’ll explore how the Jewish and Christian communities can foster deeper connections\, celebrate our commonalities\, and work collaboratively toward a more united society. \n\n\n\n\n\n\nRegister\n\n\n\n\n\n\n\nDownload Flyer
URL:https://www.globalatlanta.com/event/fireside-chat-on-jewish-christian-relations/
LOCATION:Georgia
CATEGORIES:Communities,Israel,Religion
ATTACH;FMTTYPE=image/png:https://www.globalatlanta.com/wp-content/uploads/unnamed-2-6.png
END:VEVENT
BEGIN:VEVENT
DTSTART;TZID=America/New_York:20250815T180000
DTEND;TZID=America/New_York:20250815T220000
DTSTAMP:20260424T015758
CREATED:20250708T184114Z
LAST-MODIFIED:20250708T184118Z
UID:10040729-1755280800-1755295200@www.globalatlanta.com
SUMMARY:FEAST: We Love Buford Highway Fundraising Event
DESCRIPTION:Join We Love Buford Highway for FEAST\, We Love Buford Highway’s inaugural signature event for an evening full of flavors\, experience\, art\, stories\, and tradition. The specially curated event takes place at Factory Atlanta\, owned and operated by a local family-owned business.  \n\n\n\nFunds raised go directly into We Love Buford Highway’s work and mission to preserve the multicultural identity of Atlanta’s Buford Highway through community well being\, small business support\, youth empowerment\, arts & culture\, and storytelling archives. \n\n\n\nBuford Highway has long been a gathering place for diverse communities\, and our work is to ensure that its identity is not only celebrated but actively preserved. This event will shine a light on the stories\, struggles\, and successes of the people who have made Buford Highway a unique and vibrant part of Atlanta.  \n\n\n\n\n\n\nGet Tickets
URL:https://www.globalatlanta.com/event/feast-we-love-buford-highway-fundraising-event-3/
LOCATION:Feast\, 5616 New Peachtree Road\, Chamblee\, Georgia\, 30341
CATEGORIES:Art,Communities,Culture,Food,Fundraising,Gala,Nonprofit
ATTACH;FMTTYPE=image/jpeg:https://www.globalatlanta.com/wp-content/uploads/Event-Calendar-Logos-20.jpg
END:VEVENT
BEGIN:VEVENT
DTSTART;TZID=America/New_York:20250816T150000
DTEND;TZID=America/New_York:20250816T150000
DTSTAMP:20260424T015758
CREATED:20250811T211310Z
LAST-MODIFIED:20250811T211332Z
UID:10040767-1755356400-1755356400@www.globalatlanta.com
SUMMARY:IFA Freedom Mela
DESCRIPTION:This year’s Freedom Mela is set to be the biggest yet\, with an anticipated attendance of over 10\,000 community members. Indian Friends of Atlanta (IFA) is thrilled to announce a live performance by the legendary “Prince of Bhangra\,” Sukhbir\, who will take the stage with his full band to perform iconic hits like “Oh Ho Ho Ho” and “Sauda Khara Khara.” \n\n\n\nThe Freedom Mela is more than just an event; it’s a celebration of culture\, community\, and the shared bonds that unite the Indo-American community in Georgia. It provides a unique opportunity to capture vibrant visuals\, high-energy performances\, and compelling stories from attendees\, sponsors\, and community leaders. \n\n\n\n\nDownload Flyer
URL:https://www.globalatlanta.com/event/ifa-freedom-mela/
LOCATION:Cummings Fairgrounds\, 235 Castleberry Rd\, Cumming\, GA\, United States
CATEGORIES:Art,Communities,Concert,Culture,Festival,India,Music
ATTACH;FMTTYPE=image/png:https://www.globalatlanta.com/wp-content/uploads/Event-Calendar-Logos-13-1.png
GEO:34.202707;-84.1439156
X-APPLE-STRUCTURED-LOCATION;VALUE=URI;X-ADDRESS=Cummings Fairgrounds 235 Castleberry Rd Cumming GA United States;X-APPLE-RADIUS=500;X-TITLE=235 Castleberry Rd:geo:-84.1439156,34.202707
END:VEVENT
BEGIN:VEVENT
DTSTART;TZID=America/New_York:20250821T180000
DTEND;TZID=America/New_York:20250821T180000
DTSTAMP:20260424T015758
CREATED:20250709T192724Z
LAST-MODIFIED:20250724T064806Z
UID:10040730-1755799200-1755799200@www.globalatlanta.com
SUMMARY:2025 Japan-America Society Annual Dinner Gala Featuring Mayors of Atlanta and Fukuoka
DESCRIPTION:As a part of its summer tradition\, the Japan-America Society of Georgia will be celebrating its 45th Anniversary and the 20th Anniversary of the Atlanta-Fukuoka Sister City Relationship at the 2025 Annual Dinner Gala on Thursday\, August 21\, 2025\, at the Atlanta Botanical Garden. \n\n\n\nThe Annual Dinner Gala will bring together an audience of approximately 280 prominent guests\, including executives from Japanese and Georgia-based companies\, civic leaders\, and representatives from the international community. Among the invited guests are Atlanta Mayor Andre Dickens and Fukuoka Mayor Sōichirō Takashima\, who will be joining the JASG in celebration of the special bond the two cities share. \n\n\n\nRSVP Deadline: Thursday\, August 14\, 2025 \n\n\n\nInvited Special Guest\n\n\n\n\n\n\n\n\n\n\n\nTakashima Sōichirō\, Mayor of Fukuoka City \nTakashima Sōichirō is the mayor of Fukuoka City\, elected in 2010 at the age of 36. Originally from Ōita Prefecture\, he began his professional career in television before joining the civil service. Takashima was re-elected in 2014\, 2018\, and 2022—each time receiving the highest number of votes in the history of Fukuoka City’s mayoral elections—and is now serving his fourth term. He has implemented a variety of policies based on the city’s core management strategy: “Creating a virtuous cycle of urban growth and improved quality of life.” \n\n\n\n\n\n\n\n\n\nRegister\n\n\n\n\n\n\n\nDownload Flyer
URL:https://www.globalatlanta.com/event/2025-jasg-annual-dinner-gala/
LOCATION:Atlanta Botanical Garden\, 1345 Piedmont Ave NE\, Atlanta\, GA\, 30309\, United States
CATEGORIES:Communities,Culture,Featured,Gala,Japan
ATTACH;FMTTYPE=image/png:https://www.globalatlanta.com/wp-content/uploads/JASG.png
GEO:33.7905858;-84.3739497
X-APPLE-STRUCTURED-LOCATION;VALUE=URI;X-ADDRESS=Atlanta Botanical Garden 1345 Piedmont Ave NE Atlanta GA 30309 United States;X-APPLE-RADIUS=500;X-TITLE=1345 Piedmont Ave NE:geo:-84.3739497,33.7905858
END:VEVENT
BEGIN:VEVENT
DTSTART;TZID=America/New_York:20250823T110000
DTEND;TZID=America/New_York:20250823T160000
DTSTAMP:20260424T015758
CREATED:20250813T180750Z
LAST-MODIFIED:20250813T180753Z
UID:10040770-1755946800-1755964800@www.globalatlanta.com
SUMMARY:Cobb County International Festival
DESCRIPTION:Cobb County is eager to host the return of the 2025 International Festival! This event is a wonderful opportunity to showcase and highlight the vibrant cultural diversity that shape and enrich the community. \n\n\n\nCobb County’s International Festival is a celebration of global cuisine\, music\, visual and performing arts represented in our own backyard. \n\n\n\nThis family-friendly event provides an engaging experience for all ages\, offering exploration of various heritages through shared activities and creative expression. \n\n\n\n\n\n\nMore Info\n\n\n\n\n\n\n\nDownload Flyer
URL:https://www.globalatlanta.com/event/cobb-county-international-festival-2/
LOCATION:JR Miller Park & Event Center\, 2245 Callaway Rd SW\, Marietta\, Georgia\, 30008
CATEGORIES:Communities,Culture,Festival,Food,Music
ATTACH;FMTTYPE=image/jpeg:https://www.globalatlanta.com/wp-content/uploads/cobb-county-logo.jpg
END:VEVENT
BEGIN:VEVENT
DTSTART;TZID=America/New_York:20250827T180000
DTEND;TZID=America/New_York:20250827T210000
DTSTAMP:20260424T015758
CREATED:20250808T181210Z
LAST-MODIFIED:20250821T215856Z
UID:10040759-1756317600-1756328400@www.globalatlanta.com
SUMMARY:International Women in Business Meetup
DESCRIPTION:Attend the International Women in Business Meetup\, open to members of all binational and international chambers of commerce. This special gathering is designed to bring together women from diverse backgrounds to exchange ideas\, celebrate growth\, and spark new collaborations. \n\n\n\nWhat to expect:\n\n\n\n\nInspiring stories: Hear about the journey and growth of Women in Business.\n\n\n\nMeaningful dialogue: Engage in conversations about similar initiatives and shared challenges.\n\n\n\nOpportunities to collaborate: Discover ways to work together across industries and countries.\n\n\n\nRelaxed networking: Enjoy an evening of connection over drinks in a vibrant setting.\n\n\n\n\nWhether you are a business owner\, leader\, or aspiring entrepreneur\, this is your chance to connect with like-minded professionals in an informal yet impactful environment. \n\n\n\nOpen to members of all binational and international chambers \n\n\n\n\n\n\nRegister
URL:https://www.globalatlanta.com/event/international-women-in-business-meetup/
LOCATION:Culinary Dropout\, 1231 Ashford Crossing\, Building 900\, Atlanta\, Georgia\, 30346
CATEGORIES:Africa,Asia,Business,Communities,Europe,Networking,North America,Women
ATTACH;FMTTYPE=image/jpeg:https://www.globalatlanta.com/wp-content/uploads/unnamed-124.jpg
END:VEVENT
BEGIN:VEVENT
DTSTART;TZID=America/New_York:20250912T170000
DTEND;TZID=America/New_York:20250913T220000
DTSTAMP:20260424T015758
CREATED:20250808T191242Z
LAST-MODIFIED:20250808T191245Z
UID:10040763-1757696400-1757800800@www.globalatlanta.com
SUMMARY:The Atlanta International Night Market
DESCRIPTION:Come experience this exciting\, 2-day celebration of diversity\, community\, culture\, and creativity at the Atlanta International Night Market!  Come see why they are ranked 3rd best night market in country by USA Today! \n\n\n\n85 vendors will represent food and artisan products from around the world! Learn about other cultures at our International Village\, and there will be an incredible lineup of performances on the main stage! \n\n\n\n\n\n\nMore Info
URL:https://www.globalatlanta.com/event/the-atlanta-international-night-market-2/
LOCATION:Laurenceville Lawn\, 210 Luckie St.\, Lawrenceville\, G\, 30046
CATEGORIES:Art,Communities,Concert,Culture,Festival,Food,Music
ATTACH;FMTTYPE=image/jpeg:https://www.globalatlanta.com/wp-content/uploads/Atlanta-International-Night-Market.jpg
ORGANIZER;CN="Atlanta International Night Market":MAILTO:info@atlnightmarket.org
END:VEVENT
BEGIN:VEVENT
DTSTART;TZID=America/New_York:20250914T143000
DTEND;TZID=America/New_York:20250914T170000
DTSTAMP:20260424T015758
CREATED:20250819T154920Z
LAST-MODIFIED:20250819T154923Z
UID:10040773-1757860200-1757869200@www.globalatlanta.com
SUMMARY:Interfaith Festival
DESCRIPTION:Atlanta’s annual Interfaith Festival supports Interfaith Atlanta’s mission to foster cooperation and dialogue\, as well as providing opportunities for learning about people and groups engaged in religious and inter-religious work. At the Interfaith Festival\, you can: \n\n\n\n\nwork together on a service project\n\n\n\nenjoy ethnic foods\n\n\n\nexplore information from Interfaith Atlanta’s sponsors\n\n\n\nexperience a showcase of talented artists from the Interfaith community of Atlanta!\n\n\n\n\n\n\n\nLearn More
URL:https://www.globalatlanta.com/event/interfaith-festival/
LOCATION:Columbia Theological Seminary\, 701 S Columbia Dr\, Decatur\, Georgia\, 30030
CATEGORIES:Communities,Festival,Religion
ATTACH;FMTTYPE=image/png:https://www.globalatlanta.com/wp-content/uploads/Event-Calendar-Logos-17-1.png
END:VEVENT
BEGIN:VEVENT
DTSTART;TZID=America/New_York:20250920T100000
DTEND;TZID=America/New_York:20250921T170000
DTSTAMP:20260424T015758
CREATED:20250523T191137Z
LAST-MODIFIED:20250825T001310Z
UID:10040675-1758362400-1758474000@www.globalatlanta.com
SUMMARY:JapanFest 2025
DESCRIPTION:The mission of JapanFest is to improve understanding and appreciation of linkages between Japanese and Americans residing in the Southeastern United States through an annual salute to Japanese culture and friendship entitled JapanFest.  \n\n\n\nThis celebration will promote multicultural education\, encourage social harmony\, and ensure the cultural integrity of JapanFest by providing an appropriate mix of authentic contemporary and traditional programs on Japanese art and culture. Activities include a wide variety of performing arts\, demonstrations\, hands-on workshops\, and exhibitions.  \n\n\n\nThese grassroots efforts are coordinated by the Japanese Chamber of Commerce of Georgia and The Japan-America Society of Georgia and implemented by a host of community volunteers.  \n\n\n\nJapanFest is committed to organizing a self-sustaining event\, supported in part by non-Japanese Chamber of Commerce and non-Japan-America Society of Georgia members\, and provides meaningful support to educational endeavors in Georgia. \n\n\n\n\n\n\nGet Tickets
URL:https://www.globalatlanta.com/event/japanfest-2025/
LOCATION:Gas South Convention Center\, 6400 Sugarloaf Parkway\, Duluth\, GA\, 30097\, United States
CATEGORIES:Communities,Culture,Dance,Featured,Festival,Food,Japan,Music
ATTACH;FMTTYPE=image/png:https://www.globalatlanta.com/wp-content/uploads/JapanFest-Logo-1.png
GEO:33.989601;-84.0942254
X-APPLE-STRUCTURED-LOCATION;VALUE=URI;X-ADDRESS=Gas South Convention Center 6400 Sugarloaf Parkway Duluth GA 30097 United States;X-APPLE-RADIUS=500;X-TITLE=6400 Sugarloaf Parkway:geo:-84.0942254,33.989601
END:VEVENT
BEGIN:VEVENT
DTSTART;TZID=America/New_York:20251009T000000
DTEND;TZID=America/New_York:20251014T235959
DTSTAMP:20260424T015758
CREATED:20250619T142122Z
LAST-MODIFIED:20250619T142126Z
UID:10040704-1759968000-1760486399@www.globalatlanta.com
SUMMARY:UBiG Barbados Service Trip
DESCRIPTION:Get ready to experience a life-changing journey that blends service\, adventure\, and Bajan culture — all in one unforgettable trip! \n\n\n\nThe Mission: \n\n\n\nUBiG is taking a group of passionate volunteers to Barbados to help beautify the Maurice Byer Clinic in St. Peter — and want YOU to be part of it. This is your chance to make a tangible impact in the community while soaking up all the magic that Barbados has to offer. \n\n\n\nWhat’s Included: \n\n\n\n\n5 Nights in Luxury Accommodations\n\n\n\nPrivate Group Airport Transfers + Fast Track Entry\n\n\n\nExcursions to Oistins\, Brighton Beach\, Harrison’s Cave & More\n\n\n\nMission Days at St. Peter’s Polyclinic (day and a half)\n\n\n\nAll-Inclusive Beach Party (water sports included!)\n\n\n\nDay Party Cruise – Yes\, snorkeling with turtles is on the list!\n\n\n\nLocal Island Tour Through Authentic Barbadian Eyes\n\n\n\nWelcome Dinner + Mission Day Lunch + Daily Breakfast\n\n\n\n\n Pricing Options: \n\n\n\n\n$1\,545.99 – Hotel (Double Occupancy) + Excursions Only\n\n\n\n$2\,420.00 – Air + Hotel (Double Occupancy) + Excursions\n\n\n\nGroup rates available 3 days before/after trip — based on availability\n\n\n\nPrices are subject to change\n\n\n\nSelect OTHER and then $0 when asked to donate while paying the Deposit.\n\n\n\n\nSecure Your Spot Now: \n\n\n\nA GEMINI SEASON SPECIAL $100 non-refundable deposit is required to reserve your place.Deadline to pay your deposit: June 30\, 2025 \n\n\n\nLimited spots available — and they’re going fast!  \n\n\n\n\n\n\nTickets
URL:https://www.globalatlanta.com/event/ubig-barbados-service-trip/
LOCATION:Georgia
CATEGORIES:Caribbean,Communities,Travel
ATTACH;FMTTYPE=image/jpeg:https://www.globalatlanta.com/wp-content/uploads/ubig-logo-1.jpg
END:VEVENT
BEGIN:VEVENT
DTSTART;TZID=America/New_York:20251011T100000
DTEND;TZID=America/New_York:20251011T133000
DTSTAMP:20260424T015758
CREATED:20251005T214654Z
LAST-MODIFIED:20251005T220921Z
UID:10040859-1760176800-1760189400@www.globalatlanta.com
SUMMARY:Making Waves Showing and Community Event
DESCRIPTION:Join AAVEd\, AAADS Emory\, and Emory APIDA for a free event to discuss K-16 Asian American Studies in Georgia. During this gathering\, we will watch Making Waves by Jon Osaki followed by a talk with Jon and Dr. Roland Sintos Coloma (Moments and Movements)\, and group discussions.  \n\n\n\nWhat to Expect: \n\n\n\n– Documentary screening \n\n\n\n– Talk and panel with the director (Jon) and author of Moments and Movements (Roland) \n\n\n\n– Meet and connect with fellow students\, teachers\, professors\, and community organizers \n\n\n\n– free lunch provided \n\n\n\n– free exclusive event sticker \n\n\n\n\n\n\nRegister\n\n\n\n\n\n\n\nDownload Flyer
URL:https://www.globalatlanta.com/event/making-waves-showing-and-community-event/
LOCATION:Harland Cinema in the Alumni Memorial University Center\, 630 Means Dr\, Atlanta\, Georgia\, 30322
CATEGORIES:Asia,Communities
ATTACH;FMTTYPE=image/png:https://www.globalatlanta.com/wp-content/uploads/Event-Calendar-Logos-51.png
END:VEVENT
BEGIN:VEVENT
DTSTART;TZID=America/New_York:20260502T210000
DTEND;TZID=America/New_York:20260502T230000
DTSTAMP:20260424T015758
CREATED:20260408T161425Z
LAST-MODIFIED:20260408T161427Z
UID:10041181-1777755600-1777762800@www.globalatlanta.com
SUMMARY:Celebrating Liberian Culture and Community: A Gathering of Tradition\, Connection\, and Impact
DESCRIPTION:The Liberian Association of Metro Atlanta (LAMA) will host a community-centered event celebrating Liberian culture\, heritage\, and connection within the diaspora. Bringing together community members\, leaders\, and supporters\, the event highlights the organization’s ongoing efforts to promote cultural awareness\, education\, and community engagement. \n\n\n\nGuests can expect an evening that blends tradition with community spirit\, offering opportunities to connect\, reflect\, and celebrate Liberian identity. Through shared experiences and meaningful dialogue\, the event underscores the importance of cultural preservation and the role of diaspora communities in strengthening ties both locally and globally.  \n\n\n\n\n\n\nRegister\n\n\n\n\n\n\n\nDownload Flyer
URL:https://www.globalatlanta.com/event/celebrating-liberian-culture-and-community-a-gathering-of-tradition-connection-and-impact/
LOCATION:Grand Palais Banquet Hall\, 3540 Club Dr\, Lawrenceville\, Georgia\, 30044
CATEGORIES:Communities,Culture,Education,Fundraising,Gala,Liberia
ATTACH;FMTTYPE=image/jpeg:https://www.globalatlanta.com/wp-content/uploads/Event-Calendar-Logos-2026-04-08T120439.848.jpg
END:VEVENT
BEGIN:VEVENT
DTSTART;TZID=America/New_York:20260611T080000
DTEND;TZID=America/New_York:20260719T170000
DTSTAMP:20260424T015758
CREATED:20250717T153444Z
LAST-MODIFIED:20251209T171350Z
UID:10040738-1781164800-1784480400@www.globalatlanta.com
SUMMARY:34-Day Soccer Watch Party 2026
DESCRIPTION:The City of Decatur has announced Decatur WatchFest ‘26\, with the goal of connecting the city to FIFA World Cup 26™ matches in June and July of 2026. The 34-day free soccer and music festival will kick off with many opportunities for residents and visitors to enjoy matches at Decatur’s pubs\, restaurants\, and public spaces. \n\n\n\nFIFA World Cup 26™ runs from June 11\, 2026  through July 19\, 2026\, with eight matches taking place at Mercedes-Benz Stadium in Atlanta. Decatur will join greater Atlanta to celebrate the arrival of world class soccer to Atlanta. \n\n\n\nDecatur WatchFest ‘26 will offer music\, games\, activities and food and beverages on and around the newly renovated Decatur Square as fans watch the world’s top soccer matches. \n\n\n\n\nEvery FIFA World Cup 26™ match will be shown in Decatur during WatchFest ‘26\n\n\n\nAll matches will be shown in Decatur’s 40+ Official WatchFest Soccer Pubs and Restaurants\n\n\n\nSelect matches will be shown (pending FIFA approval) on a large screen on the newly renovated Decatur Square\n\n\n\nNightly Pre/Post Match Concerts will feature named and local acts during Decatur WatchFest ‘26.\n\n\n\n\nWith a MARTA stop in the middle of the City immediately beneath the festival site\, Decatur is an easy direct train ride to the action at Mercedes-Benz Stadium. The City expects to host visitors from around the world in Decatur to celebrate all things soccer.  \n\n\n\n\n\n\nMore Info
URL:https://www.globalatlanta.com/event/34-day-soccer-watch-party-2026/
LOCATION:Decatur
CATEGORIES:Communities,Entertainment,Festival,Sports,World Cup
ATTACH;FMTTYPE=image/png:https://www.globalatlanta.com/wp-content/uploads/Event-Calendar-Logos-4-1.png
END:VEVENT
END:VCALENDAR