BEGIN:VCALENDAR
VERSION:2.0
PRODID:-//Global Atlanta - ECPv6.15.20//NONSGML v1.0//EN
CALSCALE:GREGORIAN
METHOD:PUBLISH
X-WR-CALNAME:Global Atlanta
X-ORIGINAL-URL:https://www.globalatlanta.com
X-WR-CALDESC:Events for Global Atlanta
REFRESH-INTERVAL;VALUE=DURATION:PT1H
X-Robots-Tag:noindex
X-PUBLISHED-TTL:PT1H
BEGIN:VTIMEZONE
TZID:America/New_York
BEGIN:DAYLIGHT
TZOFFSETFROM:-0500
TZOFFSETTO:-0400
TZNAME:EDT
DTSTART:20210314T070000
END:DAYLIGHT
BEGIN:STANDARD
TZOFFSETFROM:-0400
TZOFFSETTO:-0500
TZNAME:EST
DTSTART:20211107T060000
END:STANDARD
BEGIN:DAYLIGHT
TZOFFSETFROM:-0500
TZOFFSETTO:-0400
TZNAME:EDT
DTSTART:20220313T070000
END:DAYLIGHT
BEGIN:STANDARD
TZOFFSETFROM:-0400
TZOFFSETTO:-0500
TZNAME:EST
DTSTART:20221106T060000
END:STANDARD
BEGIN:DAYLIGHT
TZOFFSETFROM:-0500
TZOFFSETTO:-0400
TZNAME:EDT
DTSTART:20230312T070000
END:DAYLIGHT
BEGIN:STANDARD
TZOFFSETFROM:-0400
TZOFFSETTO:-0500
TZNAME:EST
DTSTART:20231105T060000
END:STANDARD
END:VTIMEZONE
BEGIN:VEVENT
DTSTART;TZID=America/New_York:20221102T180000
DTEND;TZID=America/New_York:20221102T203000
DTSTAMP:20260420T190140
CREATED:20221027T215351Z
LAST-MODIFIED:20221027T215351Z
UID:10007115-1667412000-1667421000@www.globalatlanta.com
SUMMARY:Thomas Mann: DEMOCRACY WILL WIN!
DESCRIPTION:Thomas Mann: Democracy Will Win! is intended as a concrete contribution to current debate on both sides of the Atlantic. \nThomas Mann\, German writer and Nobel laureate\, immigrated to California\, and used the radio medium to spread thoughts on democracy to the German people during Nazi rule. In 1943\, he addressed the Library of Congress with his famous speech: “It is a terrible spectacle when the irrational becomes popular.” \nThe first part of the exhibit presents Thomas Mann’s political biography. The second\, multimedia part of the exhibit connects this history to the present. What makes a political person? How does one become a supporter of democracy? How does one defend one’s stance? \nExhibit – Nov. 2 – Dec. 3\, 2022\nOpening Night – Nov. 2\, 6:00-8:30PM \nFind all “democracy” events in the events calendar on the Goethe-Zentrum website\, e.g.\n– Virtual/hybrid guided tour through Berlin “Berlin’s street signs tell Germany’s colonial history”\n– Inclusivv conversation “Common Ground”
URL:https://www.globalatlanta.com/event/thomas-mann-democracy-will-win/
LOCATION:Georgia
CATEGORIES:Culture,Policy,Politics
ATTACH;FMTTYPE=image/png:https://www.globalatlanta.com/wp-content/uploads/Goethe-Zentrum-Atlanta-newest-logo-2021.png
ORGANIZER;CN="Goethe-Zentrum Atlanta":MAILTO:info@goetheatlanta.org
END:VEVENT
BEGIN:VEVENT
DTSTART;TZID=America/New_York:20221114T184500
DTEND;TZID=America/New_York:20221114T204500
DTSTAMP:20260420T190140
CREATED:20221108T175127Z
LAST-MODIFIED:20221108T175127Z
UID:10007129-1668451500-1668458700@www.globalatlanta.com
SUMMARY:American Football & Rugby
DESCRIPTION:Join the French American Chamber of Commerce Atlanta Southeast for a social gathering around American Football & Rugby. \n\nBring your own food to share\nLearn about Rugby\, rules\, game play and watch some short video sequences.\nGet a refresh about American Football rules\nWatch the match: Commanders vs Eagles\n\nFun atmosphere guaranteed \nLimited seats available\, don’t wait! \nThe address will be sent to registered attendees
URL:https://www.globalatlanta.com/event/american-football-rugby/
LOCATION:Georgia
CATEGORIES:Culture,Sports
ATTACH;FMTTYPE=image/png:https://www.globalatlanta.com/wp-content/uploads/FACC-Atlanta-1.png
END:VEVENT
BEGIN:VEVENT
DTSTART;TZID=America/New_York:20221117T140000
DTEND;TZID=America/New_York:20221117T150000
DTSTAMP:20260420T190140
CREATED:20220920T211809Z
LAST-MODIFIED:20220920T211809Z
UID:10007073-1668693600-1668697200@www.globalatlanta.com
SUMMARY:"Welcome to Our Learning Story" Panel Discussion - the Te Whᾱriki Approach to Early Childhood Education in New Zealand
DESCRIPTION:“Welcome to Our Learning Story” Panel Discussion – the Te Whᾱriki Approach to Early Childhood Education in New Zealand\nDate: Nov. 17\nTime: 2:00 p.m.\nLocation: Academic Learning Center \n  \nThis event is presented in partnership with KSU Global Education’s Year of New Zealand program.
URL:https://www.globalatlanta.com/event/welcome-to-our-learning-story-panel-discussion-the-te-wh%e1%be%b1riki-approach-to-early-childhood-education-in-new-zealand/
LOCATION:KSU Academic Learning Center\, 480 Bartow Ave\, Kennesaw\, GA\, 30144\, United States
CATEGORIES:Culture
ATTACH;FMTTYPE=image/jpeg:https://www.globalatlanta.com/wp-content/uploads/KSU-2.jpg
GEO:34.039471;-84.5832
X-APPLE-STRUCTURED-LOCATION;VALUE=URI;X-ADDRESS=KSU Academic Learning Center 480 Bartow Ave Kennesaw GA 30144 United States;X-APPLE-RADIUS=500;X-TITLE=480 Bartow Ave:geo:-84.5832,34.039471
END:VEVENT
BEGIN:VEVENT
DTSTART;TZID=America/New_York:20221121T130000
DTEND;TZID=America/New_York:20221121T170000
DTSTAMP:20260420T190141
CREATED:20221111T201001Z
LAST-MODIFIED:20221111T201001Z
UID:10007138-1669035600-1669050000@www.globalatlanta.com
SUMMARY:USA vs. Wales Watch Party and FIFA '23 Tournament
DESCRIPTION:In celebration of the highly anticipated FIFA World Cup 2022\, the Welsh Government and AXR Edge are hosting the biggest FIFA tournament live in person during a USA vs Wales Watch Party! \nKick it at the TSQATL Social Club to watch the live broadcast of the USA vs. Wales match and some of the most talented gamers in the state go head to head for $500 in Cash Prizes! \nTournament Prize Pool Breakdown:\nFirst Place: $300\nSecond Place: $150\nThird Place: $50 \nAgenda:\n1:00pm-  Doors Open\n1:30pm – Tournament Starts\n2:00pm-  Watch Party and Match Begins \nDoor Prizes\, Food\, Refreshments\, and Open Bar available! \n 
URL:https://www.globalatlanta.com/event/usa-vs-wales-watch-party-and-fifa-23-tournament/
LOCATION:Tech Square ATL Social Club\, 848 Spring Street Northwest\, Atlanta\, GA\, 30308\, United States
CATEGORIES:Sports
ATTACH;FMTTYPE=image/png:https://www.globalatlanta.com/wp-content/uploads/AXR_EDGE_horizontal.png
GEO:33.7780517;-84.3892162
X-APPLE-STRUCTURED-LOCATION;VALUE=URI;X-ADDRESS=Tech Square ATL Social Club 848 Spring Street Northwest Atlanta GA 30308 United States;X-APPLE-RADIUS=500;X-TITLE=848 Spring Street Northwest:geo:-84.3892162,33.7780517
END:VEVENT
END:VCALENDAR