BEGIN:VCALENDAR
VERSION:2.0
PRODID:-//Global Atlanta - ECPv6.15.20//NONSGML v1.0//EN
CALSCALE:GREGORIAN
METHOD:PUBLISH
X-WR-CALNAME:Global Atlanta
X-ORIGINAL-URL:https://www.globalatlanta.com
X-WR-CALDESC:Events for Global Atlanta
REFRESH-INTERVAL;VALUE=DURATION:PT1H
X-Robots-Tag:noindex
X-PUBLISHED-TTL:PT1H
BEGIN:VTIMEZONE
TZID:America/New_York
BEGIN:DAYLIGHT
TZOFFSETFROM:-0500
TZOFFSETTO:-0400
TZNAME:EDT
DTSTART:20220313T070000
END:DAYLIGHT
BEGIN:STANDARD
TZOFFSETFROM:-0400
TZOFFSETTO:-0500
TZNAME:EST
DTSTART:20221106T060000
END:STANDARD
BEGIN:DAYLIGHT
TZOFFSETFROM:-0500
TZOFFSETTO:-0400
TZNAME:EDT
DTSTART:20230312T070000
END:DAYLIGHT
BEGIN:STANDARD
TZOFFSETFROM:-0400
TZOFFSETTO:-0500
TZNAME:EST
DTSTART:20231105T060000
END:STANDARD
BEGIN:DAYLIGHT
TZOFFSETFROM:-0500
TZOFFSETTO:-0400
TZNAME:EDT
DTSTART:20240310T070000
END:DAYLIGHT
BEGIN:STANDARD
TZOFFSETFROM:-0400
TZOFFSETTO:-0500
TZNAME:EST
DTSTART:20241103T060000
END:STANDARD
END:VTIMEZONE
BEGIN:VEVENT
DTSTART;TZID=America/New_York:20230304T190000
DTEND;TZID=America/New_York:20230305T000000
DTSTAMP:20260423T012911
CREATED:20230217T201852Z
LAST-MODIFIED:20230217T201852Z
UID:10039747-1677956400-1677974400@www.globalatlanta.com
SUMMARY:Night of Ideas: More Justice! Defending Rights\, Realizing Dreams
DESCRIPTION:Villa Albertine\, the National Center for Civil and Human Rights\, and Atlanta Mayor’s Office of Cultural Affairs are thrilled to present Night of Ideas Atlanta 2023\, More Justice! Defending Rights\, Realizing Dreams\, on March 4\, from 7pm to midnight. \nIn the spirit of the 60th anniversary of Martin Luther King’s “I Have a Dream” speech\, Night of Ideas Atlanta 2023 will explore how the historical concept of rights opens the present to new political\, cultural\, and ethical possibilities which echo Dr. King’s dream. This event will mobilize academia\, political activism\, journalism\, civil society\, and the arts to inform and inspire one another to face the challenges of the present and the future. The event will feature a collection of talks\, conversations\, performances\, and exhibits from the National Center for Civil and Human Rights. It will take place simultaneously in 4 spaces: the Glenn Room\, the Main Lobby\, March on Washington and Shared Accomplishments. \nParticipants include CEO of The King Center and global thought leader Dr. Bernice A. King\, philosopher Felwine Sarr\, artist Sheila Pree Bright\, CEO of the National Center for Civil and Human Rights Jill Savitt\, Professor Beverly Guy-Sheftall of Spelman College\, activist Terence Lester\, human rights attorney Julie F. Kay\, French activist organization ACLEFEU\, and freestyle rap collective Soul Food Cypher. \nNight of Ideas is free and open to the public. Registration is required.
URL:https://www.globalatlanta.com/event/night-of-ideas-more-justice-defending-rights-realizing-dreams/
LOCATION:National Center for Civil and Human Rights\, 100 Ivan Allen Jr Blvd NW\, Atlanta\, GA\, 30313\, United States
CATEGORIES:Culture
ATTACH;FMTTYPE=image/png:https://www.globalatlanta.com/wp-content/uploads/Screen-Shot-2023-02-17-at-3.18.35-PM.png
GEO:33.764055;-84.3930511
X-APPLE-STRUCTURED-LOCATION;VALUE=URI;X-ADDRESS=National Center for Civil and Human Rights 100 Ivan Allen Jr Blvd NW Atlanta GA 30313 United States;X-APPLE-RADIUS=500;X-TITLE=100 Ivan Allen Jr Blvd NW:geo:-84.3930511,33.764055
END:VEVENT
BEGIN:VEVENT
DTSTART;TZID=America/New_York:20230305T110000
DTEND;TZID=America/New_York:20230305T150000
DTSTAMP:20260423T012911
CREATED:20230207T212611Z
LAST-MODIFIED:20230207T212611Z
UID:10039744-1678014000-1678028400@www.globalatlanta.com
SUMMARY:Atlanta Jewish Life Festival
DESCRIPTION:Join the Atlanta Jewish community for a day of Jewish music\, food\, and more at the third annual Atlanta Jewish Life Festival! \n\nHear music from Jewish performers\nPurim Costume Contest\nEnjoy delicious kosher food\nConnect with dozens of Atlanta Jewish organizations\nSee the new shark tank and hundreds of other aquatic species\n\nTickets include FREE access to the aquarium for the entire day! Enjoy all the aquarium has to offer PLUS Jewish food\, music\, and culture at a fraction of the cost of regular aquarium admission.
URL:https://www.globalatlanta.com/event/atlanta-jewish-life-festival/
LOCATION:Georgia Aquarium Oceans Ballroom\, 225 Baker Street Northwest\, Atlanta\, GA\, 30313
CATEGORIES:Culture
ATTACH;FMTTYPE=image/png:https://www.globalatlanta.com/wp-content/uploads/logo-29.png
ORGANIZER;CN="Atlanta Jewish Times":MAILTO:kyra@atljewishtimes.com
GEO:33.7634237;-84.394891
X-APPLE-STRUCTURED-LOCATION;VALUE=URI;X-ADDRESS=Georgia Aquarium Oceans Ballroom 225 Baker Street Northwest Atlanta GA 30313;X-APPLE-RADIUS=500;X-TITLE=225 Baker Street Northwest:geo:-84.394891,33.7634237
END:VEVENT
BEGIN:VEVENT
DTSTART;TZID=America/New_York:20230305T120000
DTEND;TZID=America/New_York:20230305T180000
DTSTAMP:20260423T012911
CREATED:20230217T191124Z
LAST-MODIFIED:20230217T191124Z
UID:10038426-1678017600-1678039200@www.globalatlanta.com
SUMMARY:A Taste of Ramadan in the Arab World Artist & Artisan Bazaar
DESCRIPTION:FREE & OPEN TO THE PUBLIC! \nAlif Institute’s\, A Taste of Ramadan in the Arab World Artist & Artisan Bazaar will be the perfect place to enjoy the company of community while browsing unique handmade and homemade items\, savor some delicious treats\, and support local artists and small business owners! \n\n3:00 PM – Learn about Ramadan customs in the Arab World\nEnjoy delicious Arabic cuisine\nChildren’s Ramadan crafts\nEnjoy the festive atmosphere and music\n\nInterested in becoming a vendor? Email info@alifinstitute.org. \nFor more information\, visit the event webpage at https://www.alifinstitute.org/3-5-artist-artisan-ramadan-bazaar/.
URL:https://www.globalatlanta.com/event/a-taste-of-ramadan-in-the-arab-world-artist-artisan-bazaar/
LOCATION:Alif Institute\, 3288 Marjan Drive\, Atlanta\, GA\, 30340\, United States
CATEGORIES:Culture
ATTACH;FMTTYPE=image/gif:https://www.globalatlanta.com/wp-content/uploads/Alif-logo.gif
GEO:33.8847594;-84.2645465
X-APPLE-STRUCTURED-LOCATION;VALUE=URI;X-ADDRESS=Alif Institute 3288 Marjan Drive Atlanta GA 30340 United States;X-APPLE-RADIUS=500;X-TITLE=3288 Marjan Drive:geo:-84.2645465,33.8847594
END:VEVENT
BEGIN:VEVENT
DTSTART;TZID=America/New_York:20230318T000000
DTEND;TZID=America/New_York:20230325T235959
DTSTAMP:20260423T012911
CREATED:20221025T050248Z
LAST-MODIFIED:20221025T050248Z
UID:10007109-1679097600-1679788799@www.globalatlanta.com
SUMMARY:Alliance Française Atlanta: French Immersion in Martinique
DESCRIPTION:Join Alliance Française Atlanta director\, Dr. Richard Keatley and other Alliance Française Atlanta members for a week of fun — and français — in the sun. The French-immersion trip combines culture and fun this coming March on the beautiful island of Martinique. \nExcursions include:\n\nFort-de-France Differently\nFlowery Escapade\nDistillery Saint James\nHistorical Outing\n\n\nA part of the lesser Antilles\, in the Caribbean sea\, Martinique is also an integral part of the French Republic and the ideal location for the Alliance Française Atlanta 2022 Trip. This all-inclusive trip at the Buccaneers Resort will allow you to discover the charm and heritage of this Caribbean gem with trips to Fort-de-France\, the Madinina\, “Island of Flowers\,” as well as historical tours of the island\, sports\, recreation\, afternoon French conversation and more.\nAlliance Française Atlanta Membership Required.
URL:https://www.globalatlanta.com/event/alliance-francaise-atlanta-french-immersion-in-martinique/
CATEGORIES:Culture,Language,Travel
ATTACH;FMTTYPE=image/png:https://www.globalatlanta.com/wp-content/uploads/Alliance-Française-dAtlanta-Logo-2.png
ORGANIZER;CN="Alliance Fran%C3%A7aise":MAILTO:info@afatl.com
END:VEVENT
BEGIN:VEVENT
DTSTART;TZID=America/New_York:20230318T120000
DTEND;TZID=America/New_York:20230318T180000
DTSTAMP:20260423T012911
CREATED:20230207T191529Z
LAST-MODIFIED:20230207T191529Z
UID:10039741-1679140800-1679162400@www.globalatlanta.com
SUMMARY:Goethe Frühlingsfest
DESCRIPTION:Join Goethe-Zentrum for “Frülingsfest”\, an annual family-friendly celebration of the spring season which takes place in cities all over Germany\, such as München and Stuttgart. With over 1.2 million participants each year\, Frühlingsfest makes its name as the largest spring festival in Europe. \nThe Goethe Frühlingsfest is located in the arts district of downtown Avondale Estates\, Georgia\, where a sparkling art scene is at home\, and where three breweries provide some of the finest German-inspired beer this side of the Atlantic. \nAt the Avondale Estates Frühlingsfest\, expect to enjoy more than 80 artist vendors\, 20+ food vendors selling German and American items\, 3 (resident) micro-breweries featuring German-style draft beers\, live music\, children’s activities\, classic and new German automobiles\, a Rattenfänger / Pied Piper parade and much more. \nCar show participants and volunteers receive free entry and more.\nDetails are available on the Goethe-Zentrum Atlanta website. \n#goethefruehlingsfest
URL:https://www.globalatlanta.com/event/goethe-fruhlingsfest-3/
LOCATION:Avondale Estates\, Franklin Street\, Avondale Estates\, GA\, 30002\, United States
CATEGORIES:Culture,Festival
ATTACH;FMTTYPE=image/png:https://www.globalatlanta.com/wp-content/uploads/Goethe-Zentrum-Atlanta-newest-logo-2021.png
ORGANIZER;CN="Goethe-Zentrum Atlanta":MAILTO:info@goetheatlanta.org
GEO:33.7763328;-84.2715909
X-APPLE-STRUCTURED-LOCATION;VALUE=URI;X-ADDRESS=Avondale Estates Franklin Street Avondale Estates GA 30002 United States;X-APPLE-RADIUS=500;X-TITLE=Franklin Street:geo:-84.2715909,33.7763328
END:VEVENT
BEGIN:VEVENT
DTSTART;TZID=America/New_York:20230322T130000
DTEND;TZID=America/New_York:20230322T143000
DTSTAMP:20260423T012911
CREATED:20230310T222653Z
LAST-MODIFIED:20230310T222653Z
UID:10039775-1679490000-1679495400@www.globalatlanta.com
SUMMARY:Airport Art Exhibition Ribbon-Cutting for Czech Artist Josef Achrer: 'The Quest for Tranquil Space'
DESCRIPTION:Join the Ambassador of the Czech Republic to the United States\, H.E. Miloslav Stašek and Michael Smith\, Senior Deputy General Manager of Hartsfield-Jackson Atlanta International Airport invite for a ribbon cutting ceremony on March 22\, 2023\, from 1:00 pm to 2:30 pm. \nThe event will feature Czech contemporary artist Josef Achrer as he presents almost a dozen large-scale photograms from his exhibition\, “The Quest for Tranquil Space” at Hartsfield-Jackson Atlanta International Airport\, Concourse T. Please meet at 12:30 p.m. in the Domestic atrium in front of the clock tower. Bring ID. \nRSVP by March 17 to both atlanta@czechconsulate.com and Mar.Anderson@atl.com. \nThis event is co-organized by the Honorary Consulate of the Czech Republic in Atlanta and the Office of Public and International Affairs at Hartsfield-Jackson Atlanta International Airport. \nAbout Jose Achrer: \nContemporary artist Josef Achrer studied at the Academy of Fine Arts in Prague (AVU) from 2004-2010\, the San Francisco Art Institute (2008)\, the Academy of Arts\, Architecture and Design in Prague\, Painting Studio (2007)\, Technical College of Applied Arts\, Painting Studio in Prague (2002- 2004) and the Technical School of Applied Arts\, Studio of Stage Set Scenery (1998-2002). He has held residencies at AIR – Artist in Residence/ Krems\, Austria\, and Studio Galerie Zdeněk Sklenář\, CCC / Beijing. Furthermore\, he has held solo and group exhibitions in the Czech Republic\, Spain\, Denmark\, Germany\, and China. In 2014\, he received the Jan Světlík Award and the Art Critics Award for Young Painting in 2012. His work is in a number of collections\, including at the Times Art Museum in Beijing\, China; Faupel Collection in Berlin\, Germany; Henri and Claude de Saint Pierre Collection in Paris\, France; Galleries Zdeněk Sklenář\, 8Smička\, and GASK in the Czech Republic; among others. For more information about the artist\, please visit https://achrer.net/.
URL:https://www.globalatlanta.com/event/ribbon-cutting-ceremony-josef-achrer-the-quest-for-tranquil-space/
LOCATION:Hartsfield-Jackson Atlanta International Airport\,  6000 N Terminal Pkwy\, Ste 4000\, Atlanta\, GA\, 30320\, United States
CATEGORIES:Culture
ATTACH;FMTTYPE=image/jpeg:https://www.globalatlanta.com/wp-content/uploads/honorary-consulate-atlanta.jpg
GEO:33.6407763;-84.444326
X-APPLE-STRUCTURED-LOCATION;VALUE=URI;X-ADDRESS=Hartsfield-Jackson Atlanta International Airport  6000 N Terminal Pkwy Ste 4000 Atlanta GA 30320 United States;X-APPLE-RADIUS=500;X-TITLE=6000 N Terminal Pkwy\, Ste 4000:geo:-84.444326,33.6407763
END:VEVENT
BEGIN:VEVENT
DTSTART;TZID=America/New_York:20230324T193000
DTEND;TZID=America/New_York:20230324T213000
DTSTAMP:20260423T012911
CREATED:20230217T191704Z
LAST-MODIFIED:20230217T191704Z
UID:10038427-1679686200-1679693400@www.globalatlanta.com
SUMMARY:Ramadan Iftar and Lent Dinner
DESCRIPTION:Each year\, the Alif community and friends gather together for a cultural celebration of the holy month of Ramadan. Over delicious food\, enjoy the company of each other to hear stories and enjoy a performance. This year\, the overlap between Ramadan and Lent provide an opportunity to share common traditions of fasting\, introspection\, good food\, and good company. \n\n\n\n\n\n\n\n\n\nMore details to come about the menu\, which will include favorites for those fasting in both traditions!
URL:https://www.globalatlanta.com/event/ramadan-iftar-and-lent-dinner/
LOCATION:Alif Institute\, 3288 Marjan Drive\, Atlanta\, GA\, 30340\, United States
CATEGORIES:Communities,Culture
ATTACH;FMTTYPE=image/gif:https://www.globalatlanta.com/wp-content/uploads/Alif-logo.gif
GEO:33.8847594;-84.2645465
X-APPLE-STRUCTURED-LOCATION;VALUE=URI;X-ADDRESS=Alif Institute 3288 Marjan Drive Atlanta GA 30340 United States;X-APPLE-RADIUS=500;X-TITLE=3288 Marjan Drive:geo:-84.2645465,33.8847594
END:VEVENT
BEGIN:VEVENT
DTSTART;TZID=America/New_York:20230326T000000
DTEND;TZID=America/New_York:20230410T235959
DTSTAMP:20260423T012911
CREATED:20230323T200812Z
LAST-MODIFIED:20230323T200812Z
UID:10038467-1679788800-1681171199@www.globalatlanta.com
SUMMARY:Ramadan Iftar Dinner with Families 2023
DESCRIPTION:The volunteer families of the Atlantic Institute cordially invite the friends of the Atlantic institute to their homes for a fast-breaking dinner during the upcoming Ramadan. \nDuring the month of Ramadan\, Muslims fast by abstaining from consuming water or food while the sun is out. Iftar – or fast breaking – dinners occur each night once the sun sets. This is an important time not only for those who participate in Ramadan because of their faith\, but also it is an important time for gathering with friends and neighbors over delicious food and through lively conversation. It is truly a special time when people of all backgrounds come together and share in the Iftar experience\, learning about different cultures and faiths. \nThis year Ramadan begins on March 22nd depending on the moon sighting. Host families will begin offering the Iftar dinners between March 26th – April 10th. If you have attended Iftar dinners in previous years\, you are more than welcome to attend again\, as many guests do so. \nPlease contact ga@theatlanticinstitute.org for any questions or concerns. \nNote: Fasting is not required for guests. Information about the host family\, their address\, phone number\, and professional affiliation will be shared with you as soon as we finalize the family matching process
URL:https://www.globalatlanta.com/event/ramadan-iftar-dinner-with-families-2023/
CATEGORIES:Culture
ATTACH;FMTTYPE=image/png:https://www.globalatlanta.com/wp-content/uploads/atlantic-institute-logo.png
ORGANIZER;CN="Atlantic Institute":MAILTO:info@theatlanticinstitute.org
END:VEVENT
BEGIN:VEVENT
DTSTART;TZID=America/New_York:20230329T173000
DTEND;TZID=America/New_York:20230330T171500
DTSTAMP:20260423T012911
CREATED:20221213T183156Z
LAST-MODIFIED:20221213T183156Z
UID:10007167-1680111000-1680196500@www.globalatlanta.com
SUMMARY:Soccer Con I: The Atlanta Conference on Soccer & Social Innovation
DESCRIPTION:Join the Georgia Institute of Technology for their inaugural Soccer Con which examines a wide range of innovation in soccer\, including social innovation. Soccer Con is a biennial conference\, with new themes every two years. This will be like no other conference\, incorporating scholars\, journalists\, coaches\, activists\, fans\, youth leaders\, players\, alumni\, emerging scholars and Georgia Tech students. Students from the Sam Nunn School of International Affairs\, the Global Development program\, the Ivan Allen College\, the Honors Program\, the Minor in Sports\, Technology\, and Society\, and the Vertically Integrated Project (VIP) on Soccer\, Community\, Innovation & Politics (SCIP) will participate in all aspects of the conference. \n  \nCurrent list of participants:  \n\n\nFelipe Arocena\, Universidad de la República\, Montevideo\, Uruguay \n\n\nKirk Bowman\, Sam Nunn School of International Affairs\, Georgia Tech \n\n\nDan Breznitz\, University of Toronto\, Canada (author of Innovation in Real Places: Strategies for Prosperity in an Unforgiving World) \n\n\nBrenda Elsey\, Hofstra University (Author of Citizens and Sportsmen: Fútbol and Politics in Twentieth-Century Chile and co-author of Futbolera: A History of Women and Sports in Latin America \n\n\nAlberto Fuentes\, Sam Nunn School of International Affairs and the School of City and Regional Planning\, Georgia Tech \n\n\nJasmin Jalali-Yazdi\, Eastside Program Manager at Soccer in the Streets \n\n\nMatt Lawrey\, Academy Director\, Atlanta United \n\n\nCas Mudde\, host of podcast Radikaal\, Stanley Wade Shelton Professor\, University of Georgia \n\n\nSanjay Patel\, Soccer in the Streets\, Atlanta\, Georgia (Developer of Station Soccer) \n\n\nLuísa Turbino Torres\, Florida Atlantic University (Author of The Politics of Being a Soccer Fan: An Ethnographic Perspective on Feminist Action Around Soccer in Brazil)
URL:https://www.globalatlanta.com/event/the-atlanta-conference-on-soccer-innovation/
LOCATION:Georgia Institute of Technology\, Atlanta\, GA\, 30308\, United States
CATEGORIES:Sports
ATTACH;FMTTYPE=image/png:https://www.globalatlanta.com/wp-content/uploads/GT.png
GEO:33.7717008;-84.3726049
END:VEVENT
END:VCALENDAR