BEGIN:VCALENDAR
VERSION:2.0
PRODID:-//Global Atlanta - ECPv6.15.20//NONSGML v1.0//EN
CALSCALE:GREGORIAN
METHOD:PUBLISH
X-WR-CALNAME:Global Atlanta
X-ORIGINAL-URL:https://www.globalatlanta.com
X-WR-CALDESC:Events for Global Atlanta
REFRESH-INTERVAL;VALUE=DURATION:PT1H
X-Robots-Tag:noindex
X-PUBLISHED-TTL:PT1H
BEGIN:VTIMEZONE
TZID:America/New_York
BEGIN:DAYLIGHT
TZOFFSETFROM:-0500
TZOFFSETTO:-0400
TZNAME:EDT
DTSTART:20240310T070000
END:DAYLIGHT
BEGIN:STANDARD
TZOFFSETFROM:-0400
TZOFFSETTO:-0500
TZNAME:EST
DTSTART:20241103T060000
END:STANDARD
BEGIN:DAYLIGHT
TZOFFSETFROM:-0500
TZOFFSETTO:-0400
TZNAME:EDT
DTSTART:20250309T070000
END:DAYLIGHT
BEGIN:STANDARD
TZOFFSETFROM:-0400
TZOFFSETTO:-0500
TZNAME:EST
DTSTART:20251102T060000
END:STANDARD
BEGIN:DAYLIGHT
TZOFFSETFROM:-0500
TZOFFSETTO:-0400
TZNAME:EDT
DTSTART:20260308T070000
END:DAYLIGHT
BEGIN:STANDARD
TZOFFSETFROM:-0400
TZOFFSETTO:-0500
TZNAME:EST
DTSTART:20261101T060000
END:STANDARD
END:VTIMEZONE
BEGIN:VEVENT
DTSTART;TZID=America/New_York:20251123T180000
DTEND;TZID=America/New_York:20251123T180000
DTSTAMP:20260420T171449
CREATED:20251030T033402Z
LAST-MODIFIED:20251104T164003Z
UID:10040896-1763920800-1763920800@www.globalatlanta.com
SUMMARY:Atlanta Hawks' Japanese Community Night 
DESCRIPTION:Come and cheer on the Atlanta Hawks with The Consulate-General of Japan\, Japanese Chamber of Commerce\, JETRO\, and the Japan-America Society of Georgia as the Atlanta Hawks celebrate the Japanese Community with a specially priced ticket package for the November 23rd game against the Charlotte Hornets!!! The package\, which is open to all fans\, also includes a Hello Kitty® clear belt bag (while supplies last)! Come on out on the 23rd and cheer on the Hawks with you family and friends! \n\n\n\n\n\n\nRegister\n\n\n\n\n\n\n\nDownload Flyer
URL:https://www.globalatlanta.com/event/atlanta-hawks-japanese-community-night-4/
LOCATION:State Farm Arena\, 1 Philips Dr\, Atlanta\, GA\, 30303\, United States
CATEGORIES:Culture,Japan,Sports
ATTACH;FMTTYPE=image/png:https://www.globalatlanta.com/wp-content/uploads/jasg-events-logo.png
GEO:33.7572331;-84.3963403
X-APPLE-STRUCTURED-LOCATION;VALUE=URI;X-ADDRESS=State Farm Arena 1 Philips Dr Atlanta GA 30303 United States;X-APPLE-RADIUS=500;X-TITLE=1 Philips Dr:geo:-84.3963403,33.7572331
END:VEVENT
END:VCALENDAR