BEGIN:VCALENDAR
VERSION:2.0
PRODID:-//Global Atlanta - ECPv6.15.20//NONSGML v1.0//EN
CALSCALE:GREGORIAN
METHOD:PUBLISH
X-ORIGINAL-URL:https://www.globalatlanta.com
X-WR-CALDESC:Events for Global Atlanta
REFRESH-INTERVAL;VALUE=DURATION:PT1H
X-Robots-Tag:noindex
X-PUBLISHED-TTL:PT1H
BEGIN:VTIMEZONE
TZID:America/New_York
BEGIN:DAYLIGHT
TZOFFSETFROM:-0500
TZOFFSETTO:-0400
TZNAME:EDT
DTSTART:20250309T070000
END:DAYLIGHT
BEGIN:STANDARD
TZOFFSETFROM:-0400
TZOFFSETTO:-0500
TZNAME:EST
DTSTART:20251102T060000
END:STANDARD
BEGIN:DAYLIGHT
TZOFFSETFROM:-0500
TZOFFSETTO:-0400
TZNAME:EDT
DTSTART:20260308T070000
END:DAYLIGHT
BEGIN:STANDARD
TZOFFSETFROM:-0400
TZOFFSETTO:-0500
TZNAME:EST
DTSTART:20261101T060000
END:STANDARD
BEGIN:DAYLIGHT
TZOFFSETFROM:-0500
TZOFFSETTO:-0400
TZNAME:EDT
DTSTART:20270314T070000
END:DAYLIGHT
BEGIN:STANDARD
TZOFFSETFROM:-0400
TZOFFSETTO:-0500
TZNAME:EST
DTSTART:20271107T060000
END:STANDARD
END:VTIMEZONE
BEGIN:VEVENT
DTSTART;TZID=America/New_York:20260326T090000
DTEND;TZID=America/New_York:20260326T180000
DTSTAMP:20260422T030154
CREATED:20260316T172849Z
LAST-MODIFIED:20260316T172852Z
UID:10041134-1774515600-1774548000@www.globalatlanta.com
SUMMARY:Emory Law Symposium on Access to Global Justice
DESCRIPTION:Emory Law’s Center for International and Comparative Law will present the David J. Bederman Symposium in partnership with the American Society of Comparative Law. The symposium is entitled\, “Access to Global Justice: National Justice Systems as Engines of International Law.” \n\n\n\nAdvocate General Laila Medina of the Court of Justice of the European Union will present the morning keynote address\, and The Honorable Lee Rosenthal\, United States District Judge from the Southern District of Texas\, will present the afternoon keynote address. \n\n\n\nThe day will hold several panel discussions with international panelists discussing topics to include: \n\n\n\n\nReimagining Access to Justice: Constitutional Foundations and Digital Innovation\n\n\n\nInnovations in Rights Enforcement: Strategic Litigation\, Group Claims\, and ADR\n\n\n\nFinancing Access to Justice: Public Funding\, Private Capital\, and the Future of Rights Enforcement\n\n\n\n\n\n\n\nRegister
URL:https://www.globalatlanta.com/event/emory-law-symposium-on-access-to-global-justice/
LOCATION:Emory Law School Tull Auditorium\, 1301 Clifton Rd NE\, Atlanta\, GA\, 303307\, United States
CATEGORIES:Global Affairs,International affairs,international relations,Law,Lecture
ATTACH;FMTTYPE=image/jpeg:https://www.globalatlanta.com/wp-content/uploads/Event-Calendar-Logos-87.jpg
GEO:33.7899311;-84.3200239
X-APPLE-STRUCTURED-LOCATION;VALUE=URI;X-ADDRESS=Emory Law School Tull Auditorium 1301 Clifton Rd NE Atlanta GA 303307 United States;X-APPLE-RADIUS=500;X-TITLE=1301 Clifton Rd NE:geo:-84.3200239,33.7899311
END:VEVENT
END:VCALENDAR