BEGIN:VCALENDAR
VERSION:2.0
PRODID:-//Global Atlanta - ECPv6.15.20//NONSGML v1.0//EN
CALSCALE:GREGORIAN
METHOD:PUBLISH
X-ORIGINAL-URL:https://www.globalatlanta.com
X-WR-CALDESC:Events for Global Atlanta
REFRESH-INTERVAL;VALUE=DURATION:PT1H
X-Robots-Tag:noindex
X-PUBLISHED-TTL:PT1H
BEGIN:VTIMEZONE
TZID:America/New_York
BEGIN:DAYLIGHT
TZOFFSETFROM:-0500
TZOFFSETTO:-0400
TZNAME:EDT
DTSTART:20250309T070000
END:DAYLIGHT
BEGIN:STANDARD
TZOFFSETFROM:-0400
TZOFFSETTO:-0500
TZNAME:EST
DTSTART:20251102T060000
END:STANDARD
BEGIN:DAYLIGHT
TZOFFSETFROM:-0500
TZOFFSETTO:-0400
TZNAME:EDT
DTSTART:20260308T070000
END:DAYLIGHT
BEGIN:STANDARD
TZOFFSETFROM:-0400
TZOFFSETTO:-0500
TZNAME:EST
DTSTART:20261101T060000
END:STANDARD
BEGIN:DAYLIGHT
TZOFFSETFROM:-0500
TZOFFSETTO:-0400
TZNAME:EDT
DTSTART:20270314T070000
END:DAYLIGHT
BEGIN:STANDARD
TZOFFSETFROM:-0400
TZOFFSETTO:-0500
TZNAME:EST
DTSTART:20271107T060000
END:STANDARD
END:VTIMEZONE
BEGIN:VEVENT
DTSTART;TZID=America/New_York:20260424T193000
DTEND;TZID=America/New_York:20260424T193000
DTSTAMP:20260419T102204
CREATED:20260126T152119Z
LAST-MODIFIED:20260415T144807Z
UID:10040992-1777059000-1777059000@www.globalatlanta.com
SUMMARY:Concert Featuring The Choir of Westminster Abbey
DESCRIPTION:One of the world’s most renowned choral ensembles\, the Choir of Westminster Abbey\, comes to Atlanta for a rare and unforgettable performance presented by Friends of Cathedral Music at St. Philip’s Cathedral. Known for its role in Britain’s most historic royal\, state\, and national ceremonies\, the choir offers audiences a chance to experience a centuries-old music tradition at the highest level. \n\n\n\nSet within the inspiring space of St. Philip’s Cathedral\, this special concert will showcase the choir’s signature blend of precision\, clarity\, and soaring harmonies. The program highlights the ensemble’s rich musical heritage\, bringing sacred choral works to life in a setting designed for both acoustic beauty and reflection. \n\n\n\nFor classical music enthusiasts\, those new to choral performance alike\, the evening promises a powerful and memorable experience. With limited seating available\, this performance stands out as a unique cultural opportunity to witness one of the United Kingdom’s most celebrated musical institutions live. \n\n\n\n\n\n\nGet tickets\n\n\n\nDownload Flyer
URL:https://www.globalatlanta.com/event/the-choir-of-westminster-abbey/
LOCATION:The Cathedral of St Philip\, 2744 Peachtree Rd NW\, Atlanta\, GA\, 30305\, United States
CATEGORIES:Europe,Music,United Kingdom
ATTACH;FMTTYPE=image/jpeg:https://www.globalatlanta.com/wp-content/uploads/FOCM.jpg
GEO:33.8314983;-84.3856497
X-APPLE-STRUCTURED-LOCATION;VALUE=URI;X-ADDRESS=The Cathedral of St Philip 2744 Peachtree Rd NW Atlanta GA 30305 United States;X-APPLE-RADIUS=500;X-TITLE=2744 Peachtree Rd NW:geo:-84.3856497,33.8314983
END:VEVENT
BEGIN:VEVENT
DTSTART;TZID=America/New_York:20260501T200000
DTEND;TZID=America/New_York:20260501T200000
DTSTAMP:20260419T102204
CREATED:20260315T143827Z
LAST-MODIFIED:20260315T143830Z
UID:10041132-1777665600-1777665600@www.globalatlanta.com
SUMMARY:KSU Symphony Orchestra and University Choirs Performance
DESCRIPTION:Enjoy an evening of powerful live music as the Kennesaw State University Symphony Orchestra and University Choirs come together for a collaborative performance. This concert highlights the talent of KSU’s student musicians and vocalists\, offering a rich and moving experience for anyone who appreciates classical music. \n\n\n\nThe program will feature selections including Vaughan Williams’ Dona nobis pacem and Parry’s Blest Pair of Sirens\, creating a dyanmic blend of orchestral and choral sound. With passionate performers and a thoughtfully curated repertoire\, this event promises a memorable night of music and artistry.  \n\n\n\n\n\n\nGet Tickets
URL:https://www.globalatlanta.com/event/ksu-symphony-orchestra-and-university-choirs-performance/
LOCATION:Morgan Hall\, Bailey Performance Center\, KSU\, 488 Prillaman Way\, Kennesaw\, GA\, 30144\, United States
CATEGORIES:Concert,Music
ATTACH;FMTTYPE=image/jpeg:https://www.globalatlanta.com/wp-content/uploads/Event-Calendar-Logos-85.jpg
GEO:34.0408354;-84.5837657
X-APPLE-STRUCTURED-LOCATION;VALUE=URI;X-ADDRESS=Morgan Hall Bailey Performance Center KSU 488 Prillaman Way Kennesaw GA 30144 United States;X-APPLE-RADIUS=500;X-TITLE=488 Prillaman Way:geo:-84.5837657,34.0408354
END:VEVENT
BEGIN:VEVENT
DTSTART;TZID=America/New_York:20260503T150000
DTEND;TZID=America/New_York:20260503T150000
DTSTAMP:20260419T102204
CREATED:20251219T160014Z
LAST-MODIFIED:20251219T160018Z
UID:10040958-1777820400-1777820400@www.globalatlanta.com
SUMMARY:Organist Vincent Dubois at Spivey Hall
DESCRIPTION:Returning to Spivey Hall after many years\, France native Vincent Dubois is the titular organist at Paris’ famed Cathedral of Notre-Dame\, where he serves alongside Olivier Latry and Philippe Lefebvre. One of the finest concert organists worldwide and winner of multiple international awards\, Dubois is also a professor of organ interpretation and improvisation at the Hochschule für Musik in Saarbrücken\, Germany. Tickets to this Spivey Hall performance include a pre-concert talk at 2:15 p.m. \n\n\n\n\n\n\nGet Tickets\n\n\n\n\n\n\n\nLearn More
URL:https://www.globalatlanta.com/event/organist-vincent-dubois-at-spivey-hall/
LOCATION:Spivey Hall\, 2000 Clayton State Blvd. \, Morrow\, GA\, 30260
CATEGORIES:Concert,France,Music
ATTACH;FMTTYPE=image/jpeg:https://www.globalatlanta.com/wp-content/uploads/Spivey-Hall-2025.jpg
GEO:33.5944329;-84.330761
X-APPLE-STRUCTURED-LOCATION;VALUE=URI;X-ADDRESS=Spivey Hall 2000 Clayton State Blvd.  Morrow GA 30260;X-APPLE-RADIUS=500;X-TITLE=2000 Clayton State Blvd.:geo:-84.330761,33.5944329
END:VEVENT
BEGIN:VEVENT
DTSTART;TZID=America/New_York:20260605T193000
DTEND;TZID=America/New_York:20260605T213000
DTSTAMP:20260419T102204
CREATED:20260128T195039Z
LAST-MODIFIED:20260128T195043Z
UID:10041005-1780687800-1780695000@www.globalatlanta.com
SUMMARY:2026 Cathedral Singers Concert
DESCRIPTION:Enjoy a lovely June evening’s respite amid the glow of stained glass\, basking in music to soothe the soul and delight the senses!  \n\n\n\nThis concert is presented by the professional core of the Cathedral Choir & Schola and our magnificent organists and is a fundraiser for the Choir’s 2027 pilgrimage to sing daily worship services as choir-in-residence at Canterbury and Winchester cathedrals\, England. \n\n\n\n\n\n\nGet tickets\n\n\n\n\n\n\n\nLearn more
URL:https://www.globalatlanta.com/event/2026-cathedral-singers-concert/
LOCATION:The Cathedral of St Philip\, 2744 Peachtree Rd NW\, Atlanta\, GA\, 30305\, United States
CATEGORIES:Arts & Humanities,Concert,Music,United Kingdom
ATTACH;FMTTYPE=image/jpeg:https://www.globalatlanta.com/wp-content/uploads/FOCM.jpg
GEO:33.8314983;-84.3856497
X-APPLE-STRUCTURED-LOCATION;VALUE=URI;X-ADDRESS=The Cathedral of St Philip 2744 Peachtree Rd NW Atlanta GA 30305 United States;X-APPLE-RADIUS=500;X-TITLE=2744 Peachtree Rd NW:geo:-84.3856497,33.8314983
END:VEVENT
BEGIN:VEVENT
DTSTART;TZID=America/New_York:20260919T100000
DTEND;TZID=America/New_York:20260920T170000
DTSTAMP:20260419T102204
CREATED:20260323T192755Z
LAST-MODIFIED:20260323T192759Z
UID:10041158-1789812000-1789923600@www.globalatlanta.com
SUMMARY:JapanFest Atlanta
DESCRIPTION:Experience the sights\, sounds\, and flavors of Japan at JapanFest Atlanta\, one of the largest Japanese culture festivals in the Southeast. This annual celebration brings together traditional and modern elements of Japanese culture\, offering a vibrant mix of performances\, food\, and interactive experiences for all ages. \n\n\n\nGuests can enjoy live music and dance\, martial arts demonstrations\, hands-on activities like origami and calligraphy\, and a wide variety of authentic Japanese cuisine. With vendor booths\, cultural exhibits\, and a lively festival atmosphere\, JapanFest provides a fun and engaging way to explore Japanese culture and connect with the community. \n\n\n\n\n\n\nMore Information\n\n\n\n\n\n\n\nDownload Flyer
URL:https://www.globalatlanta.com/event/japanfest-atlanta/
LOCATION:Gas South Convention Center\, 6400 Sugarloaf Parkway\, Duluth\, GA\, 30097\, United States
CATEGORIES:Concert,Culture,Dance,Festival,Food,Japan,Music
ATTACH;FMTTYPE=image/jpeg:https://www.globalatlanta.com/wp-content/uploads/Event-Calendar-Logos-94.jpg
GEO:33.989601;-84.0942254
X-APPLE-STRUCTURED-LOCATION;VALUE=URI;X-ADDRESS=Gas South Convention Center 6400 Sugarloaf Parkway Duluth GA 30097 United States;X-APPLE-RADIUS=500;X-TITLE=6400 Sugarloaf Parkway:geo:-84.0942254,33.989601
END:VEVENT
END:VCALENDAR