BEGIN:VCALENDAR
VERSION:2.0
PRODID:-//Global Atlanta - ECPv6.15.20//NONSGML v1.0//EN
CALSCALE:GREGORIAN
METHOD:PUBLISH
X-ORIGINAL-URL:https://www.globalatlanta.com
X-WR-CALDESC:Events for Global Atlanta
REFRESH-INTERVAL;VALUE=DURATION:PT1H
X-Robots-Tag:noindex
X-PUBLISHED-TTL:PT1H
BEGIN:VTIMEZONE
TZID:America/New_York
BEGIN:DAYLIGHT
TZOFFSETFROM:-0500
TZOFFSETTO:-0400
TZNAME:EDT
DTSTART:20220313T070000
END:DAYLIGHT
BEGIN:STANDARD
TZOFFSETFROM:-0400
TZOFFSETTO:-0500
TZNAME:EST
DTSTART:20221106T060000
END:STANDARD
BEGIN:DAYLIGHT
TZOFFSETFROM:-0500
TZOFFSETTO:-0400
TZNAME:EDT
DTSTART:20230312T070000
END:DAYLIGHT
BEGIN:STANDARD
TZOFFSETFROM:-0400
TZOFFSETTO:-0500
TZNAME:EST
DTSTART:20231105T060000
END:STANDARD
BEGIN:DAYLIGHT
TZOFFSETFROM:-0500
TZOFFSETTO:-0400
TZNAME:EDT
DTSTART:20240310T070000
END:DAYLIGHT
BEGIN:STANDARD
TZOFFSETFROM:-0400
TZOFFSETTO:-0500
TZNAME:EST
DTSTART:20241103T060000
END:STANDARD
END:VTIMEZONE
BEGIN:VEVENT
DTSTART;TZID=America/New_York:20230518T120000
DTEND;TZID=America/New_York:20230518T130000
DTSTAMP:20260421T125520
CREATED:20230516T152146Z
LAST-MODIFIED:20230516T152146Z
UID:10038502-1684411200-1684414800@www.globalatlanta.com
SUMMARY:Shifting Alliances in the Middle East and the Arab League: A Virtual Discussion
DESCRIPTION:Join the World Affairs Council of Atlanta for a virtual discussion in anticipation of the upcoming 2023 Arab League Summit\, featuring Dr. S. Rashid Naim – Principal Senior Lecturer in Political Science at Georgia State University. \nThe mission of the World Affairs Council of Atlanta is to inspire Atlanta to lead globally. We are a non-partisan\, non-profit\, membership forum for informed discussion of global affairs in support of Atlanta’s transformation into an international economic hub. Learn more at www.wacatlanta.org.
URL:https://www.globalatlanta.com/event/shifting-alliances-in-the-middle-east-and-the-arab-league-a-virtual-discussion/
LOCATION:Virtual event
CATEGORIES:Politics
ATTACH;FMTTYPE=image/png:https://www.globalatlanta.com/wp-content/uploads/download-20.png
ORGANIZER;CN="The World Affairs Council of Atlanta":MAILTO:info@wacatlanta.org
GEO:35.8263369;-79.0419053
END:VEVENT
BEGIN:VEVENT
DTSTART;TZID=America/New_York:20230524T113000
DTEND;TZID=America/New_York:20230524T133000
DTSTAMP:20260421T125520
CREATED:20230508T033120Z
LAST-MODIFIED:20230508T033120Z
UID:10039812-1684927800-1684935000@www.globalatlanta.com
SUMMARY:Are Economic Sanctions Still Effective?: National Security and the Dollar's Future as the Global Reserve Currency
DESCRIPTION:American economic sanctions have been a major component of American Foreign Policy for decades. They have reflected not only its economic power\, but also its moral force\, when wielded to isolate despotic regimes. In a changing international universe\, do America’s adversaries still fear the historic power of American sanctions? \nDate: Wednesday\, May 24\, 2023 \nTime: 11:30 a.m. – 1.30 p.m. \nVenue: Capital City Club \n7 John Portman Boulevard \nAtlanta\, GA 30303 \nCancellation Policy: If you need to cancel\, please do so not later than 48 hours before the event. ACIR is charged for your meal\, so no refund can be provided. \nAbout the Speaker \nIrfan Vaid is an expert in global economic sanctions and anti-money laundering policy. He currently heads up the compliance program for a financial technology company. Previously\, he was a Director in PwC’s Financial Crimes Unit and advised domestic and international financial institutions on matters related to regulatory crisis management. Prior to that\, Irfan was a Vice President and the global sanctions policy lead at BNP Paribas\, Europe’s largest banking group. \nIrfan is the former United States Treasury Attaché to Pakistan and led U.S. diplomatic engagements in Islamabad on a range of economic\, financial\, and regulatory policy issues. He held other senior roles at the U.S. Department of the Treasury from 2009-2016 and served as a terrorism finance analyst at the U.S. Department of Defense from 2006-2009. His experience includes writing on national security issues for the President’s Daily Brief (the “PDB”). \nHe received his Juris Doctor degree from the Illinois Institute of Technology and received his bachelor’s degree in political science from Loyola University Chicago.
URL:https://www.globalatlanta.com/event/are-economic-sanctions-still-effective-national-security-and-the-dollars-future-as-the-global-reserve-currency/
LOCATION:Capital City Club\, 7 John Portman Boulevard Northwest\, Atlanta\, GA\, 30303\, United States
CATEGORIES:Politics
ATTACH;FMTTYPE=image/png:https://www.globalatlanta.com/wp-content/uploads/acir-logo-3.png
ORGANIZER;CN="Atlanta Council on International Relations":MAILTO:info@atlantacir.org
GEO:33.7612456;-84.3879488
X-APPLE-STRUCTURED-LOCATION;VALUE=URI;X-ADDRESS=Capital City Club 7 John Portman Boulevard Northwest Atlanta GA 30303 United States;X-APPLE-RADIUS=500;X-TITLE=7 John Portman Boulevard Northwest:geo:-84.3879488,33.7612456
END:VEVENT
END:VCALENDAR