BEGIN:VCALENDAR
VERSION:2.0
PRODID:-//Global Atlanta - ECPv6.15.20//NONSGML v1.0//EN
CALSCALE:GREGORIAN
METHOD:PUBLISH
X-ORIGINAL-URL:https://www.globalatlanta.com
X-WR-CALDESC:Events for Global Atlanta
REFRESH-INTERVAL;VALUE=DURATION:PT1H
X-Robots-Tag:noindex
X-PUBLISHED-TTL:PT1H
BEGIN:VTIMEZONE
TZID:America/New_York
BEGIN:DAYLIGHT
TZOFFSETFROM:-0500
TZOFFSETTO:-0400
TZNAME:EDT
DTSTART:20250309T070000
END:DAYLIGHT
BEGIN:STANDARD
TZOFFSETFROM:-0400
TZOFFSETTO:-0500
TZNAME:EST
DTSTART:20251102T060000
END:STANDARD
BEGIN:DAYLIGHT
TZOFFSETFROM:-0500
TZOFFSETTO:-0400
TZNAME:EDT
DTSTART:20260308T070000
END:DAYLIGHT
BEGIN:STANDARD
TZOFFSETFROM:-0400
TZOFFSETTO:-0500
TZNAME:EST
DTSTART:20261101T060000
END:STANDARD
BEGIN:DAYLIGHT
TZOFFSETFROM:-0500
TZOFFSETTO:-0400
TZNAME:EDT
DTSTART:20270314T070000
END:DAYLIGHT
BEGIN:STANDARD
TZOFFSETFROM:-0400
TZOFFSETTO:-0500
TZNAME:EST
DTSTART:20271107T060000
END:STANDARD
END:VTIMEZONE
BEGIN:VEVENT
DTSTART;TZID=America/New_York:20260428T110000
DTEND;TZID=America/New_York:20260428T120000
DTSTAMP:20260424T125717
CREATED:20260422T155647Z
LAST-MODIFIED:20260422T155650Z
UID:10041207-1777374000-1777377600@www.globalatlanta.com
SUMMARY:E-Commerce and Local Politics: How Online Business Is Reshaping Civic Engagement
DESCRIPTION:The Sam Nunn School of International Affairs at Georgia Tech will host a public talk examining how the rise of e-commerce is transforming not just business models\, but also local political engagement. As more entrepreneurs move away from traditional storefronts\, the shift is raising new questions about the relationship between small businesses and civic life.  \n\n\n\nFeaturing Andrew Kerner of Michigan State University and Jane L. Sumner of the University of Minnesota\, the discussion will explore how online business. models may weaken the everyday interactions that historically connected business owners to local governance. Drawing on new research and data\, the speakers will examine how the decline of brick-and-mortar businesses affects political participation and collective action.  \n\n\n\nFree and open to the public\, the event offers a timely look at how technological change is reshaping both economic and political landscapes at the local level.  \n\n\n\n\n\n\nDownload Flyer
URL:https://www.globalatlanta.com/event/e-commerce-and-local-politics-how-online-business-is-reshaping-civic-engagement/
LOCATION:Habersham Building\, Room G17\, 781 Marietta Street NW\, Atlanta\, GA\, 30318\, United States
CATEGORIES:Business,Economics,Politics,Technology
ATTACH;FMTTYPE=image/png:https://www.globalatlanta.com/wp-content/uploads/GA-tech-sam-nunn-school-logo.png
GEO:33.7739478;-84.4043525
X-APPLE-STRUCTURED-LOCATION;VALUE=URI;X-ADDRESS=Habersham Building Room G17 781 Marietta Street NW Atlanta GA 30318 United States;X-APPLE-RADIUS=500;X-TITLE=781 Marietta Street NW:geo:-84.4043525,33.7739478
END:VEVENT
BEGIN:VEVENT
DTSTART;TZID=America/New_York:20260428T170000
DTEND;TZID=America/New_York:20260428T180000
DTSTAMP:20260424T125717
CREATED:20260422T161024Z
LAST-MODIFIED:20260422T161259Z
UID:10041208-1777395600-1777399200@www.globalatlanta.com
SUMMARY:Rethinking Civic Engagement: Behavioral Science Insights from East Africa
DESCRIPTION:The Sam Nunn School of International Affairs at Georgia Tech will host a public lecture exploring how behavioral science is reshaping civic engagement strategies in East Africa. Featuring Salim Kombo\, Engagement Director at the Busara Center for Behavioral Economics\, the discussion will examine how data-driven approaches can help civil society organizations navigate complex political\, social\, and economic challenges. \n\n\n\nDrawing on field experience across the region\, the talk will highlight the behavioral barriers that limit participation and the innovative methods being used to improve engagement\, policy impact\, and public service delivery. The session will also explore what works\, what does not\, and why\, offering practical lessons for designing more effective\, context-sensitive programs.  \n\n\n\nFree and open to the public\, the event provides an opportunity to engage with global perspectives on civic innovation and the evolving role of behavioral science in strengthening democratic participation. \n\n\n\n\n\n\nDownload Flyer
URL:https://www.globalatlanta.com/event/rethinking-civic-engagement-behavioral-science-insights-from-east-africa/
LOCATION:Habersham Building\, Room G17\, 781 Marietta Street NW\, Atlanta\, GA\, 30318\, United States
CATEGORIES:Africa,Democracy,Economics,Innovation,Policy,Politics
ATTACH;FMTTYPE=image/png:https://www.globalatlanta.com/wp-content/uploads/GA-tech-sam-nunn-school-logo.png
GEO:33.7739478;-84.4043525
X-APPLE-STRUCTURED-LOCATION;VALUE=URI;X-ADDRESS=Habersham Building Room G17 781 Marietta Street NW Atlanta GA 30318 United States;X-APPLE-RADIUS=500;X-TITLE=781 Marietta Street NW:geo:-84.4043525,33.7739478
END:VEVENT
BEGIN:VEVENT
DTSTART;TZID=America/New_York:20260514T103000
DTEND;TZID=America/New_York:20260514T113000
DTSTAMP:20260424T125717
CREATED:20260422T180105Z
LAST-MODIFIED:20260422T180108Z
UID:10041210-1778754600-1778758200@www.globalatlanta.com
SUMMARY:Virtual Panel on United States-South Africa Relations: Ambassador Bozell and a Shifting Global Landscape
DESCRIPTION:As South Africa navigates domestic security challenges and an increasingly complex international environment\, its evolving relationships with global powers continue to shape ties with the United States. This virtual panel\, hosted by the Foreign Policy Research Institute\, examines the future of United States-South Africa relations following the arrival of Ambassador Brent Bozell. \n\n\n\nBringing together leading experts on African geopolitics and international relations\, the discussion will explore South Africa’s strategic positioning\, its partnerships with major global actors\, and the implications for United States foreign policy. Moderated by Ambassador Charles Ray\, the panel features scholars and analysts offering insight into one of the most dynamic relationships on the African continent. \n\n\n\nThe session provides a timely opportunity to better understand how shifting alliances\, regional dynamics\, and global competition are influencing diplomacy between Washington and Pretoria.  \n\n\n\n\n\n\nRegister\n\n\n\n\n\n\n\nDownload Flyer
URL:https://www.globalatlanta.com/event/virtual-panel-on-united-states-south-africa-relations-ambassador-bozell-and-a-shifting-global-landscape/
LOCATION:Virtual
CATEGORIES:Africa,Diplomacy,Geopolitics,Policy,Politics,South Africa
ATTACH;FMTTYPE=image/png:https://www.globalatlanta.com/wp-content/uploads/Untitled-1000-x-750-px-8.png
END:VEVENT
END:VCALENDAR