BEGIN:VCALENDAR
VERSION:2.0
PRODID:-//Global Atlanta - ECPv6.15.20//NONSGML v1.0//EN
CALSCALE:GREGORIAN
METHOD:PUBLISH
X-WR-CALNAME:Global Atlanta
X-ORIGINAL-URL:https://www.globalatlanta.com
X-WR-CALDESC:Events for Global Atlanta
REFRESH-INTERVAL;VALUE=DURATION:PT1H
X-Robots-Tag:noindex
X-PUBLISHED-TTL:PT1H
BEGIN:VTIMEZONE
TZID:America/New_York
BEGIN:DAYLIGHT
TZOFFSETFROM:-0500
TZOFFSETTO:-0400
TZNAME:EDT
DTSTART:20190310T070000
END:DAYLIGHT
BEGIN:STANDARD
TZOFFSETFROM:-0400
TZOFFSETTO:-0500
TZNAME:EST
DTSTART:20191103T060000
END:STANDARD
BEGIN:DAYLIGHT
TZOFFSETFROM:-0500
TZOFFSETTO:-0400
TZNAME:EDT
DTSTART:20200308T070000
END:DAYLIGHT
BEGIN:STANDARD
TZOFFSETFROM:-0400
TZOFFSETTO:-0500
TZNAME:EST
DTSTART:20201101T060000
END:STANDARD
BEGIN:DAYLIGHT
TZOFFSETFROM:-0500
TZOFFSETTO:-0400
TZNAME:EDT
DTSTART:20210314T070000
END:DAYLIGHT
BEGIN:STANDARD
TZOFFSETFROM:-0400
TZOFFSETTO:-0500
TZNAME:EST
DTSTART:20211107T060000
END:STANDARD
BEGIN:DAYLIGHT
TZOFFSETFROM:-0500
TZOFFSETTO:-0400
TZNAME:EDT
DTSTART:20220313T070000
END:DAYLIGHT
BEGIN:STANDARD
TZOFFSETFROM:-0400
TZOFFSETTO:-0500
TZNAME:EST
DTSTART:20221106T060000
END:STANDARD
END:VTIMEZONE
BEGIN:VEVENT
DTSTART;TZID=America/New_York:20200917T113000
DTEND;TZID=America/New_York:20200917T130000
DTSTAMP:20260421T222231
CREATED:20200916T165845Z
LAST-MODIFIED:20200916T165845Z
UID:10039155-1600342200-1600347600@www.globalatlanta.com
SUMMARY:Leveraging the U.S. and Canadian Immigration Systems to Manage Your North American Talent Needs
DESCRIPTION:The Consulate General of Canada in Atlanta and Barnes & Thornburg invite you to a webinar designed to help participants learn how to balance risks with opportunities when managing their international talent needs in North America. An incredible panel of guest speakers\, including preeminent immigration attorneys\, a representative of the Consulate General of Canada\, and an immigration official from Canada\, will be comparing and contrasting immigration policies in the U.S. and Canada to help companies identify complementary ways to work with both systems to manage risks and maximize opportunities. \nTopics will include mobilizing foreign nationals via the Government of Canada’s immigration programs and Global Skills Strategy\, understanding the advantages of doing business in Canada\, and how combining top talent\, market access and a friendly tax environment can springboard a company’s growth.
URL:https://www.globalatlanta.com/event/leveraging-the-u-s-and-canadian-immigration-systems-to-manage-your-north-american-talent-needs/
LOCATION:Webinar
CATEGORIES:Immigration,Risk Management
ATTACH;FMTTYPE=image/jpeg:https://www.globalatlanta.com/wp-content/uploads/canada-wordmark.jpg
END:VEVENT
BEGIN:VEVENT
DTSTART;TZID=America/New_York:20211207T113000
DTEND;TZID=America/New_York:20211207T133000
DTSTAMP:20260421T222232
CREATED:20211111T160833Z
LAST-MODIFIED:20211111T160833Z
UID:10039583-1638876600-1638883800@www.globalatlanta.com
SUMMARY:A New Era in Strategic Competition
DESCRIPTION:Do you remember the ghost of Pearl Harbor? Historically\, we have been a seafaring nation\, and our prescient founders recognized that our growth and expansion would endure as long as we had a navy to protect the lifeblood of our commerce\, to wit\, our sea lanes. In 2020\, the sum total of our U.S. trade goods amounted to $3.7 trillion. \nJoin the Atlanta Council on International Relations as it welcomes Scott Bray\, Deputy Director of Naval Intelligence\, for a conversation on how U.S. Naval Intelligence has\, by necessity\, expanded its vigilance sub-surface and into outer space\, so our freedom and prosperity will continue.
URL:https://www.globalatlanta.com/event/a-new-era-in-strategic-competition/
CATEGORIES:Risk Management
ATTACH;FMTTYPE=image/png:https://www.globalatlanta.com/wp-content/uploads/Bray-Announcement-Final-2.png
END:VEVENT
END:VCALENDAR