BEGIN:VCALENDAR
VERSION:2.0
PRODID:-//Global Atlanta - ECPv6.15.20//NONSGML v1.0//EN
CALSCALE:GREGORIAN
METHOD:PUBLISH
X-ORIGINAL-URL:https://www.globalatlanta.com
X-WR-CALDESC:Events for Global Atlanta
REFRESH-INTERVAL;VALUE=DURATION:PT1H
X-Robots-Tag:noindex
X-PUBLISHED-TTL:PT1H
BEGIN:VTIMEZONE
TZID:America/New_York
BEGIN:DAYLIGHT
TZOFFSETFROM:-0500
TZOFFSETTO:-0400
TZNAME:EDT
DTSTART:20250309T070000
END:DAYLIGHT
BEGIN:STANDARD
TZOFFSETFROM:-0400
TZOFFSETTO:-0500
TZNAME:EST
DTSTART:20251102T060000
END:STANDARD
BEGIN:DAYLIGHT
TZOFFSETFROM:-0500
TZOFFSETTO:-0400
TZNAME:EDT
DTSTART:20260308T070000
END:DAYLIGHT
BEGIN:STANDARD
TZOFFSETFROM:-0400
TZOFFSETTO:-0500
TZNAME:EST
DTSTART:20261101T060000
END:STANDARD
BEGIN:DAYLIGHT
TZOFFSETFROM:-0500
TZOFFSETTO:-0400
TZNAME:EDT
DTSTART:20270314T070000
END:DAYLIGHT
BEGIN:STANDARD
TZOFFSETFROM:-0400
TZOFFSETTO:-0500
TZNAME:EST
DTSTART:20271107T060000
END:STANDARD
END:VTIMEZONE
BEGIN:VEVENT
DTSTART;TZID=America/New_York:20260424T181500
DTEND;TZID=America/New_York:20260424T181500
DTSTAMP:20260423T224743
CREATED:20260420T205655Z
LAST-MODIFIED:20260420T205657Z
UID:10041203-1777054500-1777054500@www.globalatlanta.com
SUMMARY:Atlanta-Berlin FashionXChange: A Transatlantic Showcase of Sustainable Design
DESCRIPTION:As part of Atlanta Sustainable Fashion Week\, this public-facing event highlights the international dimension of the city’s growing fashion ecosystem\, bringing together creative voices from Atlanta and Berlin in a collaborative student exhibition and runway experience. \n\n\n\nHeld on April 24\, the FashionXChange Atlanta-Berlin Student Exhibition features emerging designers presenting work shaped by sustainability\, circular design\, and cross-cultural exchange. The evening includes a VIP cocktail hour and networking opportunity\, followed by a student showcase and runway show that reflects the next generation of global fashion innovation. \n\n\n\nThe program underscores the growing connection between Atlanta and Berlin’s creative communities\, offering attendees a chance to engage with international talent and ideas at the intersection of culture\, design\, and sustainability.  \n\n\n\n\n\n\nGet Tickets\n\n\n\n\n\n\n\nDownload Flyer
URL:https://www.globalatlanta.com/event/atlanta-berlin-fashionxchange-a-transatlantic-showcase-of-sustainable-design/
LOCATION:1200 White Street SW\, 1200 White Street SW\, Suite 4020\, Atlanta\, Georgia\, United States
CATEGORIES:Culture,Fashion,Germany,Sustainability
ATTACH;FMTTYPE=image/png:https://www.globalatlanta.com/wp-content/uploads/Untitled-1000-x-750-px-5.png
END:VEVENT
BEGIN:VEVENT
DTSTART;TZID=America/New_York:20260430T180000
DTEND;TZID=America/New_York:20260430T180000
DTSTAMP:20260423T224743
CREATED:20260420T210652Z
LAST-MODIFIED:20260420T210655Z
UID:10041204-1777572000-1777572000@www.globalatlanta.com
SUMMARY:Sustainable Fashion Experience: Atlanta Film Festival Collaboration at The Goat Farm
DESCRIPTION:Closing out Atlanta Sustainable Fashion Week\, this signature public event brings together fashion\, film\, and international collaboration in a dynamic evening at The Goat Farm. Held in partnership with the Atlanta Film Festival Sound and Vision program\, the experience highlights the intersection of visual storytelling and sustainable design.  \n\n\n\nThe April 30 program serves as the week’s finale\, featuring a curated showcase of designers and creatives whose work reflects innovation in circular fashion and global collaboration. With ties to European and American creative networks\, the event underscores the international scope of Atlanta’s sustainable fashion movement.  \n\n\n\nSet within one of Atlanta’s most distinctive creative spaces\, the evening offers attendees an immersive experience that blends fashion\, film\, and culture\, marking a fitting close to a week dedicated to redefining the future of the industry.  \n\n\n\n\n\n\nGet Tickets\n\n\n\n\n\n\n\nDownload Flyer
URL:https://www.globalatlanta.com/event/sustainable-fashion-experience-atlanta-film-festival-collaboration-at-the-goat-farm/
LOCATION:The Goat Farm\, 1200 Foster St NW\, Atlanta\, Georgia\, 30318
CATEGORIES:Culture,Europe,Fashion,Sustainability
ATTACH;FMTTYPE=image/png:https://www.globalatlanta.com/wp-content/uploads/Untitled-1000-x-750-px-5.png
END:VEVENT
BEGIN:VEVENT
DTSTART;TZID=America/New_York:20260915T090000
DTEND;TZID=America/New_York:20260915T130000
DTSTAMP:20260423T224743
CREATED:20260304T221428Z
LAST-MODIFIED:20260304T221432Z
UID:10041110-1789462800-1789477200@www.globalatlanta.com
SUMMARY:Southeast Georgia Global Business Summit
DESCRIPTION:The World Trade Center Savannah and the Georgia District Export Council proudly present the Second Annual Southeast Georgia Global Business Summit\, a premier half-day forum designed to advance the conversation on international trade\, innovation\, and economic opportunity. \n\n\n\nThis year’s Summit brings together global executives\, regional leaders\, exporters\, and policymakers to explore the future of international commerce\, from supply chain evolution and technology integration to market diversification and sustainable growth. \n\n\n\nThis event is your gateway to understanding the forces shaping global business in 2026 and beyond\, and how Georgia’s business community continues to lead as a competitive hub for international trade. \n\n\n\nWhy Attend? \n\n\n\n\nExpert Insights: Gain knowledge from leading business voices\, trade experts\, and international organizations.\n\n\n\nEngaging Dialogue: Participate in discussions on the future of global commerce.\n\n\n\nNetworking Opportunities: Connect with industry leaders\, experienced exporters\, and international business stakeholders.\n\n\n\n\n\n\n\nRegister
URL:https://www.globalatlanta.com/event/southeast-georgia-global-business-summit/
LOCATION:Georgia Quickstart Advanced Manufacturing Center\, 1500 Pine Meadow Dr\, Pooler\, Georgia\, 31322
CATEGORIES:Business,Economics,Export,Global Affairs,Innovation,Networking,Policy,Supply Chain,Sustainability,Technology,Trade
ATTACH;FMTTYPE=image/jpeg:https://www.globalatlanta.com/wp-content/uploads/Event-Calendar-Logos-72.jpg
END:VEVENT
END:VCALENDAR