BEGIN:VCALENDAR
VERSION:2.0
PRODID:-//Global Atlanta - ECPv6.15.20//NONSGML v1.0//EN
CALSCALE:GREGORIAN
METHOD:PUBLISH
X-WR-CALNAME:Global Atlanta
X-ORIGINAL-URL:https://www.globalatlanta.com
X-WR-CALDESC:Events for Global Atlanta
REFRESH-INTERVAL;VALUE=DURATION:PT1H
X-Robots-Tag:noindex
X-PUBLISHED-TTL:PT1H
BEGIN:VTIMEZONE
TZID:America/New_York
BEGIN:DAYLIGHT
TZOFFSETFROM:-0500
TZOFFSETTO:-0400
TZNAME:EDT
DTSTART:20250309T070000
END:DAYLIGHT
BEGIN:STANDARD
TZOFFSETFROM:-0400
TZOFFSETTO:-0500
TZNAME:EST
DTSTART:20251102T060000
END:STANDARD
BEGIN:DAYLIGHT
TZOFFSETFROM:-0500
TZOFFSETTO:-0400
TZNAME:EDT
DTSTART:20260308T070000
END:DAYLIGHT
BEGIN:STANDARD
TZOFFSETFROM:-0400
TZOFFSETTO:-0500
TZNAME:EST
DTSTART:20261101T060000
END:STANDARD
BEGIN:DAYLIGHT
TZOFFSETFROM:-0500
TZOFFSETTO:-0400
TZNAME:EDT
DTSTART:20270314T070000
END:DAYLIGHT
BEGIN:STANDARD
TZOFFSETFROM:-0400
TZOFFSETTO:-0500
TZNAME:EST
DTSTART:20271107T060000
END:STANDARD
END:VTIMEZONE
BEGIN:VEVENT
DTSTART;TZID=America/New_York:20260424T181500
DTEND;TZID=America/New_York:20260424T181500
DTSTAMP:20260424T001907
CREATED:20260420T205655Z
LAST-MODIFIED:20260420T205657Z
UID:10041203-1777054500-1777054500@www.globalatlanta.com
SUMMARY:Atlanta-Berlin FashionXChange: A Transatlantic Showcase of Sustainable Design
DESCRIPTION:As part of Atlanta Sustainable Fashion Week\, this public-facing event highlights the international dimension of the city’s growing fashion ecosystem\, bringing together creative voices from Atlanta and Berlin in a collaborative student exhibition and runway experience. \n\n\n\nHeld on April 24\, the FashionXChange Atlanta-Berlin Student Exhibition features emerging designers presenting work shaped by sustainability\, circular design\, and cross-cultural exchange. The evening includes a VIP cocktail hour and networking opportunity\, followed by a student showcase and runway show that reflects the next generation of global fashion innovation. \n\n\n\nThe program underscores the growing connection between Atlanta and Berlin’s creative communities\, offering attendees a chance to engage with international talent and ideas at the intersection of culture\, design\, and sustainability.  \n\n\n\n\n\n\nGet Tickets\n\n\n\n\n\n\n\nDownload Flyer
URL:https://www.globalatlanta.com/event/atlanta-berlin-fashionxchange-a-transatlantic-showcase-of-sustainable-design/
LOCATION:1200 White Street SW\, 1200 White Street SW\, Suite 4020\, Atlanta\, Georgia\, United States
CATEGORIES:Culture,Fashion,Germany,Sustainability
ATTACH;FMTTYPE=image/png:https://www.globalatlanta.com/wp-content/uploads/Untitled-1000-x-750-px-5.png
END:VEVENT
END:VCALENDAR