BEGIN:VCALENDAR
VERSION:2.0
PRODID:-//Global Atlanta - ECPv6.15.20//NONSGML v1.0//EN
CALSCALE:GREGORIAN
METHOD:PUBLISH
X-ORIGINAL-URL:https://www.globalatlanta.com
X-WR-CALDESC:Events for Global Atlanta
REFRESH-INTERVAL;VALUE=DURATION:PT1H
X-Robots-Tag:noindex
X-PUBLISHED-TTL:PT1H
BEGIN:VTIMEZONE
TZID:America/New_York
BEGIN:DAYLIGHT
TZOFFSETFROM:-0500
TZOFFSETTO:-0400
TZNAME:EDT
DTSTART:20250309T070000
END:DAYLIGHT
BEGIN:STANDARD
TZOFFSETFROM:-0400
TZOFFSETTO:-0500
TZNAME:EST
DTSTART:20251102T060000
END:STANDARD
BEGIN:DAYLIGHT
TZOFFSETFROM:-0500
TZOFFSETTO:-0400
TZNAME:EDT
DTSTART:20260308T070000
END:DAYLIGHT
BEGIN:STANDARD
TZOFFSETFROM:-0400
TZOFFSETTO:-0500
TZNAME:EST
DTSTART:20261101T060000
END:STANDARD
BEGIN:DAYLIGHT
TZOFFSETFROM:-0500
TZOFFSETTO:-0400
TZNAME:EDT
DTSTART:20270314T070000
END:DAYLIGHT
BEGIN:STANDARD
TZOFFSETFROM:-0400
TZOFFSETTO:-0500
TZNAME:EST
DTSTART:20271107T060000
END:STANDARD
END:VTIMEZONE
BEGIN:VEVENT
DTSTART;TZID=America/New_York:20260513T120000
DTEND;TZID=America/New_York:20260513T130000
DTSTAMP:20260424T103055
CREATED:20260420T232954Z
LAST-MODIFIED:20260420T232956Z
UID:10041205-1778673600-1778677200@www.globalatlanta.com
SUMMARY:Webinar: Financial Planning Strategies for Americans and Franco-Americans Moving to France
DESCRIPTION:For individuals and families living between the United States and France\, financial planning can quickly become complex. This webinar\, hosted by the French American Chamber of Commerce Atlanta-Southeast\, offers a practical guide to aligning financial strategies across two distinct tax\, legal\, and regulatory systems\, helping participants turn cross-border challenges into long-term opportunities.  \n\n\n\nLed by experts from Cerity Partners\, the session outlines key strategies for managing wealth internationally\, including tax residency planning\, cross-border investing\, retirement coordination\, and estate structuring. Participants will gain insight into how to minimize tax exposure\, remain compliant with both U.S. and French regulations\, and make informed financial decisions that support stability and growth. \n\n\n\nDesigned for globally mobile professionals\, dual nationals\, and families with ties to both countries\, the program provides actionable guidance to help protect and grow wealth while navigating life across borders.  \n\n\n\n\n\n\nRegister\n\n\n\n\n\n\n\nDownload Flyer
URL:https://www.globalatlanta.com/event/webinar-financial-planning-strategies-for-americans-and-franco-americans-moving-to-france/
LOCATION:Virtual
CATEGORIES:Finance,France,Tax,Webinar
ATTACH;FMTTYPE=image/jpeg:https://www.globalatlanta.com/wp-content/uploads/Event-Calendar-Logos-2026-04-20T191504.792.jpg
END:VEVENT
END:VCALENDAR