BEGIN:VCALENDAR
VERSION:2.0
PRODID:-//Global Atlanta - ECPv6.15.20//NONSGML v1.0//EN
CALSCALE:GREGORIAN
METHOD:PUBLISH
X-ORIGINAL-URL:https://www.globalatlanta.com
X-WR-CALDESC:Events for Global Atlanta
REFRESH-INTERVAL;VALUE=DURATION:PT1H
X-Robots-Tag:noindex
X-PUBLISHED-TTL:PT1H
BEGIN:VTIMEZONE
TZID:America/New_York
BEGIN:DAYLIGHT
TZOFFSETFROM:-0500
TZOFFSETTO:-0400
TZNAME:EDT
DTSTART:20210314T070000
END:DAYLIGHT
BEGIN:STANDARD
TZOFFSETFROM:-0400
TZOFFSETTO:-0500
TZNAME:EST
DTSTART:20211107T060000
END:STANDARD
BEGIN:DAYLIGHT
TZOFFSETFROM:-0500
TZOFFSETTO:-0400
TZNAME:EDT
DTSTART:20220313T070000
END:DAYLIGHT
BEGIN:STANDARD
TZOFFSETFROM:-0400
TZOFFSETTO:-0500
TZNAME:EST
DTSTART:20221106T060000
END:STANDARD
BEGIN:DAYLIGHT
TZOFFSETFROM:-0500
TZOFFSETTO:-0400
TZNAME:EDT
DTSTART:20230312T070000
END:DAYLIGHT
BEGIN:STANDARD
TZOFFSETFROM:-0400
TZOFFSETTO:-0500
TZNAME:EST
DTSTART:20231105T060000
END:STANDARD
END:VTIMEZONE
BEGIN:VEVENT
DTSTART;TZID=America/New_York:20221006T090000
DTEND;TZID=America/New_York:20221006T120000
DTSTAMP:20260423T105814
CREATED:20221006T135426Z
LAST-MODIFIED:20221006T135426Z
UID:10007089-1665046800-1665057600@www.globalatlanta.com
SUMMARY:GIACC Atlanta Trade Event 2022
DESCRIPTION:The Georgia Indo-American Chamber of Commerce (GIACC)\, in collaboration with Gwinnett Chamber of Commerce\, IACC (Indo-American Chamber of Commerce)\, India\, and CODISSIA\, India\, is proud to present GIACC Atlanta Trade Event 2022 (GATE 2022) for the first time on October 6 (Thu)\, 2022\, at the Gwinnett Chamber Office Building\, next to Gas South Arena\, Duluth GA. \n  \nSpeaker Lineup: \nUS Senior Senator Jon Ossoff\, leadership from Georgia Governors’ Economic Development Council and Consul General of India\, Atlanta Office\, are some of the key people who’ll be participating in GATE 2022 in person at Atlanta GA. \nSeveral trade associations\, banks and law firms are expected to participate in-person at Atlanta GA. IACC (Indo-American Chamber of Commerce) Mumbai Chapter\, Chennai Chapter and other manufacturing organizations in India will participate in the event live via Zoom meeting.
URL:https://www.globalatlanta.com/event/giacc-atlanta-trade-event-2022/
LOCATION:Gwinnett Chamber of Commerce\, 6500 Sugarloaf Pkwy\, Duluth\, GA\, 30097\, United States
CATEGORIES:Trade
ATTACH;FMTTYPE=image/jpeg:https://www.globalatlanta.com/wp-content/uploads/GIACC-2015-2.jpg
GEO:33.9923995;-84.0918882
X-APPLE-STRUCTURED-LOCATION;VALUE=URI;X-ADDRESS=Gwinnett Chamber of Commerce 6500 Sugarloaf Pkwy Duluth GA 30097 United States;X-APPLE-RADIUS=500;X-TITLE=6500 Sugarloaf Pkwy:geo:-84.0918882,33.9923995
END:VEVENT
END:VCALENDAR