BEGIN:VCALENDAR
VERSION:2.0
PRODID:-//Global Atlanta - ECPv6.15.20//NONSGML v1.0//EN
CALSCALE:GREGORIAN
METHOD:PUBLISH
X-WR-CALNAME:Global Atlanta
X-ORIGINAL-URL:https://www.globalatlanta.com
X-WR-CALDESC:Events for Global Atlanta
REFRESH-INTERVAL;VALUE=DURATION:PT1H
X-Robots-Tag:noindex
X-PUBLISHED-TTL:PT1H
BEGIN:VTIMEZONE
TZID:America/New_York
BEGIN:DAYLIGHT
TZOFFSETFROM:-0500
TZOFFSETTO:-0400
TZNAME:EDT
DTSTART:20220313T070000
END:DAYLIGHT
BEGIN:STANDARD
TZOFFSETFROM:-0400
TZOFFSETTO:-0500
TZNAME:EST
DTSTART:20221106T060000
END:STANDARD
BEGIN:DAYLIGHT
TZOFFSETFROM:-0500
TZOFFSETTO:-0400
TZNAME:EDT
DTSTART:20230312T070000
END:DAYLIGHT
BEGIN:STANDARD
TZOFFSETFROM:-0400
TZOFFSETTO:-0500
TZNAME:EST
DTSTART:20231105T060000
END:STANDARD
BEGIN:DAYLIGHT
TZOFFSETFROM:-0500
TZOFFSETTO:-0400
TZNAME:EDT
DTSTART:20240310T070000
END:DAYLIGHT
BEGIN:STANDARD
TZOFFSETFROM:-0400
TZOFFSETTO:-0500
TZNAME:EST
DTSTART:20241103T060000
END:STANDARD
END:VTIMEZONE
BEGIN:VEVENT
DTSTART;TZID=America/New_York:20230216T000000
DTEND;TZID=America/New_York:20230222T235959
DTSTAMP:20260423T130020
CREATED:20220803T150121Z
LAST-MODIFIED:20220803T150121Z
UID:10007014-1676505600-1677110399@www.globalatlanta.com
SUMMARY:Gwinnett Chamber Chairman’s Club: Embark Program
DESCRIPTION:An exclusive travel program of the Gwinnett Chamber Chairman’s Club\, EMBARK provides the opportunity to take once-in-a-lifetime excursions with C-level executives. This year’s top-tier program will feature United Arab Emirates and India. \n  \nMembership in the Chairman’s Club of the Gwinnett Chamber is preferred for registrants. To learn more about joining as a member\, contact Avery Jarrard at ajarrard@gwinnettchamber.org. \n  \nTrip dates: \nDubai & Abu Dhabi\, UAE | February 16 – February 20\, 2022\nDelhi & Agra\, India | February 20 – February 22\, 2022 \n  \nItinerary Highlights: \nDubai & Abu Dhabi\, UAE \nMuseum of the Future \n\nLocated in the Financial District of Dubai\, the museum is an exhibition space for innovative and futuristic ideologies\, services\, and products.\n\nDesert Safari Experience \n\nDiscover the magic of the Dubai Desert by experiencing dune-bashing\, camel riding\, and a delicious BBQ dinner.\n\nBurj Khalifa \n\nTake a trip to the 124th floor of the tallest tower in the world and one of the top attractions in Dubai.\n\nDubai Miracle Garden \n\nEnjoy the world’s largest natural flower garden with a variety of exciting attractions.\n\nSheikh Zayed Grand Mosque  \n\nTour the largest mosque in the country\, the key place of worship for daily prayers. Admire the white marble courtyards and prayer rooms of this vast\, modern masterpiece.\n\nDubai Dinner Cruise  \n\nExperience breathtaking views of the Marina Promenade while dining on a wide array of continental and exotic dishes.\n\nAbu Dhabi City Tour \n\nExplore Abu Dhabi\, the largest city of the UAE\, with this guided tour.\n\nEmirati Dinner Experience \n\nAuthentic Emirati cuisine at the local Sabaa Café with a storytelling session by the Emiratis.\n\nDubai City Tour \n\nTour the Gold & Spice Markets and enjoy an Abra Ride\, one of the quaintest and low-key ways to get a feel for life in Dubai.\n\n  \nDelhi & Agra\, India \nTaj Mahal \n\nThe jewel of Muslim art in India and one of the universally admired masterpieces of the world’s heritage.\n\nLunch at Jaypee Palace Hotel \n\nStep inside the largest hotel in Agra and the hustle and bustle of Agra dissipates.\n\nAgra Fort \n\nLearn firsthand the history of this 16th-century fortress of red sandstone\, located on the Yamuna River.\n\nHigh Tea at Taj Khema \n\nTake in the beautiful gardens overlooking the Taj Mahal.\n\nLotus Temple \n\nIts beautiful flower-like architecture and marvelous ambiance make it a popular tourist attraction for people of all faiths.\n\nIndia Gate  \n\nThe iconic arch gate made using sandstone\, is a war memorial situated in the Rajpath area\, Delhi.
URL:https://www.globalatlanta.com/event/gwinnett-chamber-chairmans-club-embark-program/
CATEGORIES:Business,Travel
ATTACH;FMTTYPE=image/png:https://www.globalatlanta.com/wp-content/uploads/gcoc_retina_logo.png
END:VEVENT
END:VCALENDAR