BEGIN:VCALENDAR
VERSION:2.0
PRODID:-//Global Atlanta - ECPv6.15.20//NONSGML v1.0//EN
CALSCALE:GREGORIAN
METHOD:PUBLISH
X-ORIGINAL-URL:https://www.globalatlanta.com
X-WR-CALDESC:Events for Global Atlanta
REFRESH-INTERVAL;VALUE=DURATION:PT1H
X-Robots-Tag:noindex
X-PUBLISHED-TTL:PT1H
BEGIN:VTIMEZONE
TZID:America/New_York
BEGIN:DAYLIGHT
TZOFFSETFROM:-0500
TZOFFSETTO:-0400
TZNAME:EDT
DTSTART:20220313T070000
END:DAYLIGHT
BEGIN:STANDARD
TZOFFSETFROM:-0400
TZOFFSETTO:-0500
TZNAME:EST
DTSTART:20221106T060000
END:STANDARD
BEGIN:DAYLIGHT
TZOFFSETFROM:-0500
TZOFFSETTO:-0400
TZNAME:EDT
DTSTART:20230312T070000
END:DAYLIGHT
BEGIN:STANDARD
TZOFFSETFROM:-0400
TZOFFSETTO:-0500
TZNAME:EST
DTSTART:20231105T060000
END:STANDARD
BEGIN:DAYLIGHT
TZOFFSETFROM:-0500
TZOFFSETTO:-0400
TZNAME:EDT
DTSTART:20240310T070000
END:DAYLIGHT
BEGIN:STANDARD
TZOFFSETFROM:-0400
TZOFFSETTO:-0500
TZNAME:EST
DTSTART:20241103T060000
END:STANDARD
END:VTIMEZONE
BEGIN:VEVENT
DTSTART;TZID=America/New_York:20230318T000000
DTEND;TZID=America/New_York:20230325T235959
DTSTAMP:20260419T232005
CREATED:20221025T050248Z
LAST-MODIFIED:20221025T050248Z
UID:10007109-1679097600-1679788799@www.globalatlanta.com
SUMMARY:Alliance Française Atlanta: French Immersion in Martinique
DESCRIPTION:Join Alliance Française Atlanta director\, Dr. Richard Keatley and other Alliance Française Atlanta members for a week of fun — and français — in the sun. The French-immersion trip combines culture and fun this coming March on the beautiful island of Martinique. \nExcursions include:\n\nFort-de-France Differently\nFlowery Escapade\nDistillery Saint James\nHistorical Outing\n\n\nA part of the lesser Antilles\, in the Caribbean sea\, Martinique is also an integral part of the French Republic and the ideal location for the Alliance Française Atlanta 2022 Trip. This all-inclusive trip at the Buccaneers Resort will allow you to discover the charm and heritage of this Caribbean gem with trips to Fort-de-France\, the Madinina\, “Island of Flowers\,” as well as historical tours of the island\, sports\, recreation\, afternoon French conversation and more.\nAlliance Française Atlanta Membership Required.
URL:https://www.globalatlanta.com/event/alliance-francaise-atlanta-french-immersion-in-martinique/
CATEGORIES:Culture,Language,Travel
ATTACH;FMTTYPE=image/png:https://www.globalatlanta.com/wp-content/uploads/Alliance-Française-dAtlanta-Logo-2.png
ORGANIZER;CN="Alliance Fran%C3%A7aise":MAILTO:info@afatl.com
END:VEVENT
BEGIN:VEVENT
DTSTART;TZID=America/New_York:20230325T100000
DTEND;TZID=America/New_York:20230326T170000
DTSTAMP:20260419T232005
CREATED:20230303T193233Z
LAST-MODIFIED:20230303T193233Z
UID:10038447-1679738400-1679850000@www.globalatlanta.com
SUMMARY:Atlanta Travel & Adventure Show
DESCRIPTION:Looking to make your travel plans for 2023 but don’t know where to start? \nMake the first stop on your next trip the Atlanta Travel & Adventure Show! You’ll discover the hottest destinations and travel options for 2023\, meet directly with the representatives who can plan your trip\, and stretch your travel dollar with tens of thousands of dollars in show-only deals and specials. \nThe top travel personalities from around the world are all ready to meet you\, and give you the insider information you need to travel in 2023 and beyond. \nYou’ll meet Andrew McCarthy\, Peter Greenberg\, and Pauline Frommer as they provide the most up-to-date travel advice that you won’t be able to find anywhere else. \nPlus\, with dozens of educational and informational seminars taking place on 3 other on-floor theaters\, you’ll learn actionable advice from the brightest minds from around the globe.
URL:https://www.globalatlanta.com/event/atlanta-travel-adventure-show/
LOCATION:Cobb Galleria Centre\,  2 Galleria Pkwy SE\, Atlanta\, GA\, 30339
CATEGORIES:Travel
ATTACH;FMTTYPE=image/png:https://www.globalatlanta.com/wp-content/uploads/Screen-Shot-2023-03-03-at-2.32.09-PM.png
GEO:33.8835141;-84.4655017
X-APPLE-STRUCTURED-LOCATION;VALUE=URI;X-ADDRESS=Cobb Galleria Centre  2 Galleria Pkwy SE Atlanta GA 30339;X-APPLE-RADIUS=500;X-TITLE=2 Galleria Pkwy SE:geo:-84.4655017,33.8835141
END:VEVENT
END:VCALENDAR