BEGIN:VCALENDAR
VERSION:2.0
PRODID:-//Global Atlanta - ECPv6.15.20//NONSGML v1.0//EN
CALSCALE:GREGORIAN
METHOD:PUBLISH
X-ORIGINAL-URL:https://www.globalatlanta.com
X-WR-CALDESC:Events for Global Atlanta
REFRESH-INTERVAL;VALUE=DURATION:PT1H
X-Robots-Tag:noindex
X-PUBLISHED-TTL:PT1H
BEGIN:VTIMEZONE
TZID:America/New_York
BEGIN:DAYLIGHT
TZOFFSETFROM:-0500
TZOFFSETTO:-0400
TZNAME:EDT
DTSTART:20140309T070000
END:DAYLIGHT
BEGIN:STANDARD
TZOFFSETFROM:-0400
TZOFFSETTO:-0500
TZNAME:EST
DTSTART:20141102T060000
END:STANDARD
BEGIN:DAYLIGHT
TZOFFSETFROM:-0500
TZOFFSETTO:-0400
TZNAME:EDT
DTSTART:20150308T070000
END:DAYLIGHT
BEGIN:STANDARD
TZOFFSETFROM:-0400
TZOFFSETTO:-0500
TZNAME:EST
DTSTART:20151101T060000
END:STANDARD
BEGIN:DAYLIGHT
TZOFFSETFROM:-0500
TZOFFSETTO:-0400
TZNAME:EDT
DTSTART:20160313T070000
END:DAYLIGHT
BEGIN:STANDARD
TZOFFSETFROM:-0400
TZOFFSETTO:-0500
TZNAME:EST
DTSTART:20161106T060000
END:STANDARD
END:VTIMEZONE
BEGIN:VEVENT
DTSTART;TZID=America/New_York:20150915T093000
DTEND;TZID=America/New_York:20150915T093000
DTSTAMP:20260424T215647
CREATED:20150617T105921Z
LAST-MODIFIED:20150617T105921Z
UID:10035808-1442309400-1442309400@www.globalatlanta.com
SUMMARY:13th Annual Golf Tournament
DESCRIPTION:The Netherlands American Chamber of Commerce would like to invite you to participate in our Annual Golf Tournament Tuesday September 15th 2015. \nSPONSOR A HOLE! It’s a great way to increase your company visibility and exposure\, you will be mentioned on communication\, get signage at the hole and you can bring your banner or other promotional material! \nDon’t miss out on this great networking sports event and reserve your spot now! \nClick here to register and/or sponsor.  \nFor more information\, do not hesitate to contact the directors at info@naccse.org. \n 
URL:https://www.globalatlanta.com/event/13th-annual-golf-tournament/
LOCATION:The Frog at the Georgian\, 2699 Georgian Parkway\, Villa Ricca\, GA\, 30180
CATEGORIES:Communities
GEO:33.796476;-84.924447
X-APPLE-STRUCTURED-LOCATION;VALUE=URI;X-ADDRESS=The Frog at the Georgian 2699 Georgian Parkway Villa Ricca GA 30180;X-APPLE-RADIUS=500;X-TITLE=2699 Georgian Parkway:geo:-84.924447,33.796476
END:VEVENT
BEGIN:VEVENT
DTSTART;TZID=America/New_York:20150917T170000
DTEND;TZID=America/New_York:20150917T170000
DTSTAMP:20260424T215647
CREATED:20150812T153623Z
LAST-MODIFIED:20150812T153623Z
UID:10035844-1442509200-1442509200@www.globalatlanta.com
SUMMARY:AMA Meet & Greet - Art Pruett
DESCRIPTION:Key Note Speaker: Art Pruett\, VP\, Cargo Sales\, South Carolina Port Authority \nMeet & Greet\, Dinner\, table discussions and key note speaker round out this great forum. \nAtlantaMaritimeAssociation.com \nMembers: $65.00  Non Members: $80.00  (2-drink reservation ticket)
URL:https://www.globalatlanta.com/event/ama-meet-greet-art-pruett/
LOCATION:Crowne Plaza Midtown\, 590 West Peachtree St. NW\, Atlanta\, GA\, 30308
CATEGORIES:Business
GEO:33.770221;-84.388165
X-APPLE-STRUCTURED-LOCATION;VALUE=URI;X-ADDRESS=Crowne Plaza Midtown 590 West Peachtree St. NW Atlanta GA 30308;X-APPLE-RADIUS=500;X-TITLE=590 West Peachtree St. NW:geo:-84.388165,33.770221
END:VEVENT
BEGIN:VEVENT
DTSTART;TZID=America/New_York:20150919T090000
DTEND;TZID=America/New_York:20150919T090000
DTSTAMP:20260424T215647
CREATED:20150611T201815Z
LAST-MODIFIED:20150611T201815Z
UID:10035807-1442653200-1442653200@www.globalatlanta.com
SUMMARY:JapanFest 2015
DESCRIPTION:JapanFest invites you to become a promotional partner in elevating the awareness of your business as a sponsor and/or a ticket package purchaser. \nSponsoring the festival will elevate the awareness of your business within the Japanese and American communities\, while purchasing a ticket package will provide your employees\, clients\, family\, and friends with the opportunity to experience Japan’s unique culture at JapanFest 2015. \nIf you have any questions about the application\, please contact: sendmail@japanfest.org. JapanFest is looking forward to having an exciting festival together! \nTo register as a sponsor or to purchase tickets\, click here.
URL:https://www.globalatlanta.com/event/japanfest-2015/
LOCATION:Gwinnett Center\,  6400 Sugarloaf Pkwy\, Duluth\, GA\, 30097
CATEGORIES:Business
GEO:33.9914472;-84.0940303
X-APPLE-STRUCTURED-LOCATION;VALUE=URI;X-ADDRESS=Gwinnett Center  6400 Sugarloaf Pkwy Duluth GA 30097;X-APPLE-RADIUS=500;X-TITLE=6400 Sugarloaf Pkwy:geo:-84.0940303,33.9914472
END:VEVENT
BEGIN:VEVENT
DTSTART;TZID=America/New_York:20150921T180000
DTEND;TZID=America/New_York:20150921T200000
DTSTAMP:20260424T215647
CREATED:20150901T151645Z
LAST-MODIFIED:20150901T151645Z
UID:10035874-1442858400-1442865600@www.globalatlanta.com
SUMMARY:Global Goals Celebration
DESCRIPTION:Join the Center for an interfaith event to honor the ratification of the United Nations’ New Sustainable Development Goals. The evening will consist of a panel featuring 3-4 speakers to explore how these new goals align with The Center’s mission to take the protection of every human’s rights personally. \nOn September 25\, 2015\, the Global Goals will replace the Millennium Development Goals as a new\, universal set of targets and indicators that will guide country agendas and political priorities over the next 15 years in tackling the most urgent issues of our time-poverty and inequality.  \nEvent is free.
URL:https://www.globalatlanta.com/event/global-goals-celebration/
CATEGORIES:Communities
END:VEVENT
BEGIN:VEVENT
DTSTART;TZID=America/New_York:20150922T080000
DTEND;TZID=America/New_York:20150922T140000
DTSTAMP:20260424T215647
CREATED:20150821T171234Z
LAST-MODIFIED:20150821T171234Z
UID:10035846-1442908800-1442930400@www.globalatlanta.com
SUMMARY:German American Bioenergy Conference
DESCRIPTION:The GACC South will host the “German American Bioenergy Conference” on September 22\, 2015. The event aims to present the current state and progress of the bioenergy sector in both countries (in the U.S.\, specifically in the Southeast). It will also showcase best practice examples of the industry in both countries\, highlight local projects and provide a platform to foster the exchange of ideas\, discuss challenges and possible solutions. \nThis conference is funded by the Klimafonds\, a fund designed to support climate protection in the host countries of German embassies and consulates worldwide. \nThe conference will feature the following speakers and presentations: \nPolitics\, Economics\, and Regional Added Value of      Bioenergy in the Framework of the German “Energiewende”      Prof. Dr. Peter Heck\, Institute for Applied Material Flow Management      (IfaS) Trier\, Germany\nBioenergy Development in Georgia—A Forester’s      Perspective			Risher A. Willard\, Chief of Marketing & Utilization\, Georgia Forestry Commission\nPermitting and Financing Your Bioenergy Project      Stephen E. O’Day\, Partner and Head of the Environmental Law and      Sustainability Practices at Smith\, Gambrell & Russell\, LLP\nJacek P. Siry\, PhD\, Professor\, Center for Forest      Business\, Warnell School of Forestry and Natural Resources\, University of      Georgia\n  \nOpening remarks will be held by the German Consul General Detlev Rünger. \nThe audience will also have the opportunity to present questions to the speakers. Coffee\, refreshments and lunch will be provided.
URL:https://www.globalatlanta.com/event/german-american-bioenergy-conference/
CATEGORIES:Business
END:VEVENT
BEGIN:VEVENT
DTSTART;TZID=America/New_York:20150922T080000
DTEND;TZID=America/New_York:20150922T143000
DTSTAMP:20260424T215647
CREATED:20150821T181132Z
LAST-MODIFIED:20150821T181132Z
UID:10035848-1442908800-1442932200@www.globalatlanta.com
SUMMARY:Export Compliance\, Documentation & Procedures Seminar
DESCRIPTION:This course is for export operations personnel requiring the basic knowledge of exports. Join us for a review of very important issues on global trade. Members will learn key trigger points to gain a competitive advantage in export operations. Topics include: \nExport Compliance Management\nManaging Export Documents\nIncoterms\nNAFTA – Rules of Origin\nLetter of Credit\nHTS – Schedule B Classification\nRecord Keeping\nDenied Party Screening\n  \n$30.00 for WTC Atlanta Members\, $40 for Non-WTC Atlanta Members. Includes program\, snacks\, beverages\, deli lunch buffet\, tax\, gratuity and parking.  Please RSVP here.
URL:https://www.globalatlanta.com/event/export-compliance-documentation-procedures-seminar/
CATEGORIES:Business
END:VEVENT
BEGIN:VEVENT
DTSTART;TZID=America/New_York:20150922T173000
DTEND;TZID=America/New_York:20150922T200000
DTSTAMP:20260424T215647
CREATED:20150803T123747Z
LAST-MODIFIED:20150803T123747Z
UID:10035838-1442943000-1442952000@www.globalatlanta.com
SUMMARY:Film Screening: Mr. Deng Goes to Washington
DESCRIPTION:The documentary Mr. Deng Goes to Washington tells the story of Deng Xiaoping’s visit to the U.S. in early 1979 at the invitation of President Carter. It was released commercially in China in May. In addition to having grossed over several million USD in ticket sales\, the film has also received accolades from both the film critics and international relations scholars in China. \nThe Jimmy Carter Presidential Library will show the documentary. The award-winning director\, Mr.Fu Hongxing\, will travel to Atlanta to join the discussion after the film screening with some U.S.-China experts on the significance of Deng’s visit and how the U.S.-China relationship has reached a critical moment. The discussion will also highlight one of President Carter’s most enduring legacies as well as the Center’s ongoing work to put the bilateral relations on a stronger foundation. \nTo sign up\, click here. 
URL:https://www.globalatlanta.com/event/film-screening-mr-deng-goes-to-washington/
LOCATION:Jimmy Carter Library and Museum\, 441 Freedom Parkway NE\, Atlanta\, GA\, 30307
CATEGORIES:Diplomacy
GEO:33.7664571;-84.3562403
X-APPLE-STRUCTURED-LOCATION;VALUE=URI;X-ADDRESS=Jimmy Carter Library and Museum 441 Freedom Parkway NE Atlanta GA 30307;X-APPLE-RADIUS=500;X-TITLE=441 Freedom Parkway NE:geo:-84.3562403,33.7664571
END:VEVENT
BEGIN:VEVENT
DTSTART;TZID=America/New_York:20150923T103000
DTEND;TZID=America/New_York:20150923T120000
DTSTAMP:20260424T215647
CREATED:20150829T140730Z
LAST-MODIFIED:20150829T140730Z
UID:10035862-1443004200-1443009600@www.globalatlanta.com
SUMMARY:Lunch and Learn: The Language of Conflict
DESCRIPTION:The Atlantic Institute and Go Eat Give are excited to announce a series of speakers and panel discussion to raise awareness of intercultural beliefs around the world. The fourth event of the series will host a panel of esteemed speakers to discuss how everyday people can talk about conflict without being offensive to other cultures\, religious and political beliefs.  \nThe Panelists Include: \nHrair Balian\, Director of Conflict Resolution program at The Carter Center. Hrair Balian has served as the Director since 2008.\nDr. Mustafa Gokhan Sahin\, Director of Academic Affairs at Atlantic Institute Atlanta. Dr Mustafa Gokhan Sahin has served as Director of Academic Affairs for over 3 years. \nAbbas Barzegar\, Ph.D. Assistant Professor\, Department of Religious Studies at Georgia State University. Abbas Barzegar’s specializes in Sunni-Shiite polemics\, political Islam and African American Muslim history.\nLance R. Askildson\, Ph.D. Vice-Provost & Chief International Officer at Kennesaw State University. Dr. Lance R. Askildson has served as the Vice-Provost and Chief International Officer at Kennesaw State University since 2013. \n  \nTicket includes light lunch and presentation. $10 in advance\, $20 at the door. 
URL:https://www.globalatlanta.com/event/lunch-and-learn-the-language-of-conflict/
LOCATION:The Atlantic Institute\, 1349 West Peachtree St NW\, Suite #1010\, Atlanta\, GA\, 30309
CATEGORIES:Culture
GEO:33.7915157;-84.3874923
X-APPLE-STRUCTURED-LOCATION;VALUE=URI;X-ADDRESS=The Atlantic Institute 1349 West Peachtree St NW Suite #1010 Atlanta GA 30309;X-APPLE-RADIUS=500;X-TITLE=1349 West Peachtree St NW\, Suite #1010:geo:-84.3874923,33.7915157
END:VEVENT
BEGIN:VEVENT
DTSTART;TZID=America/New_York:20150924T090000
DTEND;TZID=America/New_York:20150924T120000
DTSTAMP:20260424T215647
CREATED:20150825T165155Z
LAST-MODIFIED:20150825T165155Z
UID:10035858-1443085200-1443096000@www.globalatlanta.com
SUMMARY:UPS Aerospace Visit
DESCRIPTION:Georgia Distribution Center was established in 2004. The company has 120 UPS employees and 8 Pratt & Whitney employees. \nThe Facility is a 246\,000 square feet space and is located in Atlanta\, 10-minute access to Hartsfield-Jackson Atlanta International Airport. This platform processes over 1\,100 orders per day which are shipped worldwide.  \nAgenda: \n10:00am: Arrival at UPS Georgia Distribution Center & Security Check-in\n10:15am: Introduction\n10:30am – 12:00am: GDC Tour & Q/A\n12:00pm – 1pm: Lunch & networking\n1pm:  Departure from UPS Georgia Distribution Center\n  \n20 slots available. Register here. $20 Members; $30 Non-members
URL:https://www.globalatlanta.com/event/ups-aerospace-visit/
CATEGORIES:Business
END:VEVENT
BEGIN:VEVENT
DTSTART;TZID=America/New_York:20150924T150000
DTEND;TZID=America/New_York:20150924T150000
DTSTAMP:20260424T215647
CREATED:20150825T170705Z
LAST-MODIFIED:20150825T170705Z
UID:10035860-1443106800-1443106800@www.globalatlanta.com
SUMMARY:Behind the Scenes at TomorrowWorld
DESCRIPTION:Join the Belgian American Chamber of the South and Carl Bouckaert to the special Behind the Scenes tour at TomorrowWorld 2015. \nThey offter a one of a kind look behind the scenes of the most extraordinary festival around the world less han 24 hours before it opens its gates to thousands of people. \nThe tour ends at “the Gathering” where you get to experience the festival first hand. \nNotes: 21+ only\, Wear appropriate footwear for outside festival terrain. The event will be held outside rain or shine. \nAdmission: Members $70 ; Non-members $95. Register here.
URL:https://www.globalatlanta.com/event/behind-the-scenes-at-tomorrowworld/
LOCATION:Cedar Grove Community Center\, 9285 Cedar Grove Rd.\, Fairburn\, GA\, 30213
CATEGORIES:Communities
GEO:33.6250714;-84.6844166
X-APPLE-STRUCTURED-LOCATION;VALUE=URI;X-ADDRESS=Cedar Grove Community Center 9285 Cedar Grove Rd. Fairburn GA 30213;X-APPLE-RADIUS=500;X-TITLE=9285 Cedar Grove Rd.:geo:-84.6844166,33.6250714
END:VEVENT
BEGIN:VEVENT
DTSTART;TZID=America/New_York:20150926T100000
DTEND;TZID=America/New_York:20150926T160000
DTSTAMP:20260424T215647
CREATED:20150727T134737Z
LAST-MODIFIED:20150727T134737Z
UID:10035832-1443261600-1443283200@www.globalatlanta.com
SUMMARY:2015 Rice Festival
DESCRIPTION:AARC hosting a cultural event\, Rice Festival on September 26th (Saturday) from 11am to 5pm at Gwinnett Place Mall. \nThe Rice Festival is AARC’s annual cultural and fundraising event that supports cultural awareness and the continued improvement of inter-group relations by sharing the diverse Asian culture with the metro-Atlanta community.  \nThrough Rice Festival\, we delightedly celebrate the Asian American community’s wonderful diversity by a showcase of the tastes\, sounds\, and sights of Asia.  \nFor more information\, contact Esther Yun at esther.yun@aarc-atlanta.org.
URL:https://www.globalatlanta.com/event/2015-rice-festival/
LOCATION:Gwinnett Place Mall\, 2100 Pleasant Hill Rd.\, Duluth\, GA\, 30096
CATEGORIES:Culture
GEO:33.9606402;-84.1256553
X-APPLE-STRUCTURED-LOCATION;VALUE=URI;X-ADDRESS=Gwinnett Place Mall 2100 Pleasant Hill Rd. Duluth GA 30096;X-APPLE-RADIUS=500;X-TITLE=2100 Pleasant Hill Rd.:geo:-84.1256553,33.9606402
END:VEVENT
BEGIN:VEVENT
DTSTART;TZID=America/New_York:20150926T173000
DTEND;TZID=America/New_York:20150926T173000
DTSTAMP:20260424T215647
CREATED:20150901T152516Z
LAST-MODIFIED:20150901T152516Z
UID:10035875-1443288600-1443288600@www.globalatlanta.com
SUMMARY:United for Liberia
DESCRIPTION:You are invited to theUnited For Liberia Gala! Join for this historic inaugural event on September 26\, 2015 at Emory University. \nThis special night will be an exclusive gala experience with Live Entertainment to celebrate and honor those working to bring brighter futures to Liberia. \nReserve your tickets and tables now.
URL:https://www.globalatlanta.com/event/united-for-liberia/
LOCATION:Emory University’s Cox Hall Ballroom\,  569 Asbury Circle\, Atlanta\, GA\, 30322
CATEGORIES:Communities
GEO:33.7915696;-84.3231752
X-APPLE-STRUCTURED-LOCATION;VALUE=URI;X-ADDRESS=Emory University’s Cox Hall Ballroom  569 Asbury Circle Atlanta GA 30322;X-APPLE-RADIUS=500;X-TITLE=569 Asbury Circle:geo:-84.3231752,33.7915696
END:VEVENT
BEGIN:VEVENT
DTSTART;TZID=America/New_York:20150930T075000
DTEND;TZID=America/New_York:20150930T075000
DTSTAMP:20260424T215647
CREATED:20150831T160714Z
LAST-MODIFIED:20150831T160714Z
UID:10035866-1443599400-1443599400@www.globalatlanta.com
SUMMARY:Setting Sail With International Arbitration
DESCRIPTION:A one-day conference celebrating the launch of the Atlanta Center for International Arbitration and Mediation. \nProgram Topics \nBuilding your International Arbitration Practice\nInternational Arbitration in Atlanta\nDrafting and Negotiating Arbitration Clauses\nChoosing the Seat\nSelecting the Rules\nLimitations on Arbitration Agreements\nPreserving the Right to Arbitrate\nJurisdictional Challenges\nInterlocutory Relief\nIBA Evidence Rules\nPre-hearing Conferences and Motions\nManaging the Hearing and Post-hearing Procedures\nEnforcing Awards\nFinding and Recovering Assets\nAnnulment of Awards\n  \nRegistration Also Includes \nReception and Tour of Facilities\nFirst Edition Copy of the AtlAS/ACIAM International Dispute Manual\, published by ICLE and an $85 value\, is included in course materials See the Table of Contents>>\n  \nTo register for the conference\, click here.
URL:https://www.globalatlanta.com/event/setting-sail-with-international-arbitration/
LOCATION:Georgia State University College of Law\, 85 Park Place NE\, Atlanta\, GA\, 30303
GEO:33.7571511;-84.3875855
X-APPLE-STRUCTURED-LOCATION;VALUE=URI;X-ADDRESS=Georgia State University College of Law 85 Park Place NE Atlanta GA 30303;X-APPLE-RADIUS=500;X-TITLE=85 Park Place NE:geo:-84.3875855,33.7571511
END:VEVENT
END:VCALENDAR