BEGIN:VCALENDAR
VERSION:2.0
PRODID:-//Global Atlanta - ECPv6.15.20//NONSGML v1.0//EN
CALSCALE:GREGORIAN
METHOD:PUBLISH
X-ORIGINAL-URL:https://www.globalatlanta.com
X-WR-CALDESC:Events for Global Atlanta
REFRESH-INTERVAL;VALUE=DURATION:PT1H
X-Robots-Tag:noindex
X-PUBLISHED-TTL:PT1H
BEGIN:VTIMEZONE
TZID:America/New_York
BEGIN:DAYLIGHT
TZOFFSETFROM:-0500
TZOFFSETTO:-0400
TZNAME:EDT
DTSTART:20160313T070000
END:DAYLIGHT
BEGIN:STANDARD
TZOFFSETFROM:-0400
TZOFFSETTO:-0500
TZNAME:EST
DTSTART:20161106T060000
END:STANDARD
BEGIN:DAYLIGHT
TZOFFSETFROM:-0500
TZOFFSETTO:-0400
TZNAME:EDT
DTSTART:20170312T070000
END:DAYLIGHT
BEGIN:STANDARD
TZOFFSETFROM:-0400
TZOFFSETTO:-0500
TZNAME:EST
DTSTART:20171105T060000
END:STANDARD
BEGIN:DAYLIGHT
TZOFFSETFROM:-0500
TZOFFSETTO:-0400
TZNAME:EDT
DTSTART:20180311T070000
END:DAYLIGHT
BEGIN:STANDARD
TZOFFSETFROM:-0400
TZOFFSETTO:-0500
TZNAME:EST
DTSTART:20181104T060000
END:STANDARD
BEGIN:DAYLIGHT
TZOFFSETFROM:-0500
TZOFFSETTO:-0400
TZNAME:EDT
DTSTART:20190310T070000
END:DAYLIGHT
BEGIN:STANDARD
TZOFFSETFROM:-0400
TZOFFSETTO:-0500
TZNAME:EST
DTSTART:20191103T060000
END:STANDARD
END:VTIMEZONE
BEGIN:VEVENT
DTSTART;TZID=America/New_York:20181111T150000
DTEND;TZID=America/New_York:20181111T170000
DTSTAMP:20260419T181954
CREATED:20181012T150841Z
LAST-MODIFIED:20181012T150841Z
UID:10036945-1541948400-1541955600@www.globalatlanta.com
SUMMARY:Taste of the World 2018
DESCRIPTION:Come join as Africa’s Children’s Fund is celebrating their 25th Anniversary serving families and children in need. A Taste of the World 2018 is the annual major fundraising event which heralds the works and accomplishments of business and community leaders who have made enormous contributions to the betterment of families and children and the mission of our organization. \n\n\n	From the archive:
URL:https://www.globalatlanta.com/event/taste-of-the-world-2018/
LOCATION:Ramada Plaza by Wyndham Atlanta Downtown Capitol Park\, 450 Capitol Ave SE\, Atlanta\, GA\, 30312\, United States
CATEGORIES:Communities,Food
ATTACH;FMTTYPE=image/jpeg:https://www.globalatlanta.com/wp-content/uploads/africas-children-.jpg
GEO:33.7424841;-84.3864832
X-APPLE-STRUCTURED-LOCATION;VALUE=URI;X-ADDRESS=Ramada Plaza by Wyndham Atlanta Downtown Capitol Park 450 Capitol Ave SE Atlanta GA 30312 United States;X-APPLE-RADIUS=500;X-TITLE=450 Capitol Ave SE:geo:-84.3864832,33.7424841
END:VEVENT
BEGIN:VEVENT
DTSTART;TZID=America/New_York:20171105T150000
DTEND;TZID=America/New_York:20171105T190000
DTSTAMP:20260419T181954
CREATED:20170929T154722Z
LAST-MODIFIED:20170929T154722Z
UID:10037253-1509894000-1509908400@www.globalatlanta.com
SUMMARY:16th Annual Taste of the World Gala
DESCRIPTION:Join the Africa’s Children’s Fund was they host its 16th Annual Taste of the World Gala at the Hyatt Regency Atlanta. Taste of the World is a spectacular display by Atlanta’s premier Chefs and their culinary talents\, featuring delicacies from different regions of the world. The Gala is Africa’s Children’s Fund major fundraising event to support food\, housing\, and educational programs for children and families in need in the metropolitan Atlanta and several countries in Africa \nThe Event includes dinner\, dance\, auction and awards for\noutstanding organization and individuals whose contribution has impacted lives of children in need in the United States and other Countries. \nAll proceeds of Taste of the World will be used to support our emergency food and housing programs for homeless children. Come be part of this great cause. \n\n\n	From the archive:
URL:https://www.globalatlanta.com/event/16th-annual-taste-world-gala/
LOCATION:Hyatt Regency Atlanta\, 265 Peachtree Street NE \, Atlanta\, 30303\, United States
CATEGORIES:Culture
ATTACH;FMTTYPE=image/jpeg:https://www.globalatlanta.com/wp-content/uploads/unnamed-57.jpg
GEO:33.7615969;-84.3867836
X-APPLE-STRUCTURED-LOCATION;VALUE=URI;X-ADDRESS=Hyatt Regency Atlanta 265 Peachtree Street NE  Atlanta 30303 United States;X-APPLE-RADIUS=500;X-TITLE=265 Peachtree Street NE:geo:-84.3867836,33.7615969
END:VEVENT
END:VCALENDAR