BEGIN:VCALENDAR
VERSION:2.0
PRODID:-//Global Atlanta - ECPv6.15.20//NONSGML v1.0//EN
CALSCALE:GREGORIAN
METHOD:PUBLISH
X-WR-CALNAME:Global Atlanta
X-ORIGINAL-URL:https://www.globalatlanta.com
X-WR-CALDESC:Events for Global Atlanta
REFRESH-INTERVAL;VALUE=DURATION:PT1H
X-Robots-Tag:noindex
X-PUBLISHED-TTL:PT1H
BEGIN:VTIMEZONE
TZID:America/New_York
BEGIN:DAYLIGHT
TZOFFSETFROM:-0500
TZOFFSETTO:-0400
TZNAME:EDT
DTSTART:20210314T070000
END:DAYLIGHT
BEGIN:STANDARD
TZOFFSETFROM:-0400
TZOFFSETTO:-0500
TZNAME:EST
DTSTART:20211107T060000
END:STANDARD
BEGIN:DAYLIGHT
TZOFFSETFROM:-0500
TZOFFSETTO:-0400
TZNAME:EDT
DTSTART:20220313T070000
END:DAYLIGHT
BEGIN:STANDARD
TZOFFSETFROM:-0400
TZOFFSETTO:-0500
TZNAME:EST
DTSTART:20221106T060000
END:STANDARD
BEGIN:DAYLIGHT
TZOFFSETFROM:-0500
TZOFFSETTO:-0400
TZNAME:EDT
DTSTART:20230312T070000
END:DAYLIGHT
BEGIN:STANDARD
TZOFFSETFROM:-0400
TZOFFSETTO:-0500
TZNAME:EST
DTSTART:20231105T060000
END:STANDARD
END:VTIMEZONE
BEGIN:VEVENT
DTSTART;TZID=America/New_York:20220821T193000
DTEND;TZID=America/New_York:20220821T213000
DTSTAMP:20260422T052605
CREATED:20220811T205045Z
LAST-MODIFIED:20220811T205045Z
UID:10007018-1661110200-1661117400@www.globalatlanta.com
SUMMARY:Flamenco Tablao
DESCRIPTION:Berdolé returns to Red Light Café to present a live Tablao Flamenco performance. In the spirit of back rooms and taverns of southern Spain\, this showcase of flamenco is raw\, unrehearsed\, and fully improvised to create an electricity that audiences say sends chills through the air and brings tears to the eyes. It’s a night of live guitar\, singing\, and percussive dance featuring Cristian Puig (vocals / guitar)\, Emrah Kotan (percussion)\, Marilia Quevedo (dance)\, Erica Poole “La Eritaña” (dance) and Julie Moon (dance). \n\n\n	From the archive:
URL:https://www.globalatlanta.com/event/flamenco-tablao/
LOCATION:Red Light Café\, 553-1 Amsterdam Ave NE\, Atlanta\, GA\, 30306\, United States
CATEGORIES:Culture
ATTACH;FMTTYPE=image/jpeg:https://www.globalatlanta.com/wp-content/uploads/cropped-2020LOGO_berdole_b8d843.jpg
ORGANIZER;CN="Berdol%C3%A9 Flamenco Management":MAILTO:info@berdole.com
GEO:33.787954;-84.3689041
X-APPLE-STRUCTURED-LOCATION;VALUE=URI;X-ADDRESS=Red Light Café 553-1 Amsterdam Ave NE Atlanta GA 30306 United States;X-APPLE-RADIUS=500;X-TITLE=553-1 Amsterdam Ave NE:geo:-84.3689041,33.787954
END:VEVENT
END:VCALENDAR