BEGIN:VCALENDAR
VERSION:2.0
PRODID:-//Global Atlanta - ECPv6.15.20//NONSGML v1.0//EN
CALSCALE:GREGORIAN
METHOD:PUBLISH
X-WR-CALNAME:Global Atlanta
X-ORIGINAL-URL:https://www.globalatlanta.com
X-WR-CALDESC:Events for Global Atlanta
REFRESH-INTERVAL;VALUE=DURATION:PT1H
X-Robots-Tag:noindex
X-PUBLISHED-TTL:PT1H
BEGIN:VTIMEZONE
TZID:America/New_York
BEGIN:DAYLIGHT
TZOFFSETFROM:-0500
TZOFFSETTO:-0400
TZNAME:EDT
DTSTART:20200308T070000
END:DAYLIGHT
BEGIN:STANDARD
TZOFFSETFROM:-0400
TZOFFSETTO:-0500
TZNAME:EST
DTSTART:20201101T060000
END:STANDARD
BEGIN:DAYLIGHT
TZOFFSETFROM:-0500
TZOFFSETTO:-0400
TZNAME:EDT
DTSTART:20210314T070000
END:DAYLIGHT
BEGIN:STANDARD
TZOFFSETFROM:-0400
TZOFFSETTO:-0500
TZNAME:EST
DTSTART:20211107T060000
END:STANDARD
BEGIN:DAYLIGHT
TZOFFSETFROM:-0500
TZOFFSETTO:-0400
TZNAME:EDT
DTSTART:20220313T070000
END:DAYLIGHT
BEGIN:STANDARD
TZOFFSETFROM:-0400
TZOFFSETTO:-0500
TZNAME:EST
DTSTART:20221106T060000
END:STANDARD
BEGIN:DAYLIGHT
TZOFFSETFROM:-0500
TZOFFSETTO:-0400
TZNAME:EDT
DTSTART:20230312T070000
END:DAYLIGHT
BEGIN:STANDARD
TZOFFSETFROM:-0400
TZOFFSETTO:-0500
TZNAME:EST
DTSTART:20231105T060000
END:STANDARD
BEGIN:DAYLIGHT
TZOFFSETFROM:-0500
TZOFFSETTO:-0400
TZNAME:EDT
DTSTART:20240310T070000
END:DAYLIGHT
BEGIN:STANDARD
TZOFFSETFROM:-0400
TZOFFSETTO:-0500
TZNAME:EST
DTSTART:20241103T060000
END:STANDARD
BEGIN:DAYLIGHT
TZOFFSETFROM:-0500
TZOFFSETTO:-0400
TZNAME:EDT
DTSTART:20250309T070000
END:DAYLIGHT
BEGIN:STANDARD
TZOFFSETFROM:-0400
TZOFFSETTO:-0500
TZNAME:EST
DTSTART:20251102T060000
END:STANDARD
BEGIN:DAYLIGHT
TZOFFSETFROM:-0500
TZOFFSETTO:-0400
TZNAME:EDT
DTSTART:20260308T070000
END:DAYLIGHT
BEGIN:STANDARD
TZOFFSETFROM:-0400
TZOFFSETTO:-0500
TZNAME:EST
DTSTART:20261101T060000
END:STANDARD
END:VTIMEZONE
BEGIN:VEVENT
DTSTART;TZID=America/New_York:20250516T103000
DTEND;TZID=America/New_York:20250516T140000
DTSTAMP:20260422T190154
CREATED:20250425T163903Z
LAST-MODIFIED:20250425T164422Z
UID:10040647-1747391400-1747404000@www.globalatlanta.com
SUMMARY:The 10th Annual Global Languages Leadership Meeting
DESCRIPTION:The Center for Urban Language Teaching and Research (CULTR) is very excited to announce the 10th Annual Global Languages Leadership Meeting is set for May 16\, 2025. Save your spot today! \n\n\n\nCULTR is delighted to have Dr. Nicolle Parsons-Pollard\, Provost & Executive Vice President for Academic Affairs of Georgia State University\, as our guest! CULTR is also thrilled to feature Trevor Gillies\, Director–Europeon Desk at YER USA\, as this year’s keynote speaker. He has a great expertise in recruitment and operations. \n\n\n\nThis networking event brings together diverse industry leaders from business\, non-profit\, government\, and education to discuss the importance of language learning and cultural competence as essential skills for an emerging global workforce. Seize this opportunity to expand your network across these industries and gain insight into local workforce readiness initiatives. Attend this event to develop new partnerships promoting access to language studies and cultural competence for all learners in the global economy. \n\n\n\nPast participants for the event include representatives from Mercedes-Benz\, City of Atlanta’s Office of International Affairs\, Cox Automotive\, the French Consulate in Atlanta\, Marriott International\, Metro Atlanta Chamber of Commerce\, Office of Congressman John Lewis\, Peace Corps\, and more. \n\n\n\nRSVP today to increase your organization’s visibility and commitment to promoting languages for all. Space is limited. \n\n\n\n\n\n\nRegister\n\n\n\n\n\n\n\n\n\n\n\n\n\n\n\n\n\n\n\n	From the archive:
URL:https://www.globalatlanta.com/event/the-10th-annual-global-languages-leadership-meeting/
LOCATION:Centennial Hall at Georgia Room #120 State University\, 100 Auburn Avenue\, Atlanta\, Georgia\, 30303\, Gabon
CATEGORIES:Business,Culture,Language,Networking,Nonprofit
ATTACH;FMTTYPE=image/png:https://www.globalatlanta.com/wp-content/uploads/CULTR-CMYK-01.png
ORGANIZER;CN="Center for Urban Language Teaching and Research (CULTR)":MAILTO:cultr@gsu.edu
END:VEVENT
BEGIN:VEVENT
DTSTART;TZID=America/New_York:20230519T103000
DTEND;TZID=America/New_York:20230519T140000
DTSTAMP:20260422T190154
CREATED:20230310T213144Z
LAST-MODIFIED:20230310T213144Z
UID:10039771-1684492200-1684504800@www.globalatlanta.com
SUMMARY:8th Annual Global Languages Leadership Meeting
DESCRIPTION:After two consecutive years of virtual events\, the Center for Urban Language Teaching and Research (CULTR) is very excited to announce the 8th Annual Global Languages Leadership Meeting\, on May 19th\, will be in person! \nCULTR is delighted to have Dr. M. Brian Blake\, President of Georgia State University\, welcome you to the event! They are also thrilled to feature Aiyana Mathews\, Founder and President of Gardner-Mathews Global Management\, as this year’s keynote speaker. \nAiyana Mathews has over a decade of experience in operations management and international business development. Her frequent exploration of the road less traveled has nurtured her business acumen and her natural affinity for intercultural business and building partnerships. Mathews incorporates this unique skill set coupled with her extensive experience in operating her business ventures. \nThis event brings together diverse industry leaders from business\, non-profit\, government\, and education to discuss the importance of language learning and cultural competence as essential skills for an emerging global workforce. Increase your organization’s visibility by networking with other professionals who are committed to promoting languages for all! \nRegister today to attend the 8th Annual Global Languages Leadership Meeting! Space is limited. \n\n\n	From the archive:
URL:https://www.globalatlanta.com/event/8th-annual-global-languages-leadership-meeting/
LOCATION:Centennial Hall\, Georgia State University\, 100 Auburn Ave NE\, Atlanta\, GA\, 30303\, United States
CATEGORIES:Business,Education
ATTACH;FMTTYPE=image/png:https://www.globalatlanta.com/wp-content/uploads/CULTR-CMYK-01.png
ORGANIZER;CN="Center for Urban Language Teaching and Research (CULTR)":MAILTO:cultr@gsu.edu
GEO:33.7559187;-84.3833629
X-APPLE-STRUCTURED-LOCATION;VALUE=URI;X-ADDRESS=Centennial Hall Georgia State University 100 Auburn Ave NE Atlanta GA 30303 United States;X-APPLE-RADIUS=500;X-TITLE=100 Auburn Ave NE:geo:-84.3833629,33.7559187
END:VEVENT
BEGIN:VEVENT
DTSTART;TZID=America/New_York:20221017T120000
DTEND;TZID=America/New_York:20221021T140000
DTSTAMP:20260422T190154
CREATED:20221006T185922Z
LAST-MODIFIED:20221006T185922Z
UID:10007091-1666008000-1666360800@www.globalatlanta.com
SUMMARY:CULTR 8th Annual World Languages Week
DESCRIPTION:World Languages Week is a global career expo that brings together organization representatives from businesses\, non-profits\, government\, and education to connect with over 1\,000 high school and college students about the global skills essential to their industries. This weeklong event showcases diverse speaker panels and topics to highlight the value of language skills\, cultural experiences\, and DEI for all learners in the global economy. Registered schools and individuals are welcome to attend all of their preferred sessions throughout the week of the event. Past sessions for this event included representatives from Mercedes-Benz\, UPS\, FBI\, Truist\, U.S. Department of State\, Peace Corps\, and many more. \nThe Center for Urban Language Teaching and Research (CULTR) will hold its 8th Annual World Languages Week from October 17 – October 21\, 2022 in a virtual format via Zoom. \nRegistration for this event will be limited. \n\n\n	From the archive:
URL:https://www.globalatlanta.com/event/cultr-8th-annual-world-languages-week/
LOCATION:Virtual event
CATEGORIES:Networking
ATTACH;FMTTYPE=image/png:https://www.globalatlanta.com/wp-content/uploads/CULTR-CMYK-01.png
ORGANIZER;CN="Center for Urban Language Teaching and Research (CULTR)":MAILTO:cultr@gsu.edu
GEO:35.8263369;-79.0419053
END:VEVENT
BEGIN:VEVENT
DTSTART;TZID=America/New_York:20220614T120000
DTEND;TZID=America/New_York:20220614T130000
DTSTAMP:20260422T190154
CREATED:20220513T141535Z
LAST-MODIFIED:20220513T141535Z
UID:10039694-1655208000-1655211600@www.globalatlanta.com
SUMMARY:7th Annual Global Languages Leadership Meeting
DESCRIPTION:The Center for Urban Language Teaching and Research (CULTR) is excited to announce the 7th Annual Global Languages Leadership Meeting on June 14\, 2022. CULTR is thrilled to feature Chef Ivan Orkin\, Owner of the restaurant Ivan Ramen in New York City\, as this year’s keynote speaker. CULTR is also delighted to have Jessica Cork\, Vice President of Community Engagement and Corporate Communications at YKK Corporation of America and Chair of the Japan-America Society of Georgia as the guest moderator. \nIvan Orkin was featured in the hit NETFLIX series Chef’s Table in 2017\, instantly vaulting him into the company of some of the world’s great chefs and restauranteurs. Join us to hear Ivan’s unique story of the importance of language learning and cultural competence as essential skills for an emerging global workforce. \nIn her current role at YKK Corporation of America\, Jessica Cork is responsible for all aspects of corporate communications. She is fluent in Japanese and has over two decades of experience working in Japanese organizations. \nThis event is a space of convergence for diverse industry leaders from business\, non-profit\, government\, and education. Register today to increase your organization’s visibility and commitment to promoting “Languages for all!” \n\n\n	From the archive:
URL:https://www.globalatlanta.com/event/7th-annual-global-languages-leadership-meeting/
LOCATION:Zoom
CATEGORIES:Arts & Humanities,Communities,Culture,Language
ATTACH;FMTTYPE=image/png:https://www.globalatlanta.com/wp-content/uploads/CULTR-CMYK-01.png
ORGANIZER;CN="Center for Urban Language Teaching and Research (CULTR)":MAILTO:cultr@gsu.edu
END:VEVENT
BEGIN:VEVENT
DTSTART;TZID=America/New_York:20211018T000000
DTEND;TZID=America/New_York:20211022T235959
DTSTAMP:20260422T190154
CREATED:20210825T195857Z
LAST-MODIFIED:20210825T195857Z
UID:10039492-1634515200-1634947199@www.globalatlanta.com
SUMMARY:World Languages Week 2021
DESCRIPTION:World Languages Week 2021\nThe Center for Urban Language Teaching and Research (CULTR) is very excited to announce the 7th Annual World Languages Week is set for October 18-22 in a virtual format. Seize this opportunity as an attendee to explore the exciting opportunities tied to global skills. \nThis global career expo brings together organization representatives from businesses\, non-profits\, government\, and education to connect with over 1\,000 high school and college students about the global skills essential to their industries. \nThis year’s event will showcase diverse speaker panels and topics to highlight the value of language skills\, cultural experiences\, and DEI for all learners in the global economy. \n  \nUpcoming sessions for this event include representatives from: \n\nUPS\nFBI\nTruist\nMercedes-Benz USA\nU.S. Department of State\nPeace Corps and many more\n\nRegister as an attendee today to see the value of global skills at work\, develop new connections\, and promote languages for all! \n  \nEvent Schedule:\n\nMonday\, October 18\n12 – 1 PM EST : Welcome and Keynote\n2 – 3 PM EST : Humanitarian Panel\nTuesday\, October 19\n12 – 1 PM EST : Study Abroad Scholarship Opportunities Panel\n2 – 3 PM EST : Language Industry Panel\nWednesday\, October 20\n12 – 1 PM EST : Global Scholar Distinction Panel\n2 – 3 PM EST : Voices from the Teaching Field Panel\nThursday\, October 21\n12 – 1 PM EST : IT & Global Business Panel\n2 – 3 PM EST : Intercultural Competence Panel\nFriday\, October 22\n12 – 1 PM EST : National Security Panel\n2 – 3 PM EST : Diplomacy Panel\n\n\n\n	From the archive:
URL:https://www.globalatlanta.com/event/world-languages-week-2021/
LOCATION:Virtual
CATEGORIES:Business,Education,Language,Professional Development
ATTACH;FMTTYPE=image/png:https://www.globalatlanta.com/wp-content/uploads/Option-1_WLW_Header-Image_GlobalAtlanta.png
ORGANIZER;CN="Center for Urban Language Teaching and Research (CULTR)":MAILTO:cultr@gsu.edu
END:VEVENT
END:VCALENDAR