BEGIN:VCALENDAR
VERSION:2.0
PRODID:-//Global Atlanta - ECPv6.15.20//NONSGML v1.0//EN
CALSCALE:GREGORIAN
METHOD:PUBLISH
X-WR-CALNAME:Global Atlanta
X-ORIGINAL-URL:https://www.globalatlanta.com
X-WR-CALDESC:Events for Global Atlanta
REFRESH-INTERVAL;VALUE=DURATION:PT1H
X-Robots-Tag:noindex
X-PUBLISHED-TTL:PT1H
BEGIN:VTIMEZONE
TZID:America/New_York
BEGIN:DAYLIGHT
TZOFFSETFROM:-0500
TZOFFSETTO:-0400
TZNAME:EDT
DTSTART:20190310T070000
END:DAYLIGHT
BEGIN:STANDARD
TZOFFSETFROM:-0400
TZOFFSETTO:-0500
TZNAME:EST
DTSTART:20191103T060000
END:STANDARD
BEGIN:DAYLIGHT
TZOFFSETFROM:-0500
TZOFFSETTO:-0400
TZNAME:EDT
DTSTART:20200308T070000
END:DAYLIGHT
BEGIN:STANDARD
TZOFFSETFROM:-0400
TZOFFSETTO:-0500
TZNAME:EST
DTSTART:20201101T060000
END:STANDARD
BEGIN:DAYLIGHT
TZOFFSETFROM:-0500
TZOFFSETTO:-0400
TZNAME:EDT
DTSTART:20210314T070000
END:DAYLIGHT
BEGIN:STANDARD
TZOFFSETFROM:-0400
TZOFFSETTO:-0500
TZNAME:EST
DTSTART:20211107T060000
END:STANDARD
END:VTIMEZONE
BEGIN:VEVENT
DTSTART;TZID=America/New_York:20201008T130000
DTEND;TZID=America/New_York:20201008T140000
DTSTAMP:20260423T220611
CREATED:20200911T235135Z
LAST-MODIFIED:20200911T235135Z
UID:10037742-1602162000-1602165600@www.globalatlanta.com
SUMMARY:ELEVATE 2020: A Conversation Between Sister Cities - Atlanta Contemporary and Les Abattoirs
DESCRIPTION:Atlanta Contemporary and Les Abattoirs in Toulouse\, France will partner for a dynamic conversation between their respective executive directors\, Veronica Kessenich and Annabelle Ténèze. The conversation will center on how the two directors steward their organizations through these unprecedented times\, with a focus on the relevance of promoting contemporary art and artists during COVID-19. In addition\, the two women will speak to how their organizations navigate the importance of gender equity and addressing racism and inequality. This event will also provide an opportunity to further promote friendship and cultural understanding between Atlanta and Toulouse\, which have been sister cities since 1974. \n  \n\n\n	From the archive:
URL:https://www.globalatlanta.com/event/elevate-2020-a-conversation-between-sister-cities-atlanta-contemporary-and-les-abattoirs/
LOCATION:Online
CATEGORIES:Arts & Humanities,Communities,Culture,Festival
ATTACH;FMTTYPE=image/png:https://www.globalatlanta.com/wp-content/uploads/Screen-Shot-2020-09-11-at-7.49.14-PM.png
END:VEVENT
END:VCALENDAR