BEGIN:VCALENDAR
VERSION:2.0
PRODID:-//Global Atlanta - ECPv6.15.20//NONSGML v1.0//EN
CALSCALE:GREGORIAN
METHOD:PUBLISH
X-WR-CALNAME:Global Atlanta
X-ORIGINAL-URL:https://www.globalatlanta.com
X-WR-CALDESC:Events for Global Atlanta
REFRESH-INTERVAL;VALUE=DURATION:PT1H
X-Robots-Tag:noindex
X-PUBLISHED-TTL:PT1H
BEGIN:VTIMEZONE
TZID:America/New_York
BEGIN:DAYLIGHT
TZOFFSETFROM:-0500
TZOFFSETTO:-0400
TZNAME:EDT
DTSTART:20250309T070000
END:DAYLIGHT
BEGIN:STANDARD
TZOFFSETFROM:-0400
TZOFFSETTO:-0500
TZNAME:EST
DTSTART:20251102T060000
END:STANDARD
BEGIN:DAYLIGHT
TZOFFSETFROM:-0500
TZOFFSETTO:-0400
TZNAME:EDT
DTSTART:20260308T070000
END:DAYLIGHT
BEGIN:STANDARD
TZOFFSETFROM:-0400
TZOFFSETTO:-0500
TZNAME:EST
DTSTART:20261101T060000
END:STANDARD
BEGIN:DAYLIGHT
TZOFFSETFROM:-0500
TZOFFSETTO:-0400
TZNAME:EDT
DTSTART:20270314T070000
END:DAYLIGHT
BEGIN:STANDARD
TZOFFSETFROM:-0400
TZOFFSETTO:-0500
TZNAME:EST
DTSTART:20271107T060000
END:STANDARD
END:VTIMEZONE
BEGIN:VEVENT
DTSTART;TZID=America/New_York:20260516T180000
DTEND;TZID=America/New_York:20260516T210000
DTSTAMP:20260425T230932
CREATED:20260425T191838Z
LAST-MODIFIED:20260425T191840Z
UID:10041212-1778954400-1778965200@www.globalatlanta.com
SUMMARY:A Night of Vietnamese Immersion: Culture\, Cuisine\, and Community in Norcross
DESCRIPTION:Experience an evening that brings the sights\, sounds\, and flavors of Vietnam to metro Atlanta at A Night of Vietnamese Immersion\, a black-tie cultural gala hosted by the First Senior Center of Georgia. Designed as both a celebration and a fundraiser\, the event offers a vibrant showcase of Vietnamese heritage while supporting programs that serve the local community.  \n\n\n\nGuests can expect an immersive atmosphere featuring cultural entertainment\, authentic décor\, and traditional Vietnamese cuisine\, alongside interactive elements such as a live auction and community storytelling. The evening blends elegance with cultural depth\, creating a setting that highlights both tradition and connection. \n\n\n\nWith its mix of performance\, dining\, and philanthropy\, the event offers attendees a unique opportunity to engage with Atlanta’s Vietnamese community while contributing to initiatives that support seniors and families across the region.  \n\n\n\n\n\n\nRegister\n\n\n\n\n\n\n\nDownload Flyer\n\n\n\n\n\n\n\n\n\n\n\n\n\n\n\n\n\n\n\n	From the archive:
URL:https://www.globalatlanta.com/event/a-night-of-vietnamese-immersion-culture-cuisine-and-community-in-norcross/
LOCATION:1st FSC Healthcare\, 5555 Oakbrook Parkway\, #Bldg 500\, Ste 500-A\, Norcross\, Georgia\, 30093
CATEGORIES:Culture,Food,Fundraising,Gala,Vietnam
ATTACH;FMTTYPE=image/jpeg:https://www.globalatlanta.com/wp-content/uploads/Untitled-1000-x-750-px-4.jpg
END:VEVENT
END:VCALENDAR