BEGIN:VCALENDAR
VERSION:2.0
PRODID:-//Global Atlanta - ECPv6.15.20//NONSGML v1.0//EN
CALSCALE:GREGORIAN
METHOD:PUBLISH
X-WR-CALNAME:Global Atlanta
X-ORIGINAL-URL:https://www.globalatlanta.com
X-WR-CALDESC:Events for Global Atlanta
REFRESH-INTERVAL;VALUE=DURATION:PT1H
X-Robots-Tag:noindex
X-PUBLISHED-TTL:PT1H
BEGIN:VTIMEZONE
TZID:America/New_York
BEGIN:DAYLIGHT
TZOFFSETFROM:-0500
TZOFFSETTO:-0400
TZNAME:EDT
DTSTART:20210314T070000
END:DAYLIGHT
BEGIN:STANDARD
TZOFFSETFROM:-0400
TZOFFSETTO:-0500
TZNAME:EST
DTSTART:20211107T060000
END:STANDARD
BEGIN:DAYLIGHT
TZOFFSETFROM:-0500
TZOFFSETTO:-0400
TZNAME:EDT
DTSTART:20220313T070000
END:DAYLIGHT
BEGIN:STANDARD
TZOFFSETFROM:-0400
TZOFFSETTO:-0500
TZNAME:EST
DTSTART:20221106T060000
END:STANDARD
BEGIN:DAYLIGHT
TZOFFSETFROM:-0500
TZOFFSETTO:-0400
TZNAME:EDT
DTSTART:20230312T070000
END:DAYLIGHT
BEGIN:STANDARD
TZOFFSETFROM:-0400
TZOFFSETTO:-0500
TZNAME:EST
DTSTART:20231105T060000
END:STANDARD
BEGIN:DAYLIGHT
TZOFFSETFROM:-0500
TZOFFSETTO:-0400
TZNAME:EDT
DTSTART:20240310T070000
END:DAYLIGHT
BEGIN:STANDARD
TZOFFSETFROM:-0400
TZOFFSETTO:-0500
TZNAME:EST
DTSTART:20241103T060000
END:STANDARD
END:VTIMEZONE
BEGIN:VEVENT
DTSTART;TZID=America/New_York:20230628T193000
DTEND;TZID=America/New_York:20230628T193000
DTSTAMP:20260424T190320
CREATED:20230619T162646Z
LAST-MODIFIED:20230619T162646Z
UID:10038529-1687980600-1687980600@www.globalatlanta.com
SUMMARY:The Cathedral of St Philip Presents Damin Spritzer
DESCRIPTION:The Cathedral of St. Philip presents Damin Spritzer performing as part of the Atlanta Summer Organ Festival. The internationally respected recitalist & recording artist who champions lesser-known works in addition to masterworks of the organ repertoire will play: \n● Johann Sebastian Bach (1685-1750)\, Piece d’Orgue\, BWV 572\n● Johann Sebastian Bach\, Bach’s Memento: Miserere Mei\, Domine\n● Johann Sebastian Bach\, Chaconne in D minor\, BWV 1004\n● Mary Howe (1882-1964)\, Elegy\n● Johann Senfter (1879-1961)\, Fantasie und Fuge über Wie schön leuchtet der Morgenstern\n● Herbert Howells (1892-1983)\, Three Psalm Preludes\, Set I\, Op. 32: III (Psalm 23)\n● Alec Rowley (1892-1958)\, Rhapsody in D minor\n● William Grant Still (1895-1978)\, Elegy\n● George Baker (b. 1961)\, Te Deum \nPresented by Delbert Lowell Jacks in memory of Thomas Ruben Jones\, and Friends of Cathedral Music. \nSuggested donation $15 at the door. \n  \n\n\n	From the archive:
URL:https://www.globalatlanta.com/event/the-cathedral-of-st-philip-presents-damin-spritzer/
LOCATION:The Cathedral of St Philip\, 2744 Peachtree Rd NW\, Atlanta\, GA\, 30305\, United States
ATTACH;FMTTYPE=image/png:https://www.globalatlanta.com/wp-content/uploads/Cathedral-of-St-Philip.png
GEO:33.8314983;-84.3856497
X-APPLE-STRUCTURED-LOCATION;VALUE=URI;X-ADDRESS=The Cathedral of St Philip 2744 Peachtree Rd NW Atlanta GA 30305 United States;X-APPLE-RADIUS=500;X-TITLE=2744 Peachtree Rd NW:geo:-84.3856497,33.8314983
END:VEVENT
BEGIN:VEVENT
DTSTART;TZID=America/New_York:20230609T193000
DTEND;TZID=America/New_York:20230609T213000
DTSTAMP:20260424T190320
CREATED:20230602T190558Z
LAST-MODIFIED:20230602T190558Z
UID:10039837-1686339000-1686346200@www.globalatlanta.com
SUMMARY:The Cathedral Singers Concert
DESCRIPTION:The Cathedral Singers welcomes you to enjoy a lovely summer evening respite amid the glow of stained glass\, basking in music to sooth the soul and delight the senses. \nThe concert features madrigals\, Bach\, Britten and more presented by the professional core of the Cathedral of St. Philip Choir\, Schola and Organists. Proceeds support the Cathedral Choir’s 2024 England residencies at St. Paul’s Cathedral\, London\, and York Minster. The concert is made possible by the beneficence of the late Dr. Emile T. Fisher. \n\n\n	From the archive:
URL:https://www.globalatlanta.com/event/the-cathedral-singers-concert/
LOCATION:The Cathedral of St Philip\, 2744 Peachtree Rd NW\, Atlanta\, GA\, 30305\, United States
CATEGORIES:Music
ATTACH;FMTTYPE=image/jpeg:https://www.globalatlanta.com/wp-content/uploads/The-Cathederal-Singers.jpg
GEO:33.8314983;-84.3856497
X-APPLE-STRUCTURED-LOCATION;VALUE=URI;X-ADDRESS=The Cathedral of St Philip 2744 Peachtree Rd NW Atlanta GA 30305 United States;X-APPLE-RADIUS=500;X-TITLE=2744 Peachtree Rd NW:geo:-84.3856497,33.8314983
END:VEVENT
BEGIN:VEVENT
DTSTART;TZID=America/New_York:20221205T193000
DTEND;TZID=America/New_York:20221205T210000
DTSTAMP:20260424T190320
CREATED:20221129T203833Z
LAST-MODIFIED:20221129T203833Z
UID:10007151-1670268600-1670274000@www.globalatlanta.com
SUMMARY:Holiday Concert with members of the Atlanta Symphony Brass
DESCRIPTION:Certain to be one of the most delightful and thrilling musical events of the season again this year\, members of the Atlanta Symphony Brass return to present their fifth holiday concert in the gracious acoustic of the Cathedral of St. Philip!\n\nFeaturing some of the finest arrangements for brass ensemble and percussion\, the program will include beloved standards from the symphonic orchestra repertoire and traditional holiday carols. The Atlanta Symphony Orchestra’s brass section is venerated worldwide as one of the finest in North America. Join for an evening of magnificent music and world-class musicianship!\n\nPresented by Friends of Cathedral Music with assistance from the Atlanta Brass Society\, Inc.\nAdvance tickets\, Patron tickets\, and more information online at cathedralATL.org/concerts and from the\nCathedral Book Store 404-237-7582.\n\n\n	From the archive:
URL:https://www.globalatlanta.com/event/holiday-concert-with-members-of-the-atlanta-symphony-brass/
LOCATION:The Cathedral of St Philip\, 2744 Peachtree Rd NW\, Atlanta\, GA\, 30305\, United States
CATEGORIES:Music
ATTACH;FMTTYPE=image/png:https://www.globalatlanta.com/wp-content/uploads/cathedral.png
GEO:33.8314983;-84.3856497
X-APPLE-STRUCTURED-LOCATION;VALUE=URI;X-ADDRESS=The Cathedral of St Philip 2744 Peachtree Rd NW Atlanta GA 30305 United States;X-APPLE-RADIUS=500;X-TITLE=2744 Peachtree Rd NW:geo:-84.3856497,33.8314983
END:VEVENT
BEGIN:VEVENT
DTSTART;TZID=America/New_York:20221118T193000
DTEND;TZID=America/New_York:20221119T143000
DTSTAMP:20260424T190320
CREATED:20221103T215128Z
LAST-MODIFIED:20221103T215128Z
UID:10007127-1668799800-1668868200@www.globalatlanta.com
SUMMARY:Handel's Messiah: Performed complete on period instruments
DESCRIPTION:Join for Handel’s Messiah performed complete on period instruments by the Atlanta Baroque Orchestra\, the Cathedral Schola\, and world-class soloists!\n\n\nSure\, you’ve heard Handel’s Messiah\, but have you heard it in its entirety? Have you heard its original version\, premiered in Dublin in 1742? Join The Atlanta Baroque Orchestra & Cathedral of St. Philip Schola for the pleasure of hearing it played on historical gut-strung instruments and natural trumpets\, with a Grammy Award winner among the soloists and a choir that will take extra care to nuance the vocal lines according to eighteenth-century performance practices. \nABO Artistic Director Julie Andrijeski and Cathedral Canon for Music Dale Adelmann share leadership as the ABO joins forces with the Cathedral Schola and a magnificent cast of guest soloists to bring you a uniquely moving performance of Handel’s greatest hit. \n\n\n\nSoloists Include:  \nRaha Mirzadegan\, soprano / Raquel Winnica Young\, alto / Karim Sulayman\, tenor / Mischa Bouvier\, bass’ \n\nFriday\, November 18 — 7:30 p.m. \nSaturday\, November 19 — 2:00 p.m. \nThe Cathedral of St. Philip\, Atlanta \n\n  \n\n\n\n\n	From the archive:
URL:https://www.globalatlanta.com/event/handels-messiah-performed-complete-on-period-instruments/
LOCATION:The Cathedral of St. Philip\, 2744 Peachtree Rd. NW\, Atlanta\, GA\, 30305\, United States
CATEGORIES:Music
ATTACH;FMTTYPE=image/png:https://www.globalatlanta.com/wp-content/uploads/cathedral.png
GEO:33.8314983;-84.3856497
X-APPLE-STRUCTURED-LOCATION;VALUE=URI;X-ADDRESS=The Cathedral of St. Philip 2744 Peachtree Rd. NW Atlanta GA 30305 United States;X-APPLE-RADIUS=500;X-TITLE=2744 Peachtree Rd. NW:geo:-84.3856497,33.8314983
END:VEVENT
END:VCALENDAR