BEGIN:VCALENDAR
VERSION:2.0
PRODID:-//Global Atlanta - ECPv6.15.20//NONSGML v1.0//EN
CALSCALE:GREGORIAN
METHOD:PUBLISH
X-ORIGINAL-URL:https://www.globalatlanta.com
X-WR-CALDESC:Events for Global Atlanta
REFRESH-INTERVAL;VALUE=DURATION:PT1H
X-Robots-Tag:noindex
X-PUBLISHED-TTL:PT1H
BEGIN:VTIMEZONE
TZID:America/New_York
BEGIN:DAYLIGHT
TZOFFSETFROM:-0500
TZOFFSETTO:-0400
TZNAME:EDT
DTSTART:20220313T070000
END:DAYLIGHT
BEGIN:STANDARD
TZOFFSETFROM:-0400
TZOFFSETTO:-0500
TZNAME:EST
DTSTART:20221106T060000
END:STANDARD
BEGIN:DAYLIGHT
TZOFFSETFROM:-0500
TZOFFSETTO:-0400
TZNAME:EDT
DTSTART:20230312T070000
END:DAYLIGHT
BEGIN:STANDARD
TZOFFSETFROM:-0400
TZOFFSETTO:-0500
TZNAME:EST
DTSTART:20231105T060000
END:STANDARD
BEGIN:DAYLIGHT
TZOFFSETFROM:-0500
TZOFFSETTO:-0400
TZNAME:EDT
DTSTART:20240310T070000
END:DAYLIGHT
BEGIN:STANDARD
TZOFFSETFROM:-0400
TZOFFSETTO:-0500
TZNAME:EST
DTSTART:20241103T060000
END:STANDARD
BEGIN:DAYLIGHT
TZOFFSETFROM:-0500
TZOFFSETTO:-0400
TZNAME:EDT
DTSTART:20250309T070000
END:DAYLIGHT
BEGIN:STANDARD
TZOFFSETFROM:-0400
TZOFFSETTO:-0500
TZNAME:EST
DTSTART:20251102T060000
END:STANDARD
END:VTIMEZONE
BEGIN:VEVENT
DTSTART;TZID=America/New_York:20240621T170000
DTEND;TZID=America/New_York:20240621T200000
DTSTAMP:20260425T214628
CREATED:20240621T003233Z
LAST-MODIFIED:20240621T003239Z
UID:10040276-1718989200-1719000000@www.globalatlanta.com
SUMMARY:Ikea Swedish Midsommar Dinner
DESCRIPTION:Celebrate Swedish Midsommar at IKEA Atlanta on Friday\, June 21 from 5:00- 8:00 PM. Enjoy a festive buffet dinner. Tickets are available in-store at the Swedish Restaurant. IKEA Family members pay $21.99 per adult and $11.99 per child; non-members pay $26.99 per adult and $14.99 per child. \n\n\n\nTickets are non-refundable and must be consumed on-site. Purchase your tickets at IKEA Atlanta to attend. \n\n\n\n\n\n\nRegister\n\n\n\n\n\n\n\n\n\n\n\n\n\n\n\n\n\n	From the archive:
URL:https://www.globalatlanta.com/event/ikea-swedish-midsommar-dinner/
LOCATION:Ikea Atlanta\, 441 16th St NW\, Atlanta\, Georgia\, 30363
CATEGORIES:Culture,Europe,Food,Sweden
ATTACH;FMTTYPE=image/png:https://www.globalatlanta.com/wp-content/uploads/Ikea-logo.png
END:VEVENT
BEGIN:VEVENT
DTSTART;TZID=America/New_York:20231208T190000
DTEND;TZID=America/New_York:20231208T210000
DTSTAMP:20260425T214628
CREATED:20231206T024603Z
LAST-MODIFIED:20231206T155228Z
UID:10039985-1702062000-1702069200@www.globalatlanta.com
SUMMARY:Ikea Julbord (Christmas Buffet)
DESCRIPTION:It’s time for everyone’s favorite Swedish holiday tradition: Julbord! \nDescription from IKEA:\nCelebrate the holiday season with IKEA Atlanta and the traditional Julbord buffet. We will feature some traditional Christmas favorites as well as some tasty Swedish bites to try. There will also be festive music\, fun crafts and more. Seating is limited\, so be sure to stop by the Atlanta Swedish Restaurant to purchase your tickets! Don’t forget that IKEA Family members receive a discount on tickets! Pricing for IKEA Family members is $19.99 per person for adults and $9.99 for kids. Regular pricing is $24.99 per person for adults and $12.99 for kids. \nFor SACC-GA members:\nIKEA has generously given Swedish American Chamber of Commerce-Georgia members a limited number of tickets to their Julbord Holiday Buffet on Friday the 8th of December. SACC-GA members should send an email to let chamber leaders know of their interest.  \n\n\n	From the archive:
URL:https://www.globalatlanta.com/event/ikea-julbord-christmas-buffet/
LOCATION:Swedish American Chamber of Commerce GA\, 303 Peachtree Center Avenue Suite 600\, Atlanta\, GA\, 30303\, United States
CATEGORIES:Food,Holiday,Sweden
ATTACH;FMTTYPE=image/png:https://www.globalatlanta.com/wp-content/uploads/Chamber-Logo-Medium-10.png
GEO:33.7627649;-84.3864991
X-APPLE-STRUCTURED-LOCATION;VALUE=URI;X-ADDRESS=Swedish American Chamber of Commerce GA 303 Peachtree Center Avenue Suite 600 Atlanta GA 30303 United States;X-APPLE-RADIUS=500;X-TITLE=303 Peachtree Center Avenue Suite 600:geo:-84.3864991,33.7627649
END:VEVENT
END:VCALENDAR