BEGIN:VCALENDAR
VERSION:2.0
PRODID:-//Global Atlanta - ECPv6.15.20//NONSGML v1.0//EN
CALSCALE:GREGORIAN
METHOD:PUBLISH
X-WR-CALNAME:Global Atlanta
X-ORIGINAL-URL:https://www.globalatlanta.com
X-WR-CALDESC:Events for Global Atlanta
REFRESH-INTERVAL;VALUE=DURATION:PT1H
X-Robots-Tag:noindex
X-PUBLISHED-TTL:PT1H
BEGIN:VTIMEZONE
TZID:America/New_York
BEGIN:DAYLIGHT
TZOFFSETFROM:-0500
TZOFFSETTO:-0400
TZNAME:EDT
DTSTART:20170312T070000
END:DAYLIGHT
BEGIN:STANDARD
TZOFFSETFROM:-0400
TZOFFSETTO:-0500
TZNAME:EST
DTSTART:20171105T060000
END:STANDARD
BEGIN:DAYLIGHT
TZOFFSETFROM:-0500
TZOFFSETTO:-0400
TZNAME:EDT
DTSTART:20180311T070000
END:DAYLIGHT
BEGIN:STANDARD
TZOFFSETFROM:-0400
TZOFFSETTO:-0500
TZNAME:EST
DTSTART:20181104T060000
END:STANDARD
BEGIN:DAYLIGHT
TZOFFSETFROM:-0500
TZOFFSETTO:-0400
TZNAME:EDT
DTSTART:20190310T070000
END:DAYLIGHT
BEGIN:STANDARD
TZOFFSETFROM:-0400
TZOFFSETTO:-0500
TZNAME:EST
DTSTART:20191103T060000
END:STANDARD
BEGIN:DAYLIGHT
TZOFFSETFROM:-0500
TZOFFSETTO:-0400
TZNAME:EDT
DTSTART:20200308T070000
END:DAYLIGHT
BEGIN:STANDARD
TZOFFSETFROM:-0400
TZOFFSETTO:-0500
TZNAME:EST
DTSTART:20201101T060000
END:STANDARD
BEGIN:DAYLIGHT
TZOFFSETFROM:-0500
TZOFFSETTO:-0400
TZNAME:EDT
DTSTART:20210314T070000
END:DAYLIGHT
BEGIN:STANDARD
TZOFFSETFROM:-0400
TZOFFSETTO:-0500
TZNAME:EST
DTSTART:20211107T060000
END:STANDARD
BEGIN:DAYLIGHT
TZOFFSETFROM:-0500
TZOFFSETTO:-0400
TZNAME:EDT
DTSTART:20220313T070000
END:DAYLIGHT
BEGIN:STANDARD
TZOFFSETFROM:-0400
TZOFFSETTO:-0500
TZNAME:EST
DTSTART:20221106T060000
END:STANDARD
BEGIN:DAYLIGHT
TZOFFSETFROM:-0500
TZOFFSETTO:-0400
TZNAME:EDT
DTSTART:20230312T070000
END:DAYLIGHT
BEGIN:STANDARD
TZOFFSETFROM:-0400
TZOFFSETTO:-0500
TZNAME:EST
DTSTART:20231105T060000
END:STANDARD
BEGIN:DAYLIGHT
TZOFFSETFROM:-0500
TZOFFSETTO:-0400
TZNAME:EDT
DTSTART:20240310T070000
END:DAYLIGHT
BEGIN:STANDARD
TZOFFSETFROM:-0400
TZOFFSETTO:-0500
TZNAME:EST
DTSTART:20241103T060000
END:STANDARD
END:VTIMEZONE
BEGIN:VEVENT
DTSTART;TZID=America/New_York:20231025T180000
DTEND;TZID=America/New_York:20231025T200000
DTSTAMP:20260425T163327
CREATED:20231018T152357Z
LAST-MODIFIED:20231018T152519Z
UID:10039952-1698256800-1698264000@www.globalatlanta.com
SUMMARY:"I Stand With Immigrants" Day of Action Film Screening & Discussion: From Here
DESCRIPTION:Join Oglethorpe and the City of Brookhaven on the national “I STAND WITH IMMIGRANTS” day of action for a film screening of “From Here” and a conversation with the filmmaker\, Christina Antonakos. \n\n\n\nFrom Here\, is a documentary film that represents the emotional and powerful stories of immigrants from all over the world over the course of 10 years. \n\n\n\nModerators: \n\n\n\n\nDr. Susan Noh\, Film Studies Department\n\n\n\nNathania Adhisty\, ASIA Student Organization\n\n\n\nEstela Chavez\, OU Monarchs Student Organization\n\n\n\n\nThe event is co-sponsored by the Intercultural Center\, Global Education\, the Office of Diversity\, Equity\, and Inclusion\, and the Film & Media Studies Department\, in collaboration with the City of Brookhaven. \n\n\n\n\n\n\nRegister\n\n\n\n\n\n\n\n\n\n\n\n\n\n\n\n\n\n\n\n\n\n\n\n\n\n	From the archive:
URL:https://www.globalatlanta.com/event/i-stand-with-immigrants-day-of-action-film-screening-discussion-from-here/
LOCATION:Oglethorpe University\, 4484 Peachtree Rd NE\, Brookhaven\, Georgia\, 30319\, United States
CATEGORIES:Film,Germany,Immigration
ATTACH;FMTTYPE=image/jpeg:https://www.globalatlanta.com/wp-content/uploads/Oglethorpe_-_Art_Museum_logo-e1694640804675.jpg
ORGANIZER;CN="Oglethorpe University":MAILTO:(404) 261-1441
END:VEVENT
BEGIN:VEVENT
DTSTART;TZID=America/New_York:20231014T190000
DTEND;TZID=America/New_York:20231014T210000
DTSTAMP:20260425T163327
CREATED:20230913T213416Z
LAST-MODIFIED:20230913T213607Z
UID:10039912-1697310000-1697317200@www.globalatlanta.com
SUMMARY:Lecture: In Conversation with Yehimi Cambrón: Documenting the Undocumented in the South
DESCRIPTION:Join artist Yehimi Cambrón for an evening lecture and closing reception. Admission to this special evening with the artist is free for all and open to the public. Reception to follow from 8 p.m. to 9 p.m. \n\n\n\nNo advanced ticketing. No reservations. First come\, first seated. \n\n\n\n\n\n\nRegister\n\n\n\n\n\n\n\n\n\n\n\n\n\n\n\n\n\n\n\n\n\n\n\n\n\n	From the archive:
URL:https://www.globalatlanta.com/event/lecture-in-conversation-with-yehimi-cambron-documenting-the-undocumented-in-the-sout/
LOCATION:Oglethorpe University Museum of Art\, 4484 Peachtree Rd. \, Atlanta\, 30319\, United States
CATEGORIES:Art,Immigration,Mexico
ATTACH;FMTTYPE=image/jpeg:https://www.globalatlanta.com/wp-content/uploads/Oglethorpe_-_Art_Museum_logo-e1694640804675.jpg
ORGANIZER;CN="Oglethorpe University":MAILTO:(404) 261-1441
GEO:33.8749844;-84.3336721
X-APPLE-STRUCTURED-LOCATION;VALUE=URI;X-ADDRESS=Oglethorpe University Museum of Art 4484 Peachtree Rd.  Atlanta 30319 United States;X-APPLE-RADIUS=500;X-TITLE=4484 Peachtree Rd.:geo:-84.3336721,33.8749844
END:VEVENT
BEGIN:VEVENT
DTSTART;TZID=America/New_York:20230914T190000
DTEND;TZID=America/New_York:20230914T200000
DTSTAMP:20260425T163327
CREATED:20230907T153536Z
LAST-MODIFIED:20230907T153541Z
UID:10038589-1694718000-1694721600@www.globalatlanta.com
SUMMARY:Lecture: From Germany to Atlanta: Fritz P. Zimmer's Artistic Career
DESCRIPTION:Join Eli Arnold ‘06\, University Librarian and Director\, and Melissa Sagaseta ‘22\, a recent alumna who curated the Zimmer exhibition for an evening lecture. \n\n\n\nAdmission is free for all staff/faculty/students/alumni of OU and current OUMA members. \n\n\n\nGeneral admission is $10. \n\n\n\n\n\n\nRegister\n\n\n\n\n\n\n\n\n\n\n\n\n\n\n\n\n\n\n\n\n\n\n\n\n\n	From the archive:
URL:https://www.globalatlanta.com/event/lecture-from-germany-to-atlanta-fritz-p-zimmers-artistic-career/
LOCATION:Oglethorpe University Museum of Art\, 4484 Peachtree Rd. \, Atlanta\, 30319\, United States
CATEGORIES:Art,Germany
ATTACH;FMTTYPE=image/jpeg:https://www.globalatlanta.com/wp-content/uploads/oglethorpe-e1694100896462.jpg
ORGANIZER;CN="Oglethorpe University":MAILTO:(404) 261-1441
GEO:33.8749844;-84.3336721
X-APPLE-STRUCTURED-LOCATION;VALUE=URI;X-ADDRESS=Oglethorpe University Museum of Art 4484 Peachtree Rd.  Atlanta 30319 United States;X-APPLE-RADIUS=500;X-TITLE=4484 Peachtree Rd.:geo:-84.3336721,33.8749844
END:VEVENT
BEGIN:VEVENT
DTSTART;TZID=America/New_York:20210318T180000
DTEND;TZID=America/New_York:20210318T190000
DTSTAMP:20260425T163327
CREATED:20210224T233342Z
LAST-MODIFIED:20210224T233342Z
UID:10039320-1616090400-1616094000@www.globalatlanta.com
SUMMARY:The Progressive Feminism of Marija Jurić Zagorka’s The Witch of Grič
DESCRIPTION:You are invited to the sixth event of Oglethorpe’s Year of Suffrage\, a two-semester program of events celebrating the centennial of the passage of the 19th Amendment granting women the right to vote. \nDr. Lejla Ibrahimbegovic\, OU Lecturer of Core Studies\, will offer “’The Progressive Feminism of Marija Jurić Zagorka’s The Witch of Grič” on Thursday\, March 18th at 6 PM via Zoom. \nMarija Juric Zagorka was the first female political journalist in Southeastern Europe\, as well as a celebrated author of socio-historical romance novels. This lecture explores her subversive work’s impact on the development of women’s rights in the region by focusing on her novel series The Witch of Grič. The Witch of Grič introduces Nera Ratkay\, whose fight for the liberation of women wrongly accused of witchcraft reflects Zagorka’s own ideals of women’s solidarity. \nZagorka’s female protagonists are inspired by her own life and are each a tour de force of courage\, independence and authenticity\, but their storylines end on a much happier note than Zagorka’s. Upon her death in 1957\, she was buried with much pomp as a member of the intellectual elite\, but her work and letters were only preserved unofficially\, indicating the precarious position that powerful women continue to find themselves in as disruptors of the status quo. Regardless of these obstacles\, Zagorka’s work proved to be a tremendous success: generations of women who grew up reading her “guilty pleasure” novels were given both a voice of their own and a community of women to support their quest for equality. \n\n\n	From the archive:
URL:https://www.globalatlanta.com/event/the-progressive-feminism-of-marija-juric-zagorkas-the-witch-of-gric/
CATEGORIES:Culture
ATTACH;FMTTYPE=image/jpeg:https://www.globalatlanta.com/wp-content/uploads/year-of-suffrage.jpg
ORGANIZER;CN="Oglethorpe University":MAILTO:(404) 261-1441
END:VEVENT
BEGIN:VEVENT
DTSTART;TZID=America/New_York:20201021T180000
DTEND;TZID=America/New_York:20201021T190000
DTSTAMP:20260425T163327
CREATED:20201019T211446Z
LAST-MODIFIED:20201019T211446Z
UID:10037802-1603303200-1603306800@www.globalatlanta.com
SUMMARY:“What if I Am a Woman?” Maria W. Stewart and Black Feminist Activism
DESCRIPTION:You are invited to the third event of Oglethorpe’s Year of Suffrage\, a two-semester program of events celebrating the centennial of the passage of the 19th Amendment granting women the right to vote. \nDr. Rhana Gittens\, OU Assistant Professor of Communication Studies\, will offer “’What if I Am a Woman?’ Maria W. Stewart and Black Feminist Activism” on Wednesday\, October 21st at 6 PM via Zoom (https://zoom.us/j/96165399413). \n  \n  \nFor African American women the movement for suffrage was entangled with the necessities to be humanized and free. Black women\, like Maria W. Stewart\, allied with abolitionists to challenge oppression\, paving the way for all women speakers. Stewart rose to the height of her career in 1832 when she became the first documented American-born woman (Black or White) to present a political oration before a mixed audience of men and women. In this talk\, Dr. Rhana Gittens reviews Stewart’s two essays\, and four speeches\, which ultimately convey the intersectional identity of being African\, American\, and woman. Embodying her Christian beliefs and a spirit of defiance\, Stewart pleads for justice and righteousness and most urgently affirms her right to speak politically as a woman. \n\n\n	From the archive:
URL:https://www.globalatlanta.com/event/what-if-i-am-a-woman-maria-w-stewart-and-black-feminist-activism/
CATEGORIES:Culture
ATTACH;FMTTYPE=image/png:https://www.globalatlanta.com/wp-content/uploads/719701fc-e27f-41b6-910f-f85a3eebcd48b732d2c3-eccb-440b-b3a3-479e537bacb8.png
ORGANIZER;CN="Oglethorpe University":MAILTO:(404) 261-1441
END:VEVENT
BEGIN:VEVENT
DTSTART;TZID=America/New_York:20191113T190000
DTEND;TZID=America/New_York:20191113T200000
DTSTAMP:20260425T163327
CREATED:20190927T134753Z
LAST-MODIFIED:20190927T134753Z
UID:10038692-1573671600-1573675200@www.globalatlanta.com
SUMMARY:Lecture by Nelda Damiano: The Poetry of Light\, People and Places in 19th Century France
DESCRIPTION:Come join for a lecture at Oglethorpe Museum of Art by Nelda Damiano\, who is the Pierre Daura Curator of European Art at the Georgia Museum of Art \n\n\n	From the archive:
URL:https://www.globalatlanta.com/event/lecture-by-nelda-damiano-the-poetry-of-light-people-and-places-in-19th-century-france/
CATEGORIES:Arts & Humanities
ATTACH;FMTTYPE=image/jpeg:https://www.globalatlanta.com/wp-content/uploads/Oglethorpe_-_Art_Museum_logo-e1694640804675.jpg
ORGANIZER;CN="Oglethorpe University":MAILTO:(404) 261-1441
END:VEVENT
BEGIN:VEVENT
DTSTART;TZID=America/New_York:20191106T190000
DTEND;TZID=America/New_York:20191106T200000
DTSTAMP:20260425T163327
CREATED:20190919T194835Z
LAST-MODIFIED:20190919T194835Z
UID:10038679-1573066800-1573070400@www.globalatlanta.com
SUMMARY:Lecture by Dr. Jay Lutz: Verlaine and Faure's 19th Century Muted Rococo
DESCRIPTION:Jay Lutz\, PhD\, Professor of French\, Frances I Eeraerts ’76 Professor of Foreign Language\, OU presents a lecture entitled Verlaine and Fauré’s 19th Century Muted Rococo \n\n\n	From the archive:
URL:https://www.globalatlanta.com/event/lecture-by-dr-jay-lutz-verlaine-and-faures-19th-century-muted-rococo/
CATEGORIES:Arts & Humanities
ATTACH;FMTTYPE=image/png:https://www.globalatlanta.com/wp-content/uploads/Screen-Shot-2019-09-19-at-3.47.48-PM.png
ORGANIZER;CN="Oglethorpe University":MAILTO:(404) 261-1441
END:VEVENT
BEGIN:VEVENT
DTSTART;TZID=America/New_York:20191103T160000
DTEND;TZID=America/New_York:20191103T170000
DTSTAMP:20260425T163327
CREATED:20190919T190758Z
LAST-MODIFIED:20190919T190758Z
UID:10037282-1572796800-1572800400@www.globalatlanta.com
SUMMARY:Skylight Concert Series Presents Ravel\, Massenet\, and More
DESCRIPTION:Founded in 2012 by John Alan Wickey\, Atlanta Harp Sound Ensemble is comprised of an eclectic group of harpists from all over metro-Atlanta. Skylight Gallery Concert admission: $10 at the door. Free for members\, children under 12\, and with an OU Petrel Pass. More information: museum.oglethorpe.edu or 404-364-8555. \n\n\n	From the archive:
URL:https://www.globalatlanta.com/event/skylight-concert-series-presents-ravel-massenet-and-more/
CATEGORIES:Music
ATTACH;FMTTYPE=image/jpeg:https://www.globalatlanta.com/wp-content/uploads/Harp-Concert.jpg
ORGANIZER;CN="Oglethorpe University":MAILTO:(404) 261-1441
END:VEVENT
BEGIN:VEVENT
DTSTART;TZID=America/New_York:20191101T200000
DTEND;TZID=America/New_York:20191101T220000
DTSTAMP:20260425T163327
CREATED:20191016T202504Z
LAST-MODIFIED:20191016T202504Z
UID:10038712-1572638400-1572645600@www.globalatlanta.com
SUMMARY:The University Singers Fall Concert
DESCRIPTION:The Oglethorpe Music Department presents the University Singers Fall Concert!\nRecently returned from a tour in China where the choir joined two other American choirs at the Xi’an International Music Festival\, the University Singers are joined by several orchestral ensembles from the music department under the direction of Dr. Timothy Powell. \n\n\n	From the archive:
URL:https://www.globalatlanta.com/event/the-university-singers-fall-concert/
LOCATION:Conant Performing Arts Center\, 4484 Peachtree Rd NE\, Atlanta\, GA\, 30319\, United States
CATEGORIES:Music
ATTACH;FMTTYPE=image/jpeg:https://www.globalatlanta.com/wp-content/uploads/OU-Singers-2-2018-Oglethorpe.jpg
ORGANIZER;CN="Oglethorpe University":MAILTO:(404) 261-1441
GEO:33.8737302;-84.3304946
X-APPLE-STRUCTURED-LOCATION;VALUE=URI;X-ADDRESS=Conant Performing Arts Center 4484 Peachtree Rd NE Atlanta GA 30319 United States;X-APPLE-RADIUS=500;X-TITLE=4484 Peachtree Rd NE:geo:-84.3304946,33.8737302
END:VEVENT
BEGIN:VEVENT
DTSTART;TZID=America/New_York:20180906T180000
DTEND;TZID=America/New_York:20180906T190000
DTSTAMP:20260425T163327
CREATED:20180831T204352Z
LAST-MODIFIED:20180831T204352Z
UID:10037950-1536256800-1536260400@www.globalatlanta.com
SUMMARY:Lecture: “Martin Du Gard’s Thibault Family and World War I” by Dr. Jay Lutz
DESCRIPTION:World War I: 100th Anniversary Commemoration is a campus-wide\, semester long effort to commemorate the history of the event. \nThe staff of the Philip Weltner Library has partnered with the faculty in the French\, German\, English\, History\, and Music department to present a dynamic series of lectures\, films\, and performances which explore the rich history of World War I. There will a lecture presented by Dr. Jay Lutz\, the professor of French here at Oglethorpe University. \n  \nLocation: Earl Dolive Theatre\, located on the second floor of the Philip Weltner Library \n\n\n	From the archive:
URL:https://www.globalatlanta.com/event/lecture-martin-du-gards-thibault-family-and-world-war-i-by-dr-jay-lutz/
CATEGORIES:Education
ATTACH;FMTTYPE=image/jpeg:https://www.globalatlanta.com/wp-content/uploads/oglethorpe-e1694100896462.jpg
ORGANIZER;CN="Oglethorpe University":MAILTO:(404) 261-1441
END:VEVENT
END:VCALENDAR