BEGIN:VCALENDAR
VERSION:2.0
PRODID:-//Global Atlanta - ECPv6.15.20//NONSGML v1.0//EN
CALSCALE:GREGORIAN
METHOD:PUBLISH
X-WR-CALNAME:Global Atlanta
X-ORIGINAL-URL:https://www.globalatlanta.com
X-WR-CALDESC:Events for Global Atlanta
REFRESH-INTERVAL;VALUE=DURATION:PT1H
X-Robots-Tag:noindex
X-PUBLISHED-TTL:PT1H
BEGIN:VTIMEZONE
TZID:America/New_York
BEGIN:DAYLIGHT
TZOFFSETFROM:-0500
TZOFFSETTO:-0400
TZNAME:EDT
DTSTART:20190310T070000
END:DAYLIGHT
BEGIN:STANDARD
TZOFFSETFROM:-0400
TZOFFSETTO:-0500
TZNAME:EST
DTSTART:20191103T060000
END:STANDARD
BEGIN:DAYLIGHT
TZOFFSETFROM:-0500
TZOFFSETTO:-0400
TZNAME:EDT
DTSTART:20200308T070000
END:DAYLIGHT
BEGIN:STANDARD
TZOFFSETFROM:-0400
TZOFFSETTO:-0500
TZNAME:EST
DTSTART:20201101T060000
END:STANDARD
BEGIN:DAYLIGHT
TZOFFSETFROM:-0500
TZOFFSETTO:-0400
TZNAME:EDT
DTSTART:20210314T070000
END:DAYLIGHT
BEGIN:STANDARD
TZOFFSETFROM:-0400
TZOFFSETTO:-0500
TZNAME:EST
DTSTART:20211107T060000
END:STANDARD
BEGIN:DAYLIGHT
TZOFFSETFROM:-0500
TZOFFSETTO:-0400
TZNAME:EDT
DTSTART:20220313T070000
END:DAYLIGHT
BEGIN:STANDARD
TZOFFSETFROM:-0400
TZOFFSETTO:-0500
TZNAME:EST
DTSTART:20221106T060000
END:STANDARD
BEGIN:DAYLIGHT
TZOFFSETFROM:-0500
TZOFFSETTO:-0400
TZNAME:EDT
DTSTART:20230312T070000
END:DAYLIGHT
BEGIN:STANDARD
TZOFFSETFROM:-0400
TZOFFSETTO:-0500
TZNAME:EST
DTSTART:20231105T060000
END:STANDARD
BEGIN:DAYLIGHT
TZOFFSETFROM:-0500
TZOFFSETTO:-0400
TZNAME:EDT
DTSTART:20240310T070000
END:DAYLIGHT
BEGIN:STANDARD
TZOFFSETFROM:-0400
TZOFFSETTO:-0500
TZNAME:EST
DTSTART:20241103T060000
END:STANDARD
BEGIN:DAYLIGHT
TZOFFSETFROM:-0500
TZOFFSETTO:-0400
TZNAME:EDT
DTSTART:20250309T070000
END:DAYLIGHT
BEGIN:STANDARD
TZOFFSETFROM:-0400
TZOFFSETTO:-0500
TZNAME:EST
DTSTART:20251102T060000
END:STANDARD
END:VTIMEZONE
BEGIN:VEVENT
DTSTART;TZID=America/New_York:20240424T183000
DTEND;TZID=America/New_York:20240424T203000
DTSTAMP:20260425T071148
CREATED:20240416T151327Z
LAST-MODIFIED:20240418T010720Z
UID:10040194-1713983400-1713990600@www.globalatlanta.com
SUMMARY:Atlanta Hosts Nigerian Art with Kainebi Osahenye and Taiye Idahor
DESCRIPTION:The Atlanta Mayor’s Offices of International & Immigrant Affairs and Cultural Affairs\, in collaboration with the Atlanta Beltline\, is celebrating the fifty-year anniversary of the Alanta-Lagos Sister City agreement by hosting two artists from Lagos. The artists are a part of the public art residency and exhibition sponsored by the Atlanta Beltline and curated by Lauren Tate Baeza. \n\n\n\nJoin a blend of artists\, Nigerian community\, Africans in the Diaspora\, and art lovers in a townhall style talk on the Atlanta-Lagos sister city agreement\, the importance of artist residencies like this\, the artists’ work process and the unveiling of the artists’ public art. \n\n\n\nLight refreshments will be served. \n\n\n\n\n\n\nRegister\n\n\n\n\n\n\n\n\n\n\n\n\n\n\n\n\n\n	From the archive:
URL:https://www.globalatlanta.com/event/atlanta-hosts-nigerian-art-with-kainebi-osahenye-and-taiye-idahor-2/
LOCATION:72 Marietta St NW\, 72 Marietta Street NorthWest\, Atlanta\, Georgia\, 30303
CATEGORIES:Africa,Art
ATTACH;FMTTYPE=image/png:https://www.globalatlanta.com/wp-content/uploads/Mayors-office-int-affairs-logo-1.png
END:VEVENT
BEGIN:VEVENT
DTSTART;TZID=America/New_York:20200430T140000
DTEND;TZID=America/New_York:20200430T153000
DTSTAMP:20260425T071148
CREATED:20200424T132355Z
LAST-MODIFIED:20200424T132355Z
UID:10038943-1588255200-1588260600@www.globalatlanta.com
SUMMARY:Women + Trade Panel Discussion
DESCRIPTION:Highlighting women exporters\, their impact on the global economy\, and how they are managing and dealing with the current COVID-19 crisis\n\n\n\n\n\n\n\n\nWomen’s History Month may have passed\, but the Mayor’s Office of International Affairs (MOIA) and the Women’s Chamber of Commerce want to highlight the contribution of women in trade. As part of MOIA’s trade promotion initiative you are invited to Women + Trade – a virtual panel discussion highlighting women exporters\, their impact on the global economy\, and how they are managing and dealing with the current COVID-19 crisis. You will also hear from the Small Business Administration Center (SBDC)\, the EXIM Bank and Invest Atlanta about resources to support small businesses and exporters during the current crisis. \nYou’ll hear firsthand from the following speakers about their journey\, best practices\, and navigating the COVID-19 crisis: \n\nDoll Avant\, Founder & CEO\, Aquagenuity\nAmy Barbieri\, Co-Founder\, Chief Revenue Officer & VP of Marketing\, VITAL4\nAndal Balu\, Founder\, Inno Concepts\, Inc. & Founder\, CocoaTown.com\nAnnie Eaton\, CEO\, Futurus\n\nYou’ll also hear from the following speakers about resources to support businesses during the COVID-19 crisis: \n\nDarrel Hulsey\, Small Business Development Center UGA\nNathan Regan\, Invest Atlanta\nNicole Woods\, EXIM Bank\nMichael Theisen-Jones\, Metro Atlanta Chamber\n\nWomen-owned businesses account for 39% of all U.S. firms\, employ almost 9 million people\, and generate over $1.7 trillion in revenues. While women’s entrepreneurship has been on the rise\, less than 15% of firms that export are women-owned companies. \nPlease join for this special event to hear firsthand export accounts from metro Atlanta–based companies and learn about the different tools\, resources\, and services available to support your international journey.Zoom details will be shared after registration. \n\n\n\n\n\n\n	From the archive:
URL:https://www.globalatlanta.com/event/women-trade-panel-discussion/
CATEGORIES:Business,Health,Trade
ATTACH;FMTTYPE=image/jpeg:https://www.globalatlanta.com/wp-content/uploads/https___cdn.evbuc_.com_images_98456086_401063530207_1_original.jpeg
END:VEVENT
END:VCALENDAR