BEGIN:VCALENDAR
VERSION:2.0
PRODID:-//Global Atlanta - ECPv6.15.20//NONSGML v1.0//EN
CALSCALE:GREGORIAN
METHOD:PUBLISH
X-ORIGINAL-URL:https://www.globalatlanta.com
X-WR-CALDESC:Events for Global Atlanta
REFRESH-INTERVAL;VALUE=DURATION:PT1H
X-Robots-Tag:noindex
X-PUBLISHED-TTL:PT1H
BEGIN:VTIMEZONE
TZID:America/New_York
BEGIN:DAYLIGHT
TZOFFSETFROM:-0500
TZOFFSETTO:-0400
TZNAME:EDT
DTSTART:20160313T070000
END:DAYLIGHT
BEGIN:STANDARD
TZOFFSETFROM:-0400
TZOFFSETTO:-0500
TZNAME:EST
DTSTART:20161106T060000
END:STANDARD
BEGIN:DAYLIGHT
TZOFFSETFROM:-0500
TZOFFSETTO:-0400
TZNAME:EDT
DTSTART:20170312T070000
END:DAYLIGHT
BEGIN:STANDARD
TZOFFSETFROM:-0400
TZOFFSETTO:-0500
TZNAME:EST
DTSTART:20171105T060000
END:STANDARD
BEGIN:DAYLIGHT
TZOFFSETFROM:-0500
TZOFFSETTO:-0400
TZNAME:EDT
DTSTART:20180311T070000
END:DAYLIGHT
BEGIN:STANDARD
TZOFFSETFROM:-0400
TZOFFSETTO:-0500
TZNAME:EST
DTSTART:20181104T060000
END:STANDARD
BEGIN:DAYLIGHT
TZOFFSETFROM:-0500
TZOFFSETTO:-0400
TZNAME:EDT
DTSTART:20190310T070000
END:DAYLIGHT
BEGIN:STANDARD
TZOFFSETFROM:-0400
TZOFFSETTO:-0500
TZNAME:EST
DTSTART:20191103T060000
END:STANDARD
BEGIN:DAYLIGHT
TZOFFSETFROM:-0500
TZOFFSETTO:-0400
TZNAME:EDT
DTSTART:20200308T070000
END:DAYLIGHT
BEGIN:STANDARD
TZOFFSETFROM:-0400
TZOFFSETTO:-0500
TZNAME:EST
DTSTART:20201101T060000
END:STANDARD
BEGIN:DAYLIGHT
TZOFFSETFROM:-0500
TZOFFSETTO:-0400
TZNAME:EDT
DTSTART:20210314T070000
END:DAYLIGHT
BEGIN:STANDARD
TZOFFSETFROM:-0400
TZOFFSETTO:-0500
TZNAME:EST
DTSTART:20211107T060000
END:STANDARD
BEGIN:DAYLIGHT
TZOFFSETFROM:-0500
TZOFFSETTO:-0400
TZNAME:EDT
DTSTART:20220313T070000
END:DAYLIGHT
BEGIN:STANDARD
TZOFFSETFROM:-0400
TZOFFSETTO:-0500
TZNAME:EST
DTSTART:20221106T060000
END:STANDARD
BEGIN:DAYLIGHT
TZOFFSETFROM:-0500
TZOFFSETTO:-0400
TZNAME:EDT
DTSTART:20230312T070000
END:DAYLIGHT
BEGIN:STANDARD
TZOFFSETFROM:-0400
TZOFFSETTO:-0500
TZNAME:EST
DTSTART:20231105T060000
END:STANDARD
BEGIN:DAYLIGHT
TZOFFSETFROM:-0500
TZOFFSETTO:-0400
TZNAME:EDT
DTSTART:20240310T070000
END:DAYLIGHT
BEGIN:STANDARD
TZOFFSETFROM:-0400
TZOFFSETTO:-0500
TZNAME:EST
DTSTART:20241103T060000
END:STANDARD
BEGIN:DAYLIGHT
TZOFFSETFROM:-0500
TZOFFSETTO:-0400
TZNAME:EDT
DTSTART:20250309T070000
END:DAYLIGHT
BEGIN:STANDARD
TZOFFSETFROM:-0400
TZOFFSETTO:-0500
TZNAME:EST
DTSTART:20251102T060000
END:STANDARD
BEGIN:DAYLIGHT
TZOFFSETFROM:-0500
TZOFFSETTO:-0400
TZNAME:EDT
DTSTART:20260308T070000
END:DAYLIGHT
BEGIN:STANDARD
TZOFFSETFROM:-0400
TZOFFSETTO:-0500
TZNAME:EST
DTSTART:20261101T060000
END:STANDARD
END:VTIMEZONE
BEGIN:VEVENT
DTSTART;TZID=America/New_York:20251204T183000
DTEND;TZID=America/New_York:20251204T213000
DTSTAMP:20260425T201526
CREATED:20251021T031141Z
LAST-MODIFIED:20251202T142552Z
UID:10040880-1764873000-1764883800@www.globalatlanta.com
SUMMARY:World Chamber of Commerce Holiday Celebration At Cirque Du Soleil “Luzia”
DESCRIPTION:Poetically guided by light (‘luz’ in Spanish) and rain (‘lluvia’)\, LUZIA chronicles the encounters of a parachuted traveler with the culture\, nature and mythology of a dreamlike land inhabited by a mystifying menagerie of characters. LUZIA enchants by artistically incorporating water into the acrobatic presentation – a first for a Cirque du Soleil touring production. \n\n\n\nEmbark on a journey into the colorful and fantastical world of LUZIA\, set in a make-believe Mexico\, where you will be treated to stunning visual surprises and breathtaking acrobatic performances. LUZIA deftly guides you through the locations\, people\, and sounds of both classical and contemporary Mexico\, taking you from urban locations like an old movie set and a smoke-filled dance hall to the beach and barren desert. \n\n\n\n\n\n\nRegister\n\n\n\n\n\n\n\n\n\n\n\n\n\n\n\n\n\n\n\n	From the archive:
URL:https://www.globalatlanta.com/event/cirque-du-soleil-luzia/
LOCATION:Under the Big Top\, Atlantic Station\, 241 20th Street NW\, Atlanta\, Georgia\, 30363\, United States
CATEGORIES:Holiday,Mexico
ATTACH;FMTTYPE=image/jpeg:https://www.globalatlanta.com/wp-content/uploads/wcc-events-logo.jpg
END:VEVENT
BEGIN:VEVENT
DTSTART;TZID=America/New_York:20231207T183000
DTEND;TZID=America/New_York:20231207T210000
DTSTAMP:20260425T201526
CREATED:20231110T202823Z
LAST-MODIFIED:20231128T195714Z
UID:10039970-1701973800-1701982800@www.globalatlanta.com
SUMMARY:World Chamber of Commerce Holiday Networking and Cirque Du Soleil ECHO Performance
DESCRIPTION:Cirque du Soleil’s 20th Big Top show brings bold new visuals and a unique aesthetic on tour. Packed with vibrant characters\, inspiring music\, astounding lights and projections\, and never-before-seen acrobatic feats\, ECHO invites audiences on a journey through a universe of color\, wonder\, and infinite possibilities. \n\n\n\nSpeakers and Guests of Honor include:\n\n\n\n\nLou Gossett Jr.\, Oscar Award Winner\n\n\n\nConsul General of France\, Anne-Laure Desjonquères receiving the WCC Global Hero Award\n\n\n\nConsul of Lithuania\, Roma Klicius\n\n\n\nConsul of Poland\, R. Lawrence Ashe\n\n\n\nConsul of Latvia\, Kevin Casebier\n\n\n\nWCC Board Member\, Master of Ceremony\, Jim Ginocchio\, Former Producer Turner Broadcasting and NBC Atlanta\n\n\n\n\nPurchase tickets – Click Here \n\n\n\n(Ticket includes the WCC Event\, one drink/snacks and Cirque Du Soleil ECHO Performance) \n\n\n\n\n\n\nRegister\n\n\n\n\n\n\n\n\n\n\n\n\n\n\n\n\n\n\n\n\n\n\n\n\n\n	From the archive:
URL:https://www.globalatlanta.com/event/world-chamber-of-commerce-holiday-networking-and-cirque-du-soleil-echo-performrance/
LOCATION:Under the Big Top\, Atlantic Station\, 241 20th Street NW\, Atlanta\, Georgia\, 30363\, United States
CATEGORIES:Music,Networking
ATTACH;FMTTYPE=image/jpeg:https://www.globalatlanta.com/wp-content/uploads/wcc-events-logo.jpg
END:VEVENT
BEGIN:VEVENT
DTSTART;TZID=America/New_York:20231108T130000
DTEND;TZID=America/New_York:20231108T150000
DTSTAMP:20260425T201526
CREATED:20231010T203127Z
LAST-MODIFIED:20231010T203138Z
UID:10038629-1699448400-1699455600@www.globalatlanta.com
SUMMARY:Human Trafficking Awareness Summit: Protecting Our Families and Businesses
DESCRIPTION:“According to a recently released report by the State Department\, the top three nations of origin for victims of human trafficking were the United States\, Mexico and the Philippines”. \n\n\n\nThe WCC creates awareness about human trafficking\, a form of slavery\, to protect our children\, our businesses\, our nations! Become informed about this crime\, in our own communities and support these children survivors by attending the WCC Event at Gigi’s House. \n\n\n\n\n\n\nRegister\n\n\n\n\n\n\n\n\n\n\n\n\n\n\n\n\n\n\n\n\n\n\n\n\n\n	From the archive:
URL:https://www.globalatlanta.com/event/human-trafficking-awareness-summit-protecting-our-families-and-businesses/
LOCATION:Gigi’s House
CATEGORIES:Humanitarian
ATTACH;FMTTYPE=image/jpeg:https://www.globalatlanta.com/wp-content/uploads/wcc-events-logo.jpg
END:VEVENT
BEGIN:VEVENT
DTSTART;TZID=America/New_York:20221117T180000
DTEND;TZID=America/New_York:20221117T200000
DTSTAMP:20260425T201526
CREATED:20221014T182428Z
LAST-MODIFIED:20221014T182428Z
UID:10007100-1668708000-1668715200@www.globalatlanta.com
SUMMARY:The World Chamber of Commerce Film and Commercial Real Estate Summit
DESCRIPTION:For over a decade\, the World Chamber of Commerce (WCC) continues to foster business\, cultural\, and humanitarian initiatives. The purpose of this WCC event is to promote the Film and Real Estate industries in Georgia\, as very successful opportunities for businesses worldwide. Furthermore\, speakers and “Guests of Honor” will be recognized for their extraordinary efforts to promote business exchange in their industries\, and humanitarian goals\, further improving our society. \n  \nWCC Honorees and Guests of Honor Include:\nLou Gossett Jr.\nOscar Award Winner\nWCC Lifetime Achievement Award\n\nStratton Leopold\nFilm Producer and Former Executive Vice President\nParamount Pictures\nProduced movies such as “Mission Impossible III” and “Captain America”\nWCC Global Hero Award recipient\n\nAmbassador Dr. Amina Smaila\nConsulate General of Nigeria\nWCC Global Hero Recognition\n\nConsul Kevin Casebier\nConsulate of Latvia in Georgia\nWCC Board Member\n\n\nPerformance:\nMaestro Juan Ramirez \nAtlanta Symphony Orchestra \nDavid D. Ramirez\, Cello \n  \nA portion of the event proceeds will be donated to a non-profit organization\, supporting human trafficking victims: EVE Women’s Ministry \n\n\n\n	From the archive:
URL:https://www.globalatlanta.com/event/the-world-chamber-of-commerce-film-and-commercial-real-estate-summit/
LOCATION:Gallery Anderson Smith\, 294 Buckhead Av. N.E.\, Atlanta\, GA\, 30305\, United States
CATEGORIES:Business,Film,Real Estate
ATTACH;FMTTYPE=image/png:https://www.globalatlanta.com/wp-content/uploads/WCC-Logo1.png
GEO:33.8383959;-84.3784702
X-APPLE-STRUCTURED-LOCATION;VALUE=URI;X-ADDRESS=Gallery Anderson Smith 294 Buckhead Av. N.E. Atlanta GA 30305 United States;X-APPLE-RADIUS=500;X-TITLE=294 Buckhead Av. N.E.:geo:-84.3784702,33.8383959
END:VEVENT
BEGIN:VEVENT
DTSTART;TZID=America/New_York:20211015T130000
DTEND;TZID=America/New_York:20211015T153000
DTSTAMP:20260425T201526
CREATED:20210921T141321Z
LAST-MODIFIED:20210921T141321Z
UID:10039525-1634302800-1634311800@www.globalatlanta.com
SUMMARY:The World Chamber of Commerce Global Hero Awards
DESCRIPTION:For over a decade\, the World Chamber of Commerce continues fostering business\, cultural\, and humanitarian initiatives. The purpose of this WCC event is to honor heroes of the community\, promote business opportunities and humanitarian matters to improve our society.\n\n\nWCC Program\n\n\n\n12:30 p.m.-Registration\n1:00 p.m.: WCC Speakers and Recognitions\n2:00 p.m.: Networking with Dignitaries\, including Ambassadors\, Consuls\, and business leaders\n\nRegistration: Limited Tickets Available\nWCC Members: $15\, WCC Non-Members: $20 \nPlease email wcc@worldchamberc.org to purchase tickets. \nWCC Event will be broadcasted at World CC television channel\, broadcasting on Amazon Fire TV and Roku Network. with access to 100 million viewers\, globally. Furthermore\, you can watch on World CC website: www.worldcc.tv \nWCC Honorees and Guests of Honor Include:\nU.N. Ambassador Andrew Young\nAndrew Young Foundation\nWCC Humanitarian Hero Recognition \nAmbassador at the OAS\nGandy Thomas \nLou Gossett Jr.\nActor and Producer\nWCC Humanitarian Hero Recognition \nSenator Donzella James\nWCC Humanitarian Committee Chairman\nWCC Humanitarian Hero Recognition \nConsul General of Germany\nMelanie Moltmann\nConsulate of Germany \nBobby “Zorro” Hunter\nThe Original Globetrotter Player\nWCC Humanitarian Hero Recognition \nMayor Vince Williams\nCity of Union City\nWCC Board Member \nMayor Linda Blechinger\nCity of Auburn\nWCC Board Member \nRepresentative Pedro “Pete” Marin\nWCC Advisory Board \nConsul Kevin Casebier\nConsulate of Latvia in Georgia\nWCC Board Member \nNBA All-Star\nDale Davis\nPresident of Pro Player Holdings\nWCC Sports Committee Chairman \nCommissioner Larry Gator Rivers\nGlobetrotter Player\, NBA All-Star \nStan Cottrell\nWorld Ultra Runner \nMaster of Ceremony\nMark Hayes\, Former TV Anchor Good Day Atlanta\, Fox 5 National News Director\, Real Times Media \nPerformance\nMaestro Juan Ramirez\nAtlanta Symphony Orchestra\nDavid D. Ramirez\, Cello\nSindy Gutierrez\, Soprano \nIn memoriam of U.S. Congressman\, John Lewis and Curly Neal Globettroter Original Player \n\n\n\n	From the archive:
URL:https://www.globalatlanta.com/event/the-world-chamber-of-commerce-global-hero-awards/
LOCATION:Georgia State Capitol\, 206 Washington St SW \, Atlanta\, GA\, 30334\, United States
CATEGORIES:Business,Culture,Humanitarian
ATTACH;FMTTYPE=image/png:https://www.globalatlanta.com/wp-content/uploads/World-Chamber-of-Commerce.png
GEO:33.748994;-84.3880503
X-APPLE-STRUCTURED-LOCATION;VALUE=URI;X-ADDRESS=Georgia State Capitol 206 Washington St SW  Atlanta GA 30334 United States;X-APPLE-RADIUS=500;X-TITLE=206 Washington St SW:geo:-84.3880503,33.748994
END:VEVENT
BEGIN:VEVENT
DTSTART;TZID=America/New_York:20190530T133000
DTEND;TZID=America/New_York:20190530T163000
DTSTAMP:20260425T201526
CREATED:20190412T151602Z
LAST-MODIFIED:20190412T151602Z
UID:10038407-1559223000-1559233800@www.globalatlanta.com
SUMMARY:World Chamber of Commerce  Business & Humanitarian Summit
DESCRIPTION:For over a decade\, the WCC continues promoting business\, cultural\, and humanitarian initiatives. \nWCC Speakers and Guests of Honor Include: \n-Film Producer\, Director\, Writer and Actor\, Alex Kendrick\, Kendrick Brothers Productions \n-Senator Donzella James\, WCC Humanitarian Committee Chairman\,Receiving the WCC Humanitarian Hero Award \n-Senator Frank Ginn\, WCC Advisory Board \n-Representative Pedro “Pete” Marin\, WCC Advisory Board\n-Ambassador Jose Luis Jacome\, Consul General of Ecuador \n-Ambassador Gandy Thomas\, Consul General of the Republic of Haiti in New York \n-President\, Ozzie Areu\, Ozzie Areu Brothers Studio\, WCC Advisory Board Member\, Receiving the WCC Global Cultural Hero Award \n-Consul General of Belgium William De Baets\, Consulate General of the Kingdom of Belgium \n-Consul General of Germany Dr. Heike Fuller\, Consulate General of the Federal Republic of Germany \n-Consul General of Switzerland Peter Zimmerli\, Consulate General of Switzerland \n-Consul General of Mexico Javier Diaz de Leon\, Consulate General of the Republic of Mexico \n-Consul General of Argentina Jorge Lopez Menardi\, Consulate General of the Republic of Argentina \n-Mayor of the City of Union Vince Williams  \n-Mayor of the City of Auburn\, Linda Blechinger\, WCC Board Member \n-Consul of Denmark\, Chris Smith\, WCC Advisory Board \n-Consul of Liberia Cynthia Blandford\, Honorary Consulate General of the Republic of Liberia\, WCC Board\n\n\n-Consul of Chile Erika Monckeberg\, Honorary Consulate of the Republic of Chile\, WCC Advisory Board\n\n-NBA All Star\, Dale Davis\, President of Pro Player Holdings\,WCC Sports Committee Chairman \n-Ambassador Lenora Peterson \n\n\n\n\n\n\n\n\n\n\n\n\n\n\n\n\n	From the archive:
URL:https://www.globalatlanta.com/event/world-chamber-of-commerce-business-humanitarian-summit/
LOCATION:Georgia State Capitol\, 206 Washington St SW \, Atlanta\, GA\, 30334\, United States
CATEGORIES:Business,Culture,Diplomacy
ATTACH;FMTTYPE=image/jpeg:https://www.globalatlanta.com/wp-content/uploads/download-1.jpeg
GEO:33.748994;-84.3880503
X-APPLE-STRUCTURED-LOCATION;VALUE=URI;X-ADDRESS=Georgia State Capitol 206 Washington St SW  Atlanta GA 30334 United States;X-APPLE-RADIUS=500;X-TITLE=206 Washington St SW:geo:-84.3880503,33.748994
END:VEVENT
BEGIN:VEVENT
DTSTART;TZID=America/New_York:20171116T170000
DTEND;TZID=America/New_York:20171116T193000
DTSTAMP:20260425T201526
CREATED:20171025T174406Z
LAST-MODIFIED:20171025T174406Z
UID:10036561-1510851600-1510860600@www.globalatlanta.com
SUMMARY:World Chamber of Commerce-Business and Investment Symposium
DESCRIPTION:Join the World Chamber of Commerce as they host the Business and Investment Symposium. WCC Event speakers will provide investment strategies that will last a lifetime. The WCC will also  acknowledge inspirational Heroes during the event. \n\n\n	From the archive:
URL:https://www.globalatlanta.com/event/world-chamber-commerce-business-investment-symposium/
LOCATION:JW Mariott Atlanta Buckhead\, 3300 Lenox Rd. NE\, Atlanta\, GA\, 30326\, United States
CATEGORIES:Business
ATTACH;FMTTYPE=image/jpeg:https://www.globalatlanta.com/wp-content/uploads/unnamed-63.jpg
GEO:33.8466748;-84.361848
X-APPLE-STRUCTURED-LOCATION;VALUE=URI;X-ADDRESS=JW Mariott Atlanta Buckhead 3300 Lenox Rd. NE Atlanta GA 30326 United States;X-APPLE-RADIUS=500;X-TITLE=3300 Lenox Rd. NE:geo:-84.361848,33.8466748
END:VEVENT
BEGIN:VEVENT
DTSTART;TZID=America/New_York:20170504T173000
DTEND;TZID=America/New_York:20170504T193000
DTSTAMP:20260425T201526
CREATED:20170417T102143Z
LAST-MODIFIED:20170417T102143Z
UID:10036951-1493919000-1493926200@www.globalatlanta.com
SUMMARY:World Chamber of Commerce Business and Humanitarian Summit
DESCRIPTION:The WCC continues to promote business\, cultural\, and humanitarian initiatives\nfor business development.\n\n\n\n-WCC will acknowledge contributors to safety and security in business\,\nas well as humanitarian efforts to combat human trafficking.\n\n\n\n\nWCC Speakers and “Guests of Honor” Include:\n\n\n\n\n\nHonorable U.N. Ambassador \nAndrew Young\nWCC Honorary Chairman\n\nHonorable Ambassador Mark Lagon\nU.S. Ambassador-at-Large\nFormer Director of the Office to Monitor\nand Combat Trafficking in Persons\nChief Policy Officer\, Friends of the Global Fight\nAgainst AIDS\, Tuberculosis and Malaria.\n\n\n\nRoosevelt Council\, Jr.\nGeneral Manager\nHartsfield-Jackson Atlanta International Airport\nReceiving the WCC Global Hero Award\n\n\nHonorable Judge Steven Teske\nChairman of the Board of Georgia Children\nand Youth Coordinating Council\n\nGareth Morgan\nHead of North America for the\nWelsh Government\nEmbassy of the United Kingdom\n\nNicolas Sidokpohou \nFirst Secretary of Embassy of Benin\n\n\nConsul General of Belgium\nWilliam De Baets\nWCC Advisory Board member\n\nConsul General of Mexico \nJavier Diaz de Leon\n\nConsul General of India\nNagesh Singh\n\nConsul General Nigeria \nKayode Laro\n\n\n\nConsul of Lithuania \n    Dr. Roma Klicius\, M.D.\nWCC President\n\nConsul of Ecuador \n    Patricia Boezio\nWCC Board Member\n\n\nConsul of Philippines \n    Ray Donato\nWCC Advisory Board member\n\nConsul of Chile \nErika Monckeberg\n\n\nConsul of Barbados\nDavid Cutting\n\nLouise Fortin\nDirector\nEconomic Affairs\nQuebec Government-Atlanta\n\n\n\nWCC Global Humanitarian Hero Award\nAllison Ashe\nExecutive Director\nCovenant House\nReceiving the WCC Global Humanitarian Hero Award\n\n\nJeff Shaw\nExecutive Director\nOut of Darkness\, Ministry of Atlanta Dreams\nReceiving the WCC Global Humanitarian Hero Award\n\n\n\n\n\nMaster of Ceremony\nJohn Lemley\nRadio Host and Producer\n“City Cafe” at 1690/WMLB “Voice of the Arts”\n\n\n\n\n\n\n\nLive Performance\n\n\n\n\n\n\n\nOllie Patterson\nSaxophonist\n\n\n\n\n\n\n\n\n\nWCC Program\n\n\n5:00 p.m.-Registration\n5:30 p.m.: WCC Speakers and Awards\n6:15 p.m.: Performance and Networking\nwith Dignitaries\, including Ambassadors\, Consuls and business leaders.\n\n\n\n\n\n\n\n	From the archive:
URL:https://www.globalatlanta.com/event/world-chamber-commerce-business-humanitarian-summit/
LOCATION:Georgia International Convention Center\, 2000 Convention Center Concourse\, College Park\, GA\, 30337\, United States
CATEGORIES:Entertainment
GEO:33.6455289;-84.4585789
X-APPLE-STRUCTURED-LOCATION;VALUE=URI;X-ADDRESS=Georgia International Convention Center 2000 Convention Center Concourse College Park GA 30337 United States;X-APPLE-RADIUS=500;X-TITLE=2000 Convention Center Concourse:geo:-84.4585789,33.6455289
END:VEVENT
END:VCALENDAR