BEGIN:VCALENDAR
VERSION:2.0
PRODID:-//Global Atlanta - ECPv6.15.20//NONSGML v1.0//EN
CALSCALE:GREGORIAN
METHOD:PUBLISH
X-WR-CALNAME:Global Atlanta
X-ORIGINAL-URL:https://www.globalatlanta.com
X-WR-CALDESC:Events for Global Atlanta
REFRESH-INTERVAL;VALUE=DURATION:PT1H
X-Robots-Tag:noindex
X-PUBLISHED-TTL:PT1H
BEGIN:VTIMEZONE
TZID:America/New_York
BEGIN:DAYLIGHT
TZOFFSETFROM:-0500
TZOFFSETTO:-0400
TZNAME:EDT
DTSTART:20150308T070000
END:DAYLIGHT
BEGIN:STANDARD
TZOFFSETFROM:-0400
TZOFFSETTO:-0500
TZNAME:EST
DTSTART:20151101T060000
END:STANDARD
BEGIN:DAYLIGHT
TZOFFSETFROM:-0500
TZOFFSETTO:-0400
TZNAME:EDT
DTSTART:20160313T070000
END:DAYLIGHT
BEGIN:STANDARD
TZOFFSETFROM:-0400
TZOFFSETTO:-0500
TZNAME:EST
DTSTART:20161106T060000
END:STANDARD
BEGIN:DAYLIGHT
TZOFFSETFROM:-0500
TZOFFSETTO:-0400
TZNAME:EDT
DTSTART:20170312T070000
END:DAYLIGHT
BEGIN:STANDARD
TZOFFSETFROM:-0400
TZOFFSETTO:-0500
TZNAME:EST
DTSTART:20171105T060000
END:STANDARD
BEGIN:DAYLIGHT
TZOFFSETFROM:-0500
TZOFFSETTO:-0400
TZNAME:EDT
DTSTART:20180311T070000
END:DAYLIGHT
BEGIN:STANDARD
TZOFFSETFROM:-0400
TZOFFSETTO:-0500
TZNAME:EST
DTSTART:20181104T060000
END:STANDARD
BEGIN:DAYLIGHT
TZOFFSETFROM:-0500
TZOFFSETTO:-0400
TZNAME:EDT
DTSTART:20190310T070000
END:DAYLIGHT
BEGIN:STANDARD
TZOFFSETFROM:-0400
TZOFFSETTO:-0500
TZNAME:EST
DTSTART:20191103T060000
END:STANDARD
BEGIN:DAYLIGHT
TZOFFSETFROM:-0500
TZOFFSETTO:-0400
TZNAME:EDT
DTSTART:20200308T070000
END:DAYLIGHT
BEGIN:STANDARD
TZOFFSETFROM:-0400
TZOFFSETTO:-0500
TZNAME:EST
DTSTART:20201101T060000
END:STANDARD
BEGIN:DAYLIGHT
TZOFFSETFROM:-0500
TZOFFSETTO:-0400
TZNAME:EDT
DTSTART:20210314T070000
END:DAYLIGHT
BEGIN:STANDARD
TZOFFSETFROM:-0400
TZOFFSETTO:-0500
TZNAME:EST
DTSTART:20211107T060000
END:STANDARD
BEGIN:DAYLIGHT
TZOFFSETFROM:-0500
TZOFFSETTO:-0400
TZNAME:EDT
DTSTART:20220313T070000
END:DAYLIGHT
BEGIN:STANDARD
TZOFFSETFROM:-0400
TZOFFSETTO:-0500
TZNAME:EST
DTSTART:20221106T060000
END:STANDARD
BEGIN:DAYLIGHT
TZOFFSETFROM:-0500
TZOFFSETTO:-0400
TZNAME:EDT
DTSTART:20230312T070000
END:DAYLIGHT
BEGIN:STANDARD
TZOFFSETFROM:-0400
TZOFFSETTO:-0500
TZNAME:EST
DTSTART:20231105T060000
END:STANDARD
BEGIN:DAYLIGHT
TZOFFSETFROM:-0500
TZOFFSETTO:-0400
TZNAME:EDT
DTSTART:20240310T070000
END:DAYLIGHT
BEGIN:STANDARD
TZOFFSETFROM:-0400
TZOFFSETTO:-0500
TZNAME:EST
DTSTART:20241103T060000
END:STANDARD
BEGIN:DAYLIGHT
TZOFFSETFROM:-0500
TZOFFSETTO:-0400
TZNAME:EDT
DTSTART:20250309T070000
END:DAYLIGHT
BEGIN:STANDARD
TZOFFSETFROM:-0400
TZOFFSETTO:-0500
TZNAME:EST
DTSTART:20251102T060000
END:STANDARD
BEGIN:DAYLIGHT
TZOFFSETFROM:-0500
TZOFFSETTO:-0400
TZNAME:EDT
DTSTART:20260308T070000
END:DAYLIGHT
BEGIN:STANDARD
TZOFFSETFROM:-0400
TZOFFSETTO:-0500
TZNAME:EST
DTSTART:20261101T060000
END:STANDARD
END:VTIMEZONE
BEGIN:VEVENT
DTSTART;TZID=America/New_York:20250212T100000
DTEND;TZID=America/New_York:20250212T100000
DTSTAMP:20260420T162351
CREATED:20250106T034230Z
LAST-MODIFIED:20250106T034515Z
UID:10040533-1739354400-1739354400@www.globalatlanta.com
SUMMARY:JA-GA Futures Forum: Creating the Next Era of Global Leaders
DESCRIPTION:The Japan-America Society of Georgia and KSU host the 2nd annual JA-GA Futures Forum to explore the past\, present\, and future of the evermore important bilateral partnership between Japan and the U.S. \n\n\n\nDownload flyer to see panelists\, presenters\, and featured guest speakers. \n\n\n\n\n\n\nRegister\n\n\n\n\n\n\n\nDownload Flyer\n\n\n\n\n\n\n\n\n\n\n\n\n\n\n\n\n\n	From the archive:
URL:https://www.globalatlanta.com/event/save-the-date-ja-ga-futures-forum-creating-the-next-era-of-global-leaders/
LOCATION:Carmichael Student Center\, University Rooms A-E\, 1000 Chastain Rd\, Kennesaw\, GA\, 30144
CATEGORIES:Asia,international relations,Japan,Networking
ATTACH;FMTTYPE=image/png:https://www.globalatlanta.com/wp-content/uploads/jasg-events-logo.png
GEO:34.038296;-84.5830609
X-APPLE-STRUCTURED-LOCATION;VALUE=URI;X-ADDRESS=Carmichael Student Center University Rooms A-E 1000 Chastain Rd Kennesaw GA 30144;X-APPLE-RADIUS=500;X-TITLE=1000 Chastain Rd:geo:-84.5830609,34.038296
END:VEVENT
BEGIN:VEVENT
DTSTART;TZID=America/New_York:20161019T123000
DTEND;TZID=America/New_York:20161019T134500
DTSTAMP:20260420T162351
CREATED:20161013T192754Z
LAST-MODIFIED:20161013T192754Z
UID:10036629-1476880200-1476884700@www.globalatlanta.com
SUMMARY:Year of Russia
DESCRIPTION:Featuring performances of classical Russian music and dance as well as examples of authentic Russian cuisine\, the Year of Russia Day serves as an introduction to Russia’s culture and to Kennesaw State University’s Annual Country Study Program\, which has promoted knowledge and understanding of the world’s cultures for more than 30 years. \nThe Year of Russia Day’s festivities include \n\nConcert performed by the Atlanta Balalaika Society\nFull ‘Taste of Russia’ meny prepared by KSU Catering\n\n\n\n	From the archive:
URL:https://www.globalatlanta.com/event/year-of-russia/
LOCATION:Carmichael Student Center\, University Rooms A-E\, 1000 Chastain Rd\, Kennesaw\, GA\, 30144
ATTACH;FMTTYPE=image/jpeg:https://www.globalatlanta.com/wp-content/uploads/unnamed-39.jpg
GEO:34.038296;-84.5830609
X-APPLE-STRUCTURED-LOCATION;VALUE=URI;X-ADDRESS=Carmichael Student Center University Rooms A-E 1000 Chastain Rd Kennesaw GA 30144;X-APPLE-RADIUS=500;X-TITLE=1000 Chastain Rd:geo:-84.5830609,34.038296
END:VEVENT
END:VCALENDAR