BEGIN:VCALENDAR
VERSION:2.0
PRODID:-//Global Atlanta - ECPv6.15.20//NONSGML v1.0//EN
CALSCALE:GREGORIAN
METHOD:PUBLISH
X-ORIGINAL-URL:https://www.globalatlanta.com
X-WR-CALDESC:Events for Global Atlanta
REFRESH-INTERVAL;VALUE=DURATION:PT1H
X-Robots-Tag:noindex
X-PUBLISHED-TTL:PT1H
BEGIN:VTIMEZONE
TZID:America/New_York
BEGIN:DAYLIGHT
TZOFFSETFROM:-0500
TZOFFSETTO:-0400
TZNAME:EDT
DTSTART:20140309T070000
END:DAYLIGHT
BEGIN:STANDARD
TZOFFSETFROM:-0400
TZOFFSETTO:-0500
TZNAME:EST
DTSTART:20141102T060000
END:STANDARD
BEGIN:DAYLIGHT
TZOFFSETFROM:-0500
TZOFFSETTO:-0400
TZNAME:EDT
DTSTART:20150308T070000
END:DAYLIGHT
BEGIN:STANDARD
TZOFFSETFROM:-0400
TZOFFSETTO:-0500
TZNAME:EST
DTSTART:20151101T060000
END:STANDARD
BEGIN:DAYLIGHT
TZOFFSETFROM:-0500
TZOFFSETTO:-0400
TZNAME:EDT
DTSTART:20160313T070000
END:DAYLIGHT
BEGIN:STANDARD
TZOFFSETFROM:-0400
TZOFFSETTO:-0500
TZNAME:EST
DTSTART:20161106T060000
END:STANDARD
BEGIN:DAYLIGHT
TZOFFSETFROM:-0500
TZOFFSETTO:-0400
TZNAME:EDT
DTSTART:20170312T070000
END:DAYLIGHT
BEGIN:STANDARD
TZOFFSETFROM:-0400
TZOFFSETTO:-0500
TZNAME:EST
DTSTART:20171105T060000
END:STANDARD
BEGIN:DAYLIGHT
TZOFFSETFROM:-0500
TZOFFSETTO:-0400
TZNAME:EDT
DTSTART:20180311T070000
END:DAYLIGHT
BEGIN:STANDARD
TZOFFSETFROM:-0400
TZOFFSETTO:-0500
TZNAME:EST
DTSTART:20181104T060000
END:STANDARD
BEGIN:DAYLIGHT
TZOFFSETFROM:-0500
TZOFFSETTO:-0400
TZNAME:EDT
DTSTART:20190310T070000
END:DAYLIGHT
BEGIN:STANDARD
TZOFFSETFROM:-0400
TZOFFSETTO:-0500
TZNAME:EST
DTSTART:20191103T060000
END:STANDARD
BEGIN:DAYLIGHT
TZOFFSETFROM:-0500
TZOFFSETTO:-0400
TZNAME:EDT
DTSTART:20200308T070000
END:DAYLIGHT
BEGIN:STANDARD
TZOFFSETFROM:-0400
TZOFFSETTO:-0500
TZNAME:EST
DTSTART:20201101T060000
END:STANDARD
BEGIN:DAYLIGHT
TZOFFSETFROM:-0500
TZOFFSETTO:-0400
TZNAME:EDT
DTSTART:20210314T070000
END:DAYLIGHT
BEGIN:STANDARD
TZOFFSETFROM:-0400
TZOFFSETTO:-0500
TZNAME:EST
DTSTART:20211107T060000
END:STANDARD
END:VTIMEZONE
BEGIN:VEVENT
DTSTART;TZID=America/New_York:20200114T190000
DTEND;TZID=America/New_York:20200114T201500
DTSTAMP:20260423T193955
CREATED:20200109T142546Z
LAST-MODIFIED:20200109T142546Z
UID:10037376-1579028400-1579032900@www.globalatlanta.com
SUMMARY:Conversations at The Carter Center: Atlanta's Role in the Global Mental Health Revolution
DESCRIPTION:Today\, more than 450 million people worldwide live with a mental illness\, and depression is the world’s leading cause of disability. In countries ravaged by war\, disease\, or natural disaster\, the toll is especially devastating. In the United States\, the suicide rate is the highest it’s been in more than 50 years. Learn what The Carter Center and The Center for Victims of Torture are doing to address the mental health crisis. This program is presented in partnership with the Georgia Global Health Alliance. \nPanelists: \nDr. Shekhar Saxena\, Harvard T. H. Chan School of Public Health\nDr. Janice Cooper\, The Carter Center\nDr. Paul Orieny\, Center for Victims of Torture\nJames Sale\, United for Global Mental Health \nModerator: \nRose Scott\, WABE \nSeating is first come\, first served. \nNOTE: This RSVP form is for attending the event in person in Atlanta. If you are not in the Atlanta area\, you can view the webcast of the event on cartercenter.org. \n \n\n\n	From the archive:
URL:https://www.globalatlanta.com/event/conversations-at-the-carter-center-atlantas-role-in-the-global-mental-health-revolution/
LOCATION:Cecil B. Day Chapel\, The Carter Center\, 453 Freedom Parkway\, Atlanta\, GA\, 30307\, United States
CATEGORIES:Health
ATTACH;FMTTYPE=image/gif:https://www.globalatlanta.com/wp-content/uploads/carter_center.gif
GEO:33.7675631;-84.3568733
X-APPLE-STRUCTURED-LOCATION;VALUE=URI;X-ADDRESS=Cecil B. Day Chapel The Carter Center 453 Freedom Parkway Atlanta GA 30307 United States;X-APPLE-RADIUS=500;X-TITLE=453 Freedom Parkway:geo:-84.3568733,33.7675631
END:VEVENT
BEGIN:VEVENT
DTSTART;TZID=America/New_York:20160913T190000
DTEND;TZID=America/New_York:20160913T200000
DTSTAMP:20260423T193955
CREATED:20160901T190617Z
LAST-MODIFIED:20160901T190617Z
UID:10036544-1473793200-1473796800@www.globalatlanta.com
SUMMARY:A Conversation with the Carters
DESCRIPTION:Former U.S. President Jimmy Carter and former First Lady Rosalynn Carter discuss recent Carter Center peace and health initiatives around the world\, and take your questions about issues big and small. \n\n\n	From the archive:
URL:https://www.globalatlanta.com/event/a-conversation-with-the-carters/
LOCATION:Cecil B. Day Chapel\, The Carter Center\, 453 Freedom Parkway\, Atlanta\, GA\, 30307\, United States
CATEGORIES:Diplomacy,Policy
ATTACH;FMTTYPE=image/jpeg:https://www.globalatlanta.com/wp-content/uploads/unnamed-1-6.jpg
GEO:33.7675631;-84.3568733
X-APPLE-STRUCTURED-LOCATION;VALUE=URI;X-ADDRESS=Cecil B. Day Chapel The Carter Center 453 Freedom Parkway Atlanta GA 30307 United States;X-APPLE-RADIUS=500;X-TITLE=453 Freedom Parkway:geo:-84.3568733,33.7675631
END:VEVENT
BEGIN:VEVENT
DTSTART;TZID=America/New_York:20151202T180000
DTEND;TZID=America/New_York:20151202T191500
DTSTAMP:20260423T193955
CREATED:20151110T210108Z
LAST-MODIFIED:20151110T210108Z
UID:10035998-1449079200-1449083700@www.globalatlanta.com
SUMMARY:Stories from 100 Elections
DESCRIPTION:In 2015\, The Carter Center conducted its 100th election observation mission. Over the years\, our staff have watched jubilant voters cast their first ballots. Met with dictators who were sure they would be re-elected\, but lost. Watched election officials stay up all night counting ballots. Come hear humorous and moving tales from the front lines of emerging democracies. \nThis event also will be webcast live at www.cartercenter.org. \n\n\n	From the archive:
URL:https://www.globalatlanta.com/event/stories-from-100-elections/
LOCATION:Cecil B. Day Chapel\, The Carter Center\, 453 Freedom Parkway\, Atlanta\, GA\, 30307\, United States
CATEGORIES:Policy
ATTACH;FMTTYPE=image/gif:https://www.globalatlanta.com/wp-content/uploads/carter_center.gif
GEO:33.7675631;-84.3568733
X-APPLE-STRUCTURED-LOCATION;VALUE=URI;X-ADDRESS=Cecil B. Day Chapel The Carter Center 453 Freedom Parkway Atlanta GA 30307 United States;X-APPLE-RADIUS=500;X-TITLE=453 Freedom Parkway:geo:-84.3568733,33.7675631
END:VEVENT
END:VCALENDAR