BEGIN:VCALENDAR
VERSION:2.0
PRODID:-//Global Atlanta - ECPv6.15.20//NONSGML v1.0//EN
CALSCALE:GREGORIAN
METHOD:PUBLISH
X-ORIGINAL-URL:https://www.globalatlanta.com
X-WR-CALDESC:Events for Global Atlanta
REFRESH-INTERVAL;VALUE=DURATION:PT1H
X-Robots-Tag:noindex
X-PUBLISHED-TTL:PT1H
BEGIN:VTIMEZONE
TZID:America/New_York
BEGIN:DAYLIGHT
TZOFFSETFROM:-0500
TZOFFSETTO:-0400
TZNAME:EDT
DTSTART:20140309T070000
END:DAYLIGHT
BEGIN:STANDARD
TZOFFSETFROM:-0400
TZOFFSETTO:-0500
TZNAME:EST
DTSTART:20141102T060000
END:STANDARD
BEGIN:DAYLIGHT
TZOFFSETFROM:-0500
TZOFFSETTO:-0400
TZNAME:EDT
DTSTART:20150308T070000
END:DAYLIGHT
BEGIN:STANDARD
TZOFFSETFROM:-0400
TZOFFSETTO:-0500
TZNAME:EST
DTSTART:20151101T060000
END:STANDARD
BEGIN:DAYLIGHT
TZOFFSETFROM:-0500
TZOFFSETTO:-0400
TZNAME:EDT
DTSTART:20160313T070000
END:DAYLIGHT
BEGIN:STANDARD
TZOFFSETFROM:-0400
TZOFFSETTO:-0500
TZNAME:EST
DTSTART:20161106T060000
END:STANDARD
END:VTIMEZONE
BEGIN:VEVENT
DTSTART;TZID=America/New_York:20150924T150000
DTEND;TZID=America/New_York:20150924T150000
DTSTAMP:20260425T091412
CREATED:20150825T170705Z
LAST-MODIFIED:20150825T170705Z
UID:10035860-1443106800-1443106800@www.globalatlanta.com
SUMMARY:Behind the Scenes at TomorrowWorld
DESCRIPTION:Join the Belgian American Chamber of the South and Carl Bouckaert to the special Behind the Scenes tour at TomorrowWorld 2015. \nThey offter a one of a kind look behind the scenes of the most extraordinary festival around the world less han 24 hours before it opens its gates to thousands of people. \nThe tour ends at “the Gathering” where you get to experience the festival first hand. \nNotes: 21+ only\, Wear appropriate footwear for outside festival terrain. The event will be held outside rain or shine. \nAdmission: Members $70 ; Non-members $95. Register here. \n\n\n	From the archive:
URL:https://www.globalatlanta.com/event/behind-the-scenes-at-tomorrowworld/
LOCATION:Cedar Grove Community Center\, 9285 Cedar Grove Rd.\, Fairburn\, GA\, 30213
CATEGORIES:Communities
GEO:33.6250714;-84.6844166
X-APPLE-STRUCTURED-LOCATION;VALUE=URI;X-ADDRESS=Cedar Grove Community Center 9285 Cedar Grove Rd. Fairburn GA 30213;X-APPLE-RADIUS=500;X-TITLE=9285 Cedar Grove Rd.:geo:-84.6844166,33.6250714
END:VEVENT
END:VCALENDAR