BEGIN:VCALENDAR
VERSION:2.0
PRODID:-//Global Atlanta - ECPv6.15.20//NONSGML v1.0//EN
CALSCALE:GREGORIAN
METHOD:PUBLISH
X-ORIGINAL-URL:https://www.globalatlanta.com
X-WR-CALDESC:Events for Global Atlanta
REFRESH-INTERVAL;VALUE=DURATION:PT1H
X-Robots-Tag:noindex
X-PUBLISHED-TTL:PT1H
BEGIN:VTIMEZONE
TZID:America/New_York
BEGIN:DAYLIGHT
TZOFFSETFROM:-0500
TZOFFSETTO:-0400
TZNAME:EDT
DTSTART:20150308T070000
END:DAYLIGHT
BEGIN:STANDARD
TZOFFSETFROM:-0400
TZOFFSETTO:-0500
TZNAME:EST
DTSTART:20151101T060000
END:STANDARD
BEGIN:DAYLIGHT
TZOFFSETFROM:-0500
TZOFFSETTO:-0400
TZNAME:EDT
DTSTART:20160313T070000
END:DAYLIGHT
BEGIN:STANDARD
TZOFFSETFROM:-0400
TZOFFSETTO:-0500
TZNAME:EST
DTSTART:20161106T060000
END:STANDARD
BEGIN:DAYLIGHT
TZOFFSETFROM:-0500
TZOFFSETTO:-0400
TZNAME:EDT
DTSTART:20170312T070000
END:DAYLIGHT
BEGIN:STANDARD
TZOFFSETFROM:-0400
TZOFFSETTO:-0500
TZNAME:EST
DTSTART:20171105T060000
END:STANDARD
BEGIN:DAYLIGHT
TZOFFSETFROM:-0500
TZOFFSETTO:-0400
TZNAME:EDT
DTSTART:20180311T070000
END:DAYLIGHT
BEGIN:STANDARD
TZOFFSETFROM:-0400
TZOFFSETTO:-0500
TZNAME:EST
DTSTART:20181104T060000
END:STANDARD
BEGIN:DAYLIGHT
TZOFFSETFROM:-0500
TZOFFSETTO:-0400
TZNAME:EDT
DTSTART:20190310T070000
END:DAYLIGHT
BEGIN:STANDARD
TZOFFSETFROM:-0400
TZOFFSETTO:-0500
TZNAME:EST
DTSTART:20191103T060000
END:STANDARD
BEGIN:DAYLIGHT
TZOFFSETFROM:-0500
TZOFFSETTO:-0400
TZNAME:EDT
DTSTART:20200308T070000
END:DAYLIGHT
BEGIN:STANDARD
TZOFFSETFROM:-0400
TZOFFSETTO:-0500
TZNAME:EST
DTSTART:20201101T060000
END:STANDARD
BEGIN:DAYLIGHT
TZOFFSETFROM:-0500
TZOFFSETTO:-0400
TZNAME:EDT
DTSTART:20210314T070000
END:DAYLIGHT
BEGIN:STANDARD
TZOFFSETFROM:-0400
TZOFFSETTO:-0500
TZNAME:EST
DTSTART:20211107T060000
END:STANDARD
BEGIN:DAYLIGHT
TZOFFSETFROM:-0500
TZOFFSETTO:-0400
TZNAME:EDT
DTSTART:20220313T070000
END:DAYLIGHT
BEGIN:STANDARD
TZOFFSETFROM:-0400
TZOFFSETTO:-0500
TZNAME:EST
DTSTART:20221106T060000
END:STANDARD
BEGIN:DAYLIGHT
TZOFFSETFROM:-0500
TZOFFSETTO:-0400
TZNAME:EDT
DTSTART:20230312T070000
END:DAYLIGHT
BEGIN:STANDARD
TZOFFSETFROM:-0400
TZOFFSETTO:-0500
TZNAME:EST
DTSTART:20231105T060000
END:STANDARD
BEGIN:DAYLIGHT
TZOFFSETFROM:-0500
TZOFFSETTO:-0400
TZNAME:EDT
DTSTART:20240310T070000
END:DAYLIGHT
BEGIN:STANDARD
TZOFFSETFROM:-0400
TZOFFSETTO:-0500
TZNAME:EST
DTSTART:20241103T060000
END:STANDARD
BEGIN:DAYLIGHT
TZOFFSETFROM:-0500
TZOFFSETTO:-0400
TZNAME:EDT
DTSTART:20250309T070000
END:DAYLIGHT
BEGIN:STANDARD
TZOFFSETFROM:-0400
TZOFFSETTO:-0500
TZNAME:EST
DTSTART:20251102T060000
END:STANDARD
END:VTIMEZONE
BEGIN:VEVENT
DTSTART;TZID=America/New_York:20241017T180000
DTEND;TZID=America/New_York:20241017T230000
DTSTAMP:20260423T181442
CREATED:20240910T164238Z
LAST-MODIFIED:20241001T010227Z
UID:10040398-1729188000-1729206000@www.globalatlanta.com
SUMMARY:Crystal Peach Awards Gala | France-Atlanta 2024
DESCRIPTION:This event is part of the annual France-Atlanta series organized by Georgia Tech and the Embassy of France in the United States. \n\n\n\nThe Crystal Peach Awards Ceremony is the largest event for the French American business community in the region. Started in 2005\, each year we recognize the exceptional achievement of the French American business Community.  The winners of the Crystal Peach Awards will be announced during this event.  \n\n\n\nJoin the FACC on Thursday\, October 17\, 2024 in a prestigious and exclusive private Club in Buckhead to celebrate the longstanding economic ties between the French and American business community in the Southeast of the United States across all sectors\, while enjoying a delicious French inspired 3 course meal dinner.  \n\n\n\nThis year’s black tie optional event is also the official Gala of France-Atlanta.  \n\n\n\nSecure your spot today! \n\n\n\n\n\n\nRegister\n\n\n\n\n\n\n\n\n\n\n\n\n\n\n\n\n\n\n\n\n\n	From the archive:
URL:https://www.globalatlanta.com/event/crystal-peach-awards-gala-france-atlanta-2024/
LOCATION:Cherokee Country Club\, 665 Hightower TRL\, Atlanta\, GA\, 30350\, United States
CATEGORIES:Business,Europe,Food,France,Gala,Networking
ATTACH;FMTTYPE=image/png:https://www.globalatlanta.com/wp-content/uploads/France-Atlanta-logo-3.png
ORGANIZER;CN="French American Chamber of Commerce - Atlanta Chapter":MAILTO:events@facc-atlanta.com
GEO:33.983763;-84.364532
X-APPLE-STRUCTURED-LOCATION;VALUE=URI;X-ADDRESS=Cherokee Country Club 665 Hightower TRL Atlanta GA 30350 United States;X-APPLE-RADIUS=500;X-TITLE=665 Hightower TRL:geo:-84.364532,33.983763
END:VEVENT
BEGIN:VEVENT
DTSTART;TZID=America/New_York:20160912T100000
DTEND;TZID=America/New_York:20160912T170000
DTSTAMP:20260423T181442
CREATED:20160712T213529Z
LAST-MODIFIED:20160712T213529Z
UID:10036457-1473674400-1473699600@www.globalatlanta.com
SUMMARY:TAGit Golf Tournament
DESCRIPTION:TAG will be back this fall for our 12th annual TAGit golf tournament. This sell-out event funds TAG and the TAG Education Collaborative.\n\nSince its inception\, the TAG Education Collaborative has given over $200\,000 in scholarships to assist high school students in pursing technology careers. TAGit is one of several programs that supports the TAG Education Collaborative’s STEM initiatives and the programs that go along with it. Last year\, TAGit contributed $20\,000 in funds collected to the TAG Education Collaborative.\n\nWe hope that you will support TAG and the TAG Education Collaborative by coming out and networking with some of the state’s most well known C-Level Executives while playing in the state’s most prestigious golf tournament for technology stakeholders. This event will surely sell-out\, so reserve your spot today!\n\n\n	From the archive:
URL:https://www.globalatlanta.com/event/tagit-golf-tournament/
LOCATION:Cherokee Country Club\, 665 Hightower TRL\, Atlanta\, GA\, 30350\, United States
CATEGORIES:Entertainment
ATTACH;FMTTYPE=image/jpeg:https://www.globalatlanta.com/wp-content/uploads/unnamed-32.jpg
GEO:33.983763;-84.364532
X-APPLE-STRUCTURED-LOCATION;VALUE=URI;X-ADDRESS=Cherokee Country Club 665 Hightower TRL Atlanta GA 30350 United States;X-APPLE-RADIUS=500;X-TITLE=665 Hightower TRL:geo:-84.364532,33.983763
END:VEVENT
END:VCALENDAR