BEGIN:VCALENDAR
VERSION:2.0
PRODID:-//Global Atlanta - ECPv6.15.20//NONSGML v1.0//EN
CALSCALE:GREGORIAN
METHOD:PUBLISH
X-ORIGINAL-URL:https://www.globalatlanta.com
X-WR-CALDESC:Events for Global Atlanta
REFRESH-INTERVAL;VALUE=DURATION:PT1H
X-Robots-Tag:noindex
X-PUBLISHED-TTL:PT1H
BEGIN:VTIMEZONE
TZID:America/New_York
BEGIN:DAYLIGHT
TZOFFSETFROM:-0500
TZOFFSETTO:-0400
TZNAME:EDT
DTSTART:20170312T070000
END:DAYLIGHT
BEGIN:STANDARD
TZOFFSETFROM:-0400
TZOFFSETTO:-0500
TZNAME:EST
DTSTART:20171105T060000
END:STANDARD
BEGIN:DAYLIGHT
TZOFFSETFROM:-0500
TZOFFSETTO:-0400
TZNAME:EDT
DTSTART:20180311T070000
END:DAYLIGHT
BEGIN:STANDARD
TZOFFSETFROM:-0400
TZOFFSETTO:-0500
TZNAME:EST
DTSTART:20181104T060000
END:STANDARD
BEGIN:DAYLIGHT
TZOFFSETFROM:-0500
TZOFFSETTO:-0400
TZNAME:EDT
DTSTART:20190310T070000
END:DAYLIGHT
BEGIN:STANDARD
TZOFFSETFROM:-0400
TZOFFSETTO:-0500
TZNAME:EST
DTSTART:20191103T060000
END:STANDARD
END:VTIMEZONE
BEGIN:VEVENT
DTSTART;TZID=America/New_York:20181108T083000
DTEND;TZID=America/New_York:20181108T133000
DTSTAMP:20260425T194335
CREATED:20181023T001630Z
LAST-MODIFIED:20181023T001630Z
UID:10036954-1541665800-1541683800@www.globalatlanta.com
SUMMARY:Clayton State University Center for Supply Chain Management Fellows’ 2018 Symposium
DESCRIPTION:The Center for Supply Chain Management at Clayton State University has the mission to provide individuals and organizations with knowledge and skills to drive superior business results through the understanding and application of supply chain management concepts\, processes\, and the sharing of information. \nThese annual Symposiums are designed to provide opportunities for industry executives to come together to learn about current issues in the industry as well as share insight on how they have managed to navigate the world of supply chain in a rapidly changing environment. The 2018 Symposium will provide valuable information and establish a forum for discussion on the topics covering: \n-Cargo Theft Trends & Patterns across the Southeast U.S. \n-Industry Driver Shortage: How do we plan for it? \n-The Impact of Tariff Changes \n-Things of Interest: Global Retail Environment\, e-Commerce Strategies\, and Women in Business \n\n\n	From the archive:
URL:https://www.globalatlanta.com/event/clayton-state-university-center-for-supply-chain-management-fellows-2018-symposium/
LOCATION:Clayton State University Student Activities Center\, 2000 Clayton State Blvd\, Morrow\, GA\, 30260\, United States
CATEGORIES:Business
ATTACH;FMTTYPE=image/jpeg:https://www.globalatlanta.com/wp-content/uploads/clayton_logo.jpg
GEO:33.5944329;-84.330761
X-APPLE-STRUCTURED-LOCATION;VALUE=URI;X-ADDRESS=Clayton State University Student Activities Center 2000 Clayton State Blvd Morrow GA 30260 United States;X-APPLE-RADIUS=500;X-TITLE=2000 Clayton State Blvd:geo:-84.330761,33.5944329
END:VEVENT
END:VCALENDAR