BEGIN:VCALENDAR
VERSION:2.0
PRODID:-//Global Atlanta - ECPv6.15.20//NONSGML v1.0//EN
CALSCALE:GREGORIAN
METHOD:PUBLISH
X-WR-CALNAME:Global Atlanta
X-ORIGINAL-URL:https://www.globalatlanta.com
X-WR-CALDESC:Events for Global Atlanta
REFRESH-INTERVAL;VALUE=DURATION:PT1H
X-Robots-Tag:noindex
X-PUBLISHED-TTL:PT1H
BEGIN:VTIMEZONE
TZID:America/New_York
BEGIN:DAYLIGHT
TZOFFSETFROM:-0500
TZOFFSETTO:-0400
TZNAME:EDT
DTSTART:20170312T070000
END:DAYLIGHT
BEGIN:STANDARD
TZOFFSETFROM:-0400
TZOFFSETTO:-0500
TZNAME:EST
DTSTART:20171105T060000
END:STANDARD
BEGIN:DAYLIGHT
TZOFFSETFROM:-0500
TZOFFSETTO:-0400
TZNAME:EDT
DTSTART:20180311T070000
END:DAYLIGHT
BEGIN:STANDARD
TZOFFSETFROM:-0400
TZOFFSETTO:-0500
TZNAME:EST
DTSTART:20181104T060000
END:STANDARD
BEGIN:DAYLIGHT
TZOFFSETFROM:-0500
TZOFFSETTO:-0400
TZNAME:EDT
DTSTART:20190310T070000
END:DAYLIGHT
BEGIN:STANDARD
TZOFFSETFROM:-0400
TZOFFSETTO:-0500
TZNAME:EST
DTSTART:20191103T060000
END:STANDARD
END:VTIMEZONE
BEGIN:VEVENT
DTSTART;TZID=America/New_York:20180809T173000
DTEND;TZID=America/New_York:20180809T200000
DTSTAMP:20260419T173124
CREATED:20180612T135231Z
LAST-MODIFIED:20180612T135231Z
UID:10036779-1533835800-1533844800@www.globalatlanta.com
SUMMARY:TAG International Business Social with TAG SSA\, World Trade Center\, and Georgia Indo-American Chamber of Commerce
DESCRIPTION:Join the Technology Association of Georgia’s International Business Society for their annual Summer Social in partnership with TAG’s Southeastern SoftwareAssociation\, the Georgia Indo-American Chamber of Commerce and the World Trade Center Atlanta on Thursday\, August 9. Over 100 attendees come to this event every\nsummer. Come for great networking and an inspiring view of Atlanta from Five Season Restaurant and Brewery’s Westside Skybar and Patio with these four vibrant groups. Admission ticket includes tasty treats from Five Season’s menu. The full complement of Five Seasons’ beers will be available for purchase. Soft drinks are complementary. \nSpecial for Global Atlanta readers: Attend for member price by using the code “ibsaugustevent” when registering. \n\n\n	From the archive:
URL:https://www.globalatlanta.com/event/tag-international-business-social-with-tag-ssa-world-trade-center-and-georgia-indo-american-chamber-of-commerce/
LOCATION:Five Seasons Restaurant and Brewery\, 1000 Marietta St.\, NW #204 \, Atlanta\, GA\, 30318\, United States
CATEGORIES:Business,Technology
ATTACH;FMTTYPE=image/png:https://www.globalatlanta.com/wp-content/uploads/tag_logo-2.png
GEO:33.7781618;-84.4101164
X-APPLE-STRUCTURED-LOCATION;VALUE=URI;X-ADDRESS=Five Seasons Restaurant and Brewery 1000 Marietta St. NW #204  Atlanta GA 30318 United States;X-APPLE-RADIUS=500;X-TITLE=1000 Marietta St.\, NW #204:geo:-84.4101164,33.7781618
END:VEVENT
BEGIN:VEVENT
DTSTART;TZID=America/New_York:20180502T173000
DTEND;TZID=America/New_York:20180502T200000
DTSTAMP:20260419T173124
CREATED:20180409T151759Z
LAST-MODIFIED:20180409T151759Z
UID:10036744-1525282200-1525291200@www.globalatlanta.com
SUMMARY:TAG and Brazilian-American Chamber Spring Social
DESCRIPTION:The Technology Association of Georgia’s Southeastern Software Association invites you to their Spring Social in partnership with TAG’s Manufacturing Society and the Brazilian-American Chamber of Commerce of the SE. \nJoin us for great networking and an inspiring view of Atlanta from Five Seasons Restaurant and Brewery’s West-side Skybar and Patio with these three vibrant groups. Admission ticket includes tasty treats from Five Season’s menu. The full complement of Five Seasons’ beers will be available for purchase. Soft drinks are complimentary.  GlobalAtlanta readers and members of TAG and the BACC can register with the code “CHAMBER” for the $10 member rate. \nThe TAG Southeastern Software Association (SSA) is one of the country’s premier networking and professional development organizations for high-tech and software professionals.  The mission of TAG Southeastern Software Association is to be the leading resource for software and information technology executives and professionals to connect and develop business opportunities. \nThe TAG Manufacturing society connects people\, organizations\, and companies that utilize technology in manufacturing production and the supporting supply chain. Manufacturing has a significant impact on Georgia’s economy\, accounting for output of over $50 billion\, 90% of the state’s exports\, and employment of over 350\,000 people. \nThe Brazilian-American Chamber of Commerce of the Southeast (BACC-SE) is a non-profit\, membership-driven organization founded in 1996 led by Lucia Jennings and a team of other Brazilians with the objective of showcasing Brazil to the Southeastern United States. The chambers mission is to foster trade and investment between Brazil and the Southeastern United States\, serving as a key vehicle of information\, connection and support of business development between the two regions. \n\n\n\n\n	From the archive:
URL:https://www.globalatlanta.com/event/the-technology-association-of-georgia-tag-spring-social/
LOCATION:Five Seasons Restaurant and Brewery\, 1000 Marietta St.\, NW #204 \, Atlanta\, GA\, 30318\, United States
CATEGORIES:Technology
ATTACH;FMTTYPE=image/png:https://www.globalatlanta.com/wp-content/uploads/tag_logo-1.png
GEO:33.7781618;-84.4101164
X-APPLE-STRUCTURED-LOCATION;VALUE=URI;X-ADDRESS=Five Seasons Restaurant and Brewery 1000 Marietta St. NW #204  Atlanta GA 30318 United States;X-APPLE-RADIUS=500;X-TITLE=1000 Marietta St.\, NW #204:geo:-84.4101164,33.7781618
END:VEVENT
END:VCALENDAR