BEGIN:VCALENDAR
VERSION:2.0
PRODID:-//Global Atlanta - ECPv6.15.20//NONSGML v1.0//EN
CALSCALE:GREGORIAN
METHOD:PUBLISH
X-ORIGINAL-URL:https://www.globalatlanta.com
X-WR-CALDESC:Events for Global Atlanta
REFRESH-INTERVAL;VALUE=DURATION:PT1H
X-Robots-Tag:noindex
X-PUBLISHED-TTL:PT1H
BEGIN:VTIMEZONE
TZID:America/New_York
BEGIN:DAYLIGHT
TZOFFSETFROM:-0500
TZOFFSETTO:-0400
TZNAME:EDT
DTSTART:20150308T070000
END:DAYLIGHT
BEGIN:STANDARD
TZOFFSETFROM:-0400
TZOFFSETTO:-0500
TZNAME:EST
DTSTART:20151101T060000
END:STANDARD
BEGIN:DAYLIGHT
TZOFFSETFROM:-0500
TZOFFSETTO:-0400
TZNAME:EDT
DTSTART:20160313T070000
END:DAYLIGHT
BEGIN:STANDARD
TZOFFSETFROM:-0400
TZOFFSETTO:-0500
TZNAME:EST
DTSTART:20161106T060000
END:STANDARD
BEGIN:DAYLIGHT
TZOFFSETFROM:-0500
TZOFFSETTO:-0400
TZNAME:EDT
DTSTART:20170312T070000
END:DAYLIGHT
BEGIN:STANDARD
TZOFFSETFROM:-0400
TZOFFSETTO:-0500
TZNAME:EST
DTSTART:20171105T060000
END:STANDARD
END:VTIMEZONE
BEGIN:VEVENT
DTSTART;TZID=America/New_York:20160324T183000
DTEND;TZID=America/New_York:20160324T203000
DTSTAMP:20260419T165528
CREATED:20160311T161648Z
LAST-MODIFIED:20160311T161648Z
UID:10035970-1458844200-1458851400@www.globalatlanta.com
SUMMARY:Global Professionals Mixer
DESCRIPTION:Join Global Partner’s MBA at GSU’s Robinson College of Business Global Professionals Mixer to: \n• Network with current and future global business leaders\n • Explore worldwide careers and educational opportunities\n • Learn what it takes to advance your international business career \n\n\n	From the archive:
URL:https://www.globalatlanta.com/event/global-professionals-mixer-2/
LOCATION:Shula’s Grill 347- Atlanta Marriot Buckhead\, 3405 Lenox Road Northeast \, Atlanta\, GA\, 30326\, United States
CATEGORIES:Business
ATTACH;FMTTYPE=image/jpeg:https://www.globalatlanta.com/wp-content/uploads/GPMBAlogoSquareCMYK.jpg
GEO:33.8481761;-84.3596639
X-APPLE-STRUCTURED-LOCATION;VALUE=URI;X-ADDRESS=Shula’s Grill 347- Atlanta Marriot Buckhead 3405 Lenox Road Northeast  Atlanta GA 30326 United States;X-APPLE-RADIUS=500;X-TITLE=3405 Lenox Road Northeast:geo:-84.3596639,33.8481761
END:VEVENT
END:VCALENDAR