BEGIN:VCALENDAR
VERSION:2.0
PRODID:-//Global Atlanta - ECPv6.15.20//NONSGML v1.0//EN
CALSCALE:GREGORIAN
METHOD:PUBLISH
X-WR-CALNAME:Global Atlanta
X-ORIGINAL-URL:https://www.globalatlanta.com
X-WR-CALDESC:Events for Global Atlanta
REFRESH-INTERVAL;VALUE=DURATION:PT1H
X-Robots-Tag:noindex
X-PUBLISHED-TTL:PT1H
BEGIN:VTIMEZONE
TZID:America/New_York
BEGIN:DAYLIGHT
TZOFFSETFROM:-0500
TZOFFSETTO:-0400
TZNAME:EDT
DTSTART:20140309T070000
END:DAYLIGHT
BEGIN:STANDARD
TZOFFSETFROM:-0400
TZOFFSETTO:-0500
TZNAME:EST
DTSTART:20141102T060000
END:STANDARD
BEGIN:DAYLIGHT
TZOFFSETFROM:-0500
TZOFFSETTO:-0400
TZNAME:EDT
DTSTART:20150308T070000
END:DAYLIGHT
BEGIN:STANDARD
TZOFFSETFROM:-0400
TZOFFSETTO:-0500
TZNAME:EST
DTSTART:20151101T060000
END:STANDARD
BEGIN:DAYLIGHT
TZOFFSETFROM:-0500
TZOFFSETTO:-0400
TZNAME:EDT
DTSTART:20160313T070000
END:DAYLIGHT
BEGIN:STANDARD
TZOFFSETFROM:-0400
TZOFFSETTO:-0500
TZNAME:EST
DTSTART:20161106T060000
END:STANDARD
BEGIN:DAYLIGHT
TZOFFSETFROM:-0500
TZOFFSETTO:-0400
TZNAME:EDT
DTSTART:20170312T070000
END:DAYLIGHT
BEGIN:STANDARD
TZOFFSETFROM:-0400
TZOFFSETTO:-0500
TZNAME:EST
DTSTART:20171105T060000
END:STANDARD
BEGIN:DAYLIGHT
TZOFFSETFROM:-0500
TZOFFSETTO:-0400
TZNAME:EDT
DTSTART:20180311T070000
END:DAYLIGHT
BEGIN:STANDARD
TZOFFSETFROM:-0400
TZOFFSETTO:-0500
TZNAME:EST
DTSTART:20181104T060000
END:STANDARD
BEGIN:DAYLIGHT
TZOFFSETFROM:-0500
TZOFFSETTO:-0400
TZNAME:EDT
DTSTART:20190310T070000
END:DAYLIGHT
BEGIN:STANDARD
TZOFFSETFROM:-0400
TZOFFSETTO:-0500
TZNAME:EST
DTSTART:20191103T060000
END:STANDARD
BEGIN:DAYLIGHT
TZOFFSETFROM:-0500
TZOFFSETTO:-0400
TZNAME:EDT
DTSTART:20200308T070000
END:DAYLIGHT
BEGIN:STANDARD
TZOFFSETFROM:-0400
TZOFFSETTO:-0500
TZNAME:EST
DTSTART:20201101T060000
END:STANDARD
BEGIN:DAYLIGHT
TZOFFSETFROM:-0500
TZOFFSETTO:-0400
TZNAME:EDT
DTSTART:20210314T070000
END:DAYLIGHT
BEGIN:STANDARD
TZOFFSETFROM:-0400
TZOFFSETTO:-0500
TZNAME:EST
DTSTART:20211107T060000
END:STANDARD
BEGIN:DAYLIGHT
TZOFFSETFROM:-0500
TZOFFSETTO:-0400
TZNAME:EDT
DTSTART:20220313T070000
END:DAYLIGHT
BEGIN:STANDARD
TZOFFSETFROM:-0400
TZOFFSETTO:-0500
TZNAME:EST
DTSTART:20221106T060000
END:STANDARD
BEGIN:DAYLIGHT
TZOFFSETFROM:-0500
TZOFFSETTO:-0400
TZNAME:EDT
DTSTART:20230312T070000
END:DAYLIGHT
BEGIN:STANDARD
TZOFFSETFROM:-0400
TZOFFSETTO:-0500
TZNAME:EST
DTSTART:20231105T060000
END:STANDARD
BEGIN:DAYLIGHT
TZOFFSETFROM:-0500
TZOFFSETTO:-0400
TZNAME:EDT
DTSTART:20240310T070000
END:DAYLIGHT
BEGIN:STANDARD
TZOFFSETFROM:-0400
TZOFFSETTO:-0500
TZNAME:EST
DTSTART:20241103T060000
END:STANDARD
END:VTIMEZONE
BEGIN:VEVENT
DTSTART;TZID=America/New_York:20230531T120000
DTEND;TZID=America/New_York:20230531T200000
DTSTAMP:20260423T223527
CREATED:20230519T150805Z
LAST-MODIFIED:20230519T150805Z
UID:10038506-1685534400-1685563200@www.globalatlanta.com
SUMMARY:GSU-CIBER International Business Pedagogy Workshop
DESCRIPTION:For those seeking excellence in teaching! Please join GSU CIBER at the annual International Business Pedagogy Workshop. Meet the Experts and Aim for Teaching Excellence \nIf you teach international business and wish to learn from and be inspired by world-class master teachers and mentors\, this is your opportunity to invest in your professional development. \nMeet in Atlanta over 2.5 days for an intensive learning and networking event. In addition to addressing the core course in IB\, interactive sessions will cover specialized courses in international entrepreneurship\, global strategy\, multinational business finance\, and international marketing. \nThis is a unique professional development opportunity for those who:\n(1) have a passion for teaching international business\n(2) are interested in learning about the latest classroom innovations\n(3) wish to update their skills and pedagogical toolbox\n(4) wish to meet and be inspired by seasoned educators who have excelled in teaching. \n  \nTake advantage of the Early Bird rate by Sunday\, April 30\, 2023. \nA limited number of Faculty Fellowships will be available for faculty from Minority Serving Institutions. The registration fee with a Faculty Fellowship will be $399. To apply for a Fellowship\, you must submit a one-page statement to the GSU-CIBER team at gsuciber@gsu.edu describing how the International Business Pedagogy Workshops will benefit you and your institution. \nVenue\nAll workshop activities will be held at Georgia State University’s Buckhead Center\, a state-of-the-art conference facility located in Atlanta\, Georgia. Venue Details \nLodging\nParticipants are expected to make their own lodging arrangements. The official group hotel for this event is SpringHill Suites Atlanta Buckhead (located at 3459 Buckhead Loop NE Atlanta\, Georgia 30326). You must book your hotel room by May 8\, 2023\, to receive the contracted rate of $121.00 per night. Reserve your room today! \nThis event is a project of the MSI Consortium\, hosted by GSU-CIBER and sponsored by CIBERs at Florida International University – College of Business\, The George Washington University School of Business\, Indiana University – Kelley School of Business\, Loyola Marymount University\, Fox School of Business at Temple University\, Texas A&M University\, University of Colorado Denver Business School\, and University of Maryland. \n\n\n	From the archive:
URL:https://www.globalatlanta.com/event/gsu-ciber-international-business-pedagogy-workshop/
LOCATION:GSU Buckhead Center\, 3348 Peachtree Road NE\, Tower Place 200 - Suite 300\, Atlanta\, GA\, 30326\, United States
CATEGORIES:Business,Education
ATTACH;FMTTYPE=image/png:https://www.globalatlanta.com/wp-content/uploads/GSU-CIBER-logo_color1.png
GEO:33.8481894;-84.3697148
X-APPLE-STRUCTURED-LOCATION;VALUE=URI;X-ADDRESS=GSU Buckhead Center 3348 Peachtree Road NE Tower Place 200 - Suite 300 Atlanta GA 30326 United States;X-APPLE-RADIUS=500;X-TITLE=3348 Peachtree Road NE\, Tower Place 200 - Suite 300:geo:-84.3697148,33.8481894
END:VEVENT
BEGIN:VEVENT
DTSTART;TZID=America/New_York:20180207T184500
DTEND;TZID=America/New_York:20180207T201500
DTSTAMP:20260423T223527
CREATED:20180112T150745Z
LAST-MODIFIED:20180112T150745Z
UID:10037505-1518029100-1518034500@www.globalatlanta.com
SUMMARY:Global Leadership Dialogue Series featuring Ahmet Bozer
DESCRIPTION:Join us at the GSU Buckhead Center on Wednesday\, February 7 for the next installment of the  Global Leadership Dialogue Series. The dialogue will feature Ahmet Bozer\, former Executive Vice President of The Coca-Cola Company and President of Coca-Cola International. More details will come soon. This program is exclusively for Young Leaders members. Not a Young Leader? Not a problem. Contact Alice Dossche at 404-413-7030 or at adossche@gsu.edu for more information! \n\n\n	From the archive:
URL:https://www.globalatlanta.com/event/global-leadership-dialogue-series-featuring-ahmet-bozer/
LOCATION:GSU Buckhead Center\, 3348 Peachtree Road NE\, Tower Place 200 - Suite 300\, Atlanta\, GA\, 30326\, United States
CATEGORIES:Education
ATTACH;FMTTYPE=image/png:https://www.globalatlanta.com/wp-content/uploads/GLDS-Ahmet-Bozer-flyer.png
GEO:33.8481894;-84.3697148
X-APPLE-STRUCTURED-LOCATION;VALUE=URI;X-ADDRESS=GSU Buckhead Center 3348 Peachtree Road NE Tower Place 200 - Suite 300 Atlanta GA 30326 United States;X-APPLE-RADIUS=500;X-TITLE=3348 Peachtree Road NE\, Tower Place 200 - Suite 300:geo:-84.3697148,33.8481894
END:VEVENT
BEGIN:VEVENT
DTSTART;TZID=America/New_York:20180123T190000
DTEND;TZID=America/New_York:20180123T203000
DTSTAMP:20260423T223527
CREATED:20180110T183632Z
LAST-MODIFIED:20180110T183632Z
UID:10037503-1516734000-1516739400@www.globalatlanta.com
SUMMARY:Global Affordable Housing Crisis
DESCRIPTION:A third of urban dwellers—1.6 billion people—could struggle to secure decent housing by 2025\, according to initial findings in a McKinsey & Co. report.\n\nWhat does this mean for millennials around the world? Join the Young Leaders as we explore the affordable housing crisis not only in Atlanta\, but globally.\n\nThe program will feature:\nCatherine Buell\, President & CEO\, Atlanta Housing Authority\n\nAndre Dickens\, Council Member\, Atlanta City Council\n\nDarion Dunn\, Director\, Buckhead Community Improvements Districts\n\n\n	From the archive:
URL:https://www.globalatlanta.com/event/global-affordable-housing-crisis/
LOCATION:GSU Buckhead Center\, 3348 Peachtree Road NE\, Tower Place 200 - Suite 300\, Atlanta\, GA\, 30326\, United States
CATEGORIES:Education,Policy
ATTACH;FMTTYPE=image/png:https://www.globalatlanta.com/wp-content/uploads/unnamed-36.png
GEO:33.8481894;-84.3697148
X-APPLE-STRUCTURED-LOCATION;VALUE=URI;X-ADDRESS=GSU Buckhead Center 3348 Peachtree Road NE Tower Place 200 - Suite 300 Atlanta GA 30326 United States;X-APPLE-RADIUS=500;X-TITLE=3348 Peachtree Road NE\, Tower Place 200 - Suite 300:geo:-84.3697148,33.8481894
END:VEVENT
BEGIN:VEVENT
DTSTART;TZID=America/New_York:20171114T184500
DTEND;TZID=America/New_York:20171114T201500
DTSTAMP:20260423T223527
CREATED:20171101T200440Z
LAST-MODIFIED:20171101T200440Z
UID:10037405-1510685100-1510690500@www.globalatlanta.com
SUMMARY:Responses to Health & Other Threats in Latin America & the Caribbean
DESCRIPTION:Join the World Affairs Council for their November Members Forum\, Post Disasters. They will be presenting   Dr. Jennie Ward-Robinson\, President and CEO of the PAHO Foundation  as she discusses how recent earthquakes in Mexico and Hurricanes Irma and Maria’s arrival in the Caribbean have many immediate and long-term implications for the health of individuals and families across the Americas. Registration opens the day of the event at 6:45 p.m. Complimentary Admission for Members \n\n\n	From the archive:
URL:https://www.globalatlanta.com/event/responses-health-threats-latin-america-caribbean/
LOCATION:GSU Buckhead Center\, 3348 Peachtree Road NE\, Tower Place 200 - Suite 300\, Atlanta\, GA\, 30326\, United States
CATEGORIES:Communities
ATTACH;FMTTYPE=image/jpeg:https://www.globalatlanta.com/wp-content/uploads/unnamed-65.jpg
GEO:33.8481894;-84.3697148
X-APPLE-STRUCTURED-LOCATION;VALUE=URI;X-ADDRESS=GSU Buckhead Center 3348 Peachtree Road NE Tower Place 200 - Suite 300 Atlanta GA 30326 United States;X-APPLE-RADIUS=500;X-TITLE=3348 Peachtree Road NE\, Tower Place 200 - Suite 300:geo:-84.3697148,33.8481894
END:VEVENT
BEGIN:VEVENT
DTSTART;TZID=America/New_York:20161207T080000
DTEND;TZID=America/New_York:20161207T170000
DTSTAMP:20260423T223527
CREATED:20161207T231124Z
LAST-MODIFIED:20161207T231124Z
UID:10036245-1481097600-1481130000@www.globalatlanta.com
SUMMARY:Cuba after Fidel
DESCRIPTION:Cuba is at a crossroad; while many Cubans mourn his death\, others look at it as an opportunity for change. Donald Trump’s election also adds additional uncertainty for the future of U.S.-Cuba relations. He has reiterated his campaign promise to reverse Obama’s opening to Cuba. On December 15\, we invite you to join the discussion of Cuba post-Fidel and the future of U.S.-Cuba relations once President Elected Trump takes the White House. \nThe Council President\, Charles Shapiro\, former Ambassador to Venezuela and Director for Cuba Affairs at the State Department\, will discuss Cuba with Collin Laverty\, President of Cuba Educational Travel and one of the most prominent Cuba experts in the country. Mariela Romero will moderate the conversation. Romero is the Community Empowerment director and Anchor at News Magazine Conexión\, Univision 34. \nThe Council is a top-of-mind in Atlanta when it comes to understanding Cuba evolving issues and the future of this controversial\, yet\, fascinating country. Don’t miss the opportunity to learn more about the world. \nCost: \nMembers $10 | Nonmembers $20 \n\n\n	From the archive:
URL:https://www.globalatlanta.com/event/cuba-after-fidel/
LOCATION:GSU Buckhead Center\, 3348 Peachtree Road NE\, Tower Place 200 - Suite 300\, Atlanta\, GA\, 30326\, United States
CATEGORIES:Policy
ATTACH;FMTTYPE=image/png:https://www.globalatlanta.com/wp-content/uploads/Screen-Shot-2016-12-07-at-6.08.58-PM.png
GEO:33.8481894;-84.3697148
X-APPLE-STRUCTURED-LOCATION;VALUE=URI;X-ADDRESS=GSU Buckhead Center 3348 Peachtree Road NE Tower Place 200 - Suite 300 Atlanta GA 30326 United States;X-APPLE-RADIUS=500;X-TITLE=3348 Peachtree Road NE\, Tower Place 200 - Suite 300:geo:-84.3697148,33.8481894
END:VEVENT
BEGIN:VEVENT
DTSTART;TZID=America/New_York:20160713T183000
DTEND;TZID=America/New_York:20160713T203000
DTSTAMP:20260423T223527
CREATED:20160629T185511Z
LAST-MODIFIED:20160629T185511Z
UID:10036070-1468434600-1468441800@www.globalatlanta.com
SUMMARY:Brexit Evening Briefing
DESCRIPTION:Britain’s votes to leave the EU has shaken global markets and raised more questions than it’s answered in the U.S.\, Europe\, and around the world. \nJoin the World Affairs Council of Atlanta as they discuss how the world’s fifth largest economy extricates itself from the EU. \nCosts:\nMembers: $10\nNonmembers: $20 \n\n\n	From the archive:
URL:https://www.globalatlanta.com/event/brexit-evening-briefing/
LOCATION:GSU Buckhead Center\, 3348 Peachtree Road NE\, Tower Place 200 - Suite 300\, Atlanta\, GA\, 30326\, United States
CATEGORIES:Diplomacy,Policy,Trade
ATTACH;FMTTYPE=image/png:https://www.globalatlanta.com/wp-content/uploads/unnamed-14.png
GEO:33.8481894;-84.3697148
X-APPLE-STRUCTURED-LOCATION;VALUE=URI;X-ADDRESS=GSU Buckhead Center 3348 Peachtree Road NE Tower Place 200 - Suite 300 Atlanta GA 30326 United States;X-APPLE-RADIUS=500;X-TITLE=3348 Peachtree Road NE\, Tower Place 200 - Suite 300:geo:-84.3697148,33.8481894
END:VEVENT
BEGIN:VEVENT
DTSTART;TZID=America/New_York:20151124T173000
DTEND;TZID=America/New_York:20151124T193000
DTSTAMP:20260423T223527
CREATED:20151123T165017Z
LAST-MODIFIED:20151123T165017Z
UID:10036022-1448386200-1448393400@www.globalatlanta.com
SUMMARY:Flash Briefing and Discussion on Terrorism featuring: Dr. Robert Friedmann
DESCRIPTION:Please join the World Affairs Council for a Flash Briefing on Terrorism. As terrorist attacks dominate the news this season\, they invite you to join the council for a timely and informal evening briefing and discussion featuring Dr. Robert Friedmann\, Foundng Director\, Georgia International Law Enforcement Exchange\, Professor Emeritus of Criminal Justice . \nRegistration and Reception will begin at 6:30 PM\, the discussion will begin at 7:00PM. \n\n\n	From the archive:
URL:https://www.globalatlanta.com/event/flash-briefing-and-discussion-on-terrorism-featuring-dr-robert-friedmann/
LOCATION:GSU Buckhead Center\, 3348 Peachtree Road NE\, Tower Place 200 - Suite 300\, Atlanta\, GA\, 30326\, United States
CATEGORIES:Policy
ATTACH;FMTTYPE=image/png:https://www.globalatlanta.com/wp-content/uploads/WAClineBlue_trans4.png
GEO:33.8481894;-84.3697148
X-APPLE-STRUCTURED-LOCATION;VALUE=URI;X-ADDRESS=GSU Buckhead Center 3348 Peachtree Road NE Tower Place 200 - Suite 300 Atlanta GA 30326 United States;X-APPLE-RADIUS=500;X-TITLE=3348 Peachtree Road NE\, Tower Place 200 - Suite 300:geo:-84.3697148,33.8481894
END:VEVENT
END:VCALENDAR