BEGIN:VCALENDAR
VERSION:2.0
PRODID:-//Global Atlanta - ECPv6.15.20//NONSGML v1.0//EN
CALSCALE:GREGORIAN
METHOD:PUBLISH
X-ORIGINAL-URL:https://www.globalatlanta.com
X-WR-CALDESC:Events for Global Atlanta
REFRESH-INTERVAL;VALUE=DURATION:PT1H
X-Robots-Tag:noindex
X-PUBLISHED-TTL:PT1H
BEGIN:VTIMEZONE
TZID:America/New_York
BEGIN:DAYLIGHT
TZOFFSETFROM:-0500
TZOFFSETTO:-0400
TZNAME:EDT
DTSTART:20160313T070000
END:DAYLIGHT
BEGIN:STANDARD
TZOFFSETFROM:-0400
TZOFFSETTO:-0500
TZNAME:EST
DTSTART:20161106T060000
END:STANDARD
BEGIN:DAYLIGHT
TZOFFSETFROM:-0500
TZOFFSETTO:-0400
TZNAME:EDT
DTSTART:20170312T070000
END:DAYLIGHT
BEGIN:STANDARD
TZOFFSETFROM:-0400
TZOFFSETTO:-0500
TZNAME:EST
DTSTART:20171105T060000
END:STANDARD
BEGIN:DAYLIGHT
TZOFFSETFROM:-0500
TZOFFSETTO:-0400
TZNAME:EDT
DTSTART:20180311T070000
END:DAYLIGHT
BEGIN:STANDARD
TZOFFSETFROM:-0400
TZOFFSETTO:-0500
TZNAME:EST
DTSTART:20181104T060000
END:STANDARD
BEGIN:DAYLIGHT
TZOFFSETFROM:-0500
TZOFFSETTO:-0400
TZNAME:EDT
DTSTART:20190310T070000
END:DAYLIGHT
BEGIN:STANDARD
TZOFFSETFROM:-0400
TZOFFSETTO:-0500
TZNAME:EST
DTSTART:20191103T060000
END:STANDARD
BEGIN:DAYLIGHT
TZOFFSETFROM:-0500
TZOFFSETTO:-0400
TZNAME:EDT
DTSTART:20200308T070000
END:DAYLIGHT
BEGIN:STANDARD
TZOFFSETFROM:-0400
TZOFFSETTO:-0500
TZNAME:EST
DTSTART:20201101T060000
END:STANDARD
BEGIN:DAYLIGHT
TZOFFSETFROM:-0500
TZOFFSETTO:-0400
TZNAME:EDT
DTSTART:20210314T070000
END:DAYLIGHT
BEGIN:STANDARD
TZOFFSETFROM:-0400
TZOFFSETTO:-0500
TZNAME:EST
DTSTART:20211107T060000
END:STANDARD
BEGIN:DAYLIGHT
TZOFFSETFROM:-0500
TZOFFSETTO:-0400
TZNAME:EDT
DTSTART:20220313T070000
END:DAYLIGHT
BEGIN:STANDARD
TZOFFSETFROM:-0400
TZOFFSETTO:-0500
TZNAME:EST
DTSTART:20221106T060000
END:STANDARD
BEGIN:DAYLIGHT
TZOFFSETFROM:-0500
TZOFFSETTO:-0400
TZNAME:EDT
DTSTART:20230312T070000
END:DAYLIGHT
BEGIN:STANDARD
TZOFFSETFROM:-0400
TZOFFSETTO:-0500
TZNAME:EST
DTSTART:20231105T060000
END:STANDARD
BEGIN:DAYLIGHT
TZOFFSETFROM:-0500
TZOFFSETTO:-0400
TZNAME:EDT
DTSTART:20240310T070000
END:DAYLIGHT
BEGIN:STANDARD
TZOFFSETFROM:-0400
TZOFFSETTO:-0500
TZNAME:EST
DTSTART:20241103T060000
END:STANDARD
BEGIN:DAYLIGHT
TZOFFSETFROM:-0500
TZOFFSETTO:-0400
TZNAME:EDT
DTSTART:20250309T070000
END:DAYLIGHT
BEGIN:STANDARD
TZOFFSETFROM:-0400
TZOFFSETTO:-0500
TZNAME:EST
DTSTART:20251102T060000
END:STANDARD
BEGIN:DAYLIGHT
TZOFFSETFROM:-0500
TZOFFSETTO:-0400
TZNAME:EDT
DTSTART:20260308T070000
END:DAYLIGHT
BEGIN:STANDARD
TZOFFSETFROM:-0400
TZOFFSETTO:-0500
TZNAME:EST
DTSTART:20261101T060000
END:STANDARD
BEGIN:DAYLIGHT
TZOFFSETFROM:-0500
TZOFFSETTO:-0400
TZNAME:EDT
DTSTART:20270314T070000
END:DAYLIGHT
BEGIN:STANDARD
TZOFFSETFROM:-0400
TZOFFSETTO:-0500
TZNAME:EST
DTSTART:20271107T060000
END:STANDARD
END:VTIMEZONE
BEGIN:VEVENT
DTSTART;TZID=America/New_York:20260409T153000
DTEND;TZID=America/New_York:20260409T164500
DTSTAMP:20260421T202215
CREATED:20260306T215117Z
LAST-MODIFIED:20260306T215121Z
UID:10041114-1775748600-1775753100@www.globalatlanta.com
SUMMARY:Democracy in the Age of Algorithms: AI\, Influence\, and the Future of the Information Space
DESCRIPTION:The Sam Nunn School of International Affairs is proud to welcome Valerie Wirtschafter\, Fellow in Foreign Policy and the Artificial Intelligence and Emerging Technology Initiative at Brookings\, for her guest lecture Democracy in the Age of Algorithms: AI\, Influence\, and the Future of the Information Space.  \n\n\n\nThis talk is part of the Nunn School Research Colloquium Speaker Series\, which aims to bring together a vibrant series of academics in the field of political science\, international relations\, science and technology\, and data science to discuss how quantitative methodologies can assist scholars and practitioners in developing new knowledge in the field.  \n\n\n\n\n\n\nDownload Flyer\n\n\n\n\n\n\n\n\n\n\n\n\n\n\n\n\n\n\n\n	From the archive:
URL:https://www.globalatlanta.com/event/democracy-in-the-age-of-algorithms-ai-influence-and-the-future-of-the-information-space/
LOCATION:Habersham Building\, Room G17\, 781 Marietta Street NW\, Atlanta\, GA\, 30318\, United States
CATEGORIES:Democracy,international relations,Lecture,Technology
ATTACH;FMTTYPE=image/png:https://www.globalatlanta.com/wp-content/uploads/GA-tech-sam-nunn-school-logo.png
GEO:33.7739478;-84.4043525
X-APPLE-STRUCTURED-LOCATION;VALUE=URI;X-ADDRESS=Habersham Building Room G17 781 Marietta Street NW Atlanta GA 30318 United States;X-APPLE-RADIUS=500;X-TITLE=781 Marietta Street NW:geo:-84.4043525,33.7739478
END:VEVENT
BEGIN:VEVENT
DTSTART;TZID=America/New_York:20260310T110000
DTEND;TZID=America/New_York:20260310T120000
DTSTAMP:20260421T202215
CREATED:20260303T170528Z
LAST-MODIFIED:20260303T170531Z
UID:10041104-1773140400-1773144000@www.globalatlanta.com
SUMMARY:Discussion on War Termination and the Durability of Peace with David Siroky
DESCRIPTION:The Sam Nunn School of International Affairs welcomes Dr. David Siroky\, Professor of International Relations at the University of Florida\, for a guest lecture on his work studying international conflict and conflict resolution. Siroky also serves as director of the Violence\, Conflict\, and Security Lab (ViCS Lab) at the University of Florida.This talk is part of the Nunn School Research Colloquium Speaker Series\, which aims to bring together a vibrant series of academics in the field of political science\, international relations\, science and technology\, and data science to discuss how quantitative methodologies can assist scholars and practitioners in developing new knowledge in the field. \n\n\n\n\n\n\nDownload Flyer\n\n\n\n\n\n\n\n\n\n\n\n\n\n\n\n\n\n\n\n	From the archive:
URL:https://www.globalatlanta.com/event/discussion-on-war-termination-and-the-durability-of-peace-with-david-siroky/
LOCATION:Habersham Building\, Room G17\, 781 Marietta Street NW\, Atlanta\, GA\, 30318\, United States
CATEGORIES:Geopolitics,International affairs,international relations,Politics,Technology
ATTACH;FMTTYPE=image/png:https://www.globalatlanta.com/wp-content/uploads/GA-tech-sam-nunn-school-logo.png
GEO:33.7739478;-84.4043525
X-APPLE-STRUCTURED-LOCATION;VALUE=URI;X-ADDRESS=Habersham Building Room G17 781 Marietta Street NW Atlanta GA 30318 United States;X-APPLE-RADIUS=500;X-TITLE=781 Marietta Street NW:geo:-84.4043525,33.7739478
END:VEVENT
BEGIN:VEVENT
DTSTART;TZID=America/New_York:20181113T110000
DTEND;TZID=America/New_York:20181113T120000
DTSTAMP:20260421T202215
CREATED:20181112T033520Z
LAST-MODIFIED:20181112T033520Z
UID:10036968-1542106800-1542110400@www.globalatlanta.com
SUMMARY:International Education & Diplomacy: Careers with the US Department of State
DESCRIPTION:Come meet with US Department of State Diplomat-in-Residence\, Vallera Gibson\, to learn more about careers\, internships\, and fellowships in diplomacy. Learn how you can become part of America’s leadership\, contributing your skills\, innovative thinking\, and global perspectives to support foreign policy efforts. This International Education Week event is designed to inform outstanding U.S. citizens of international career and educational opportunities with the Department of State. \n\n\n	From the archive:
URL:https://www.globalatlanta.com/event/international-education-diplomacy-careers-with-the-us-department-of-state/
LOCATION:Habersham Building\, Room G17\, 781 Marietta Street NW\, Atlanta\, GA\, 30318\, United States
CATEGORIES:Diplomacy,Policy
ATTACH;FMTTYPE=image/png:https://www.globalatlanta.com/wp-content/uploads/gtech.png
GEO:33.7739478;-84.4043525
X-APPLE-STRUCTURED-LOCATION;VALUE=URI;X-ADDRESS=Habersham Building Room G17 781 Marietta Street NW Atlanta GA 30318 United States;X-APPLE-RADIUS=500;X-TITLE=781 Marietta Street NW:geo:-84.4043525,33.7739478
END:VEVENT
BEGIN:VEVENT
DTSTART;TZID=America/New_York:20170328T110000
DTEND;TZID=America/New_York:20170328T120000
DTSTAMP:20260421T202215
CREATED:20170320T113430Z
LAST-MODIFIED:20170320T113430Z
UID:10036886-1490698800-1490702400@www.globalatlanta.com
SUMMARY:Discussion on Current Events Involving China - with John Garver\, Ph.D
DESCRIPTION:Join the Center for International Strategy\, Technology\, and Policy as it hosts Dr. John Garver\, Professor Emeritus\, for an open discussion on currents events involving China. \n\n\n	From the archive:
URL:https://www.globalatlanta.com/event/discussion-current-events-involving-china-john-garver-ph-d/
LOCATION:Habersham Building\, Room G17\, 781 Marietta Street NW\, Atlanta\, GA\, 30318\, United States
CATEGORIES:Policy
GEO:33.7739478;-84.4043525
X-APPLE-STRUCTURED-LOCATION;VALUE=URI;X-ADDRESS=Habersham Building Room G17 781 Marietta Street NW Atlanta GA 30318 United States;X-APPLE-RADIUS=500;X-TITLE=781 Marietta Street NW:geo:-84.4043525,33.7739478
END:VEVENT
END:VCALENDAR