BEGIN:VCALENDAR
VERSION:2.0
PRODID:-//Global Atlanta - ECPv6.15.20//NONSGML v1.0//EN
CALSCALE:GREGORIAN
METHOD:PUBLISH
X-WR-CALNAME:Global Atlanta
X-ORIGINAL-URL:https://www.globalatlanta.com
X-WR-CALDESC:Events for Global Atlanta
REFRESH-INTERVAL;VALUE=DURATION:PT1H
X-Robots-Tag:noindex
X-PUBLISHED-TTL:PT1H
BEGIN:VTIMEZONE
TZID:America/New_York
BEGIN:DAYLIGHT
TZOFFSETFROM:-0500
TZOFFSETTO:-0400
TZNAME:EDT
DTSTART:20190310T070000
END:DAYLIGHT
BEGIN:STANDARD
TZOFFSETFROM:-0400
TZOFFSETTO:-0500
TZNAME:EST
DTSTART:20191103T060000
END:STANDARD
BEGIN:DAYLIGHT
TZOFFSETFROM:-0500
TZOFFSETTO:-0400
TZNAME:EDT
DTSTART:20200308T070000
END:DAYLIGHT
BEGIN:STANDARD
TZOFFSETFROM:-0400
TZOFFSETTO:-0500
TZNAME:EST
DTSTART:20201101T060000
END:STANDARD
BEGIN:DAYLIGHT
TZOFFSETFROM:-0500
TZOFFSETTO:-0400
TZNAME:EDT
DTSTART:20210314T070000
END:DAYLIGHT
BEGIN:STANDARD
TZOFFSETFROM:-0400
TZOFFSETTO:-0500
TZNAME:EST
DTSTART:20211107T060000
END:STANDARD
BEGIN:DAYLIGHT
TZOFFSETFROM:-0500
TZOFFSETTO:-0400
TZNAME:EDT
DTSTART:20220313T070000
END:DAYLIGHT
BEGIN:STANDARD
TZOFFSETFROM:-0400
TZOFFSETTO:-0500
TZNAME:EST
DTSTART:20221106T060000
END:STANDARD
BEGIN:DAYLIGHT
TZOFFSETFROM:-0500
TZOFFSETTO:-0400
TZNAME:EDT
DTSTART:20230312T070000
END:DAYLIGHT
BEGIN:STANDARD
TZOFFSETFROM:-0400
TZOFFSETTO:-0500
TZNAME:EST
DTSTART:20231105T060000
END:STANDARD
BEGIN:DAYLIGHT
TZOFFSETFROM:-0500
TZOFFSETTO:-0400
TZNAME:EDT
DTSTART:20240310T070000
END:DAYLIGHT
BEGIN:STANDARD
TZOFFSETFROM:-0400
TZOFFSETTO:-0500
TZNAME:EST
DTSTART:20241103T060000
END:STANDARD
BEGIN:DAYLIGHT
TZOFFSETFROM:-0500
TZOFFSETTO:-0400
TZNAME:EDT
DTSTART:20250309T070000
END:DAYLIGHT
BEGIN:STANDARD
TZOFFSETFROM:-0400
TZOFFSETTO:-0500
TZNAME:EST
DTSTART:20251102T060000
END:STANDARD
BEGIN:DAYLIGHT
TZOFFSETFROM:-0500
TZOFFSETTO:-0400
TZNAME:EDT
DTSTART:20260308T070000
END:DAYLIGHT
BEGIN:STANDARD
TZOFFSETFROM:-0400
TZOFFSETTO:-0500
TZNAME:EST
DTSTART:20261101T060000
END:STANDARD
BEGIN:DAYLIGHT
TZOFFSETFROM:-0500
TZOFFSETTO:-0400
TZNAME:EDT
DTSTART:20270314T070000
END:DAYLIGHT
BEGIN:STANDARD
TZOFFSETFROM:-0400
TZOFFSETTO:-0500
TZNAME:EST
DTSTART:20271107T060000
END:STANDARD
END:VTIMEZONE
BEGIN:VEVENT
DTSTART;TZID=America/New_York:20260328T113000
DTEND;TZID=America/New_York:20260328T220000
DTSTAMP:20260422T100452
CREATED:20260226T204119Z
LAST-MODIFIED:20260322T134728Z
UID:10041091-1774697400-1774735200@www.globalatlanta.com
SUMMARY:US-Belgium Soccer Friendly Watch Party at Halfway Crooks
DESCRIPTION:Get ready for an unforgettable match day as Belgium takes on the USA — and the celebration starts long before kickoff. Join fellow fans for a lively pre-party filled with energy\, team spirit\, and plenty of excitement as supporters gather to cheer on their side together. \n\n\n\nThe fun continues after the final whistle with an after-party to keep the momentum going. Hosted at Halfway Cooks Brewery\, the event features convenient all-day parking\, round-trip bus transportation to the stadium (with a free beer included)\, and a festive atmosphere for soccer lovers and friends alike. \n\n\n\n\n\n\nDownload Flyer\n\n\n\n\n\n\n\n\n\n\n\n\n\n\n\n\n\n\n\n	From the archive:
URL:https://www.globalatlanta.com/event/halfway-crooks-watch-party/
LOCATION:Halfway Crooks Beer\, 60 Georgia Ave SE\, Atlanta\, GA\, 30312\, United States
CATEGORIES:Belgium,Food,Sports
ATTACH;FMTTYPE=image/jpeg:https://www.globalatlanta.com/wp-content/uploads/Event-Calendar-Logos-57.jpg
GEO:33.7369699;-84.3857638
X-APPLE-STRUCTURED-LOCATION;VALUE=URI;X-ADDRESS=Halfway Crooks Beer 60 Georgia Ave SE Atlanta GA 30312 United States;X-APPLE-RADIUS=500;X-TITLE=60 Georgia Ave SE:geo:-84.3857638,33.7369699
END:VEVENT
BEGIN:VEVENT
DTSTART;TZID=America/New_York:20250809T180000
DTEND;TZID=America/New_York:20250809T180000
DTSTAMP:20260422T100453
CREATED:20250804T175735Z
LAST-MODIFIED:20250804T175738Z
UID:10040754-1754762400-1754762400@www.globalatlanta.com
SUMMARY:Moravian Music Night
DESCRIPTION:Join the Honorary Consul of the Czech Republic in Atlanta for a one-of-a-kind musical evening featuring Matěj Číp\, a cimbalom virtuoso from the Czech Republic\, alongside a vibrant Moravian folk ensemble. Together\, they’ll bring the soulful and spirited sounds of Moravia\, Slovakia\, and Hungary to life in Atlanta. \n\n\n\nAfterparty | 7:30 PM\, same locationStick around for an authentic Czech folk afterparty—filled with traditional singing\, dancing\, and excellent beer\, all in the cozy setting of Halfway Crooks Beer. \n\n\n\nDon’t miss this unforgettable night of Central European culture and music. \n\n\n\n\n\n\nGet Tickets\n\n\n\n\n\n\n\n\n\n\n\n\n\n\n\n\n\n\n\n	From the archive:
URL:https://www.globalatlanta.com/event/moravian-music-night/
LOCATION:Halfway Crooks Beer\, 60 Georgia Ave SE\, Atlanta\, GA\, 30312\, United States
CATEGORIES:Concert,Culture,Czech Republic,Hungary,Music
ATTACH;FMTTYPE=image/png:https://www.globalatlanta.com/wp-content/uploads/Honorary-Consulate-of-the-Czech-Republic-in-Atlanta-logo-edited.png
GEO:33.7369699;-84.3857638
X-APPLE-STRUCTURED-LOCATION;VALUE=URI;X-ADDRESS=Halfway Crooks Beer 60 Georgia Ave SE Atlanta GA 30312 United States;X-APPLE-RADIUS=500;X-TITLE=60 Georgia Ave SE:geo:-84.3857638,33.7369699
END:VEVENT
BEGIN:VEVENT
DTSTART;TZID=America/New_York:20231126T170000
DTEND;TZID=America/New_York:20231126T190000
DTSTAMP:20260422T100453
CREATED:20231114T071727Z
LAST-MODIFIED:20231120T221024Z
UID:10039980-1701018000-1701025200@www.globalatlanta.com
SUMMARY:Harafica in Concert: Enjoy Czech Folk Music and Original Czech Beer
DESCRIPTION:Are you seeking an outstanding fall experience? \n\n\n\nJoin the Honorary Consulate of the Czech Republic in Atlanta for the performance of Harafica\, a traditional folk music band from the Czech Republic! \n\n\n\nThe performance will start on November 26 at 5 pm Atlanta time at Halfway Crooks Brewery where you also get a chance to taste original Czech beer. \n\n\n\nThe event is free of charge. \n\n\n\nFind more information and parking details in the Facebook event. \n\n\n\nWalk-in event: If you Register\, we will have seating reserved for you. \n\n\n\n\n\n\nRegister\n\n\n\n\n\n\n\n\n\n\n\n\n\n\n\n\n\n\n\n\n\n\n\n\n\n	From the archive:
URL:https://www.globalatlanta.com/event/harafica-in-concert-enjoy-czech-folk-music-and-original-czech-beer/
LOCATION:Halfway Crooks Beer\, 60 Georgia Ave SE\, Atlanta\, GA\, 30312\, United States
CATEGORIES:Culture,Czech Republic
ATTACH;FMTTYPE=image/png:https://www.globalatlanta.com/wp-content/uploads/Hon-Czech-Republic.png
GEO:33.7369699;-84.3857638
X-APPLE-STRUCTURED-LOCATION;VALUE=URI;X-ADDRESS=Halfway Crooks Beer 60 Georgia Ave SE Atlanta GA 30312 United States;X-APPLE-RADIUS=500;X-TITLE=60 Georgia Ave SE:geo:-84.3857638,33.7369699
END:VEVENT
BEGIN:VEVENT
DTSTART;TZID=America/New_York:20230816T173000
DTEND;TZID=America/New_York:20230816T200000
DTSTAMP:20260422T100453
CREATED:20230627T161400Z
LAST-MODIFIED:20230627T161400Z
UID:10039852-1692207000-1692216000@www.globalatlanta.com
SUMMARY:Atlanta Stammtisch at Halfway Crooks
DESCRIPTION:The German American Chamber of Commerce of the Southern United States will host Atlanta Stammtisch at Halfway Crooks. Join the Chamber for beer and networking with the local German American business community. \nLight appetizers and a free drink will be provided with your registration. (Registration is required for this event.) \n\n\n	From the archive:
URL:https://www.globalatlanta.com/event/atlanta-stammtisch-at-halfway-crooks-2/
LOCATION:Halfway Crooks Beer\, 60 Georgia Ave SE\, Atlanta\, GA\, 30312\, United States
CATEGORIES:Business,Networking
ATTACH;FMTTYPE=image/png:https://www.globalatlanta.com/wp-content/uploads/Screen-Shot-2020-08-19-at-11.37.36-AM.png
GEO:33.7369699;-84.3857638
X-APPLE-STRUCTURED-LOCATION;VALUE=URI;X-ADDRESS=Halfway Crooks Beer 60 Georgia Ave SE Atlanta GA 30312 United States;X-APPLE-RADIUS=500;X-TITLE=60 Georgia Ave SE:geo:-84.3857638,33.7369699
END:VEVENT
BEGIN:VEVENT
DTSTART;TZID=America/New_York:20230328T173000
DTEND;TZID=America/New_York:20230328T200000
DTSTAMP:20260422T100453
CREATED:20230303T194331Z
LAST-MODIFIED:20230303T194331Z
UID:10038448-1680024600-1680033600@www.globalatlanta.com
SUMMARY:Atlanta Stammtisch at Halfway Crooks
DESCRIPTION:The German American Chamber of Commerce will host their Atlanta Stammtisch at Halfway Crooks this March! Join for a beer and networking with the local German American business community. Light appetizers and a free drink along with your registration will be provided. \n\n\n	From the archive:
URL:https://www.globalatlanta.com/event/atlanta-stammtisch-at-halfway-crooks/
LOCATION:Halfway Crooks Beer\, 60 Georgia Ave SE\, Atlanta\, GA\, 30312\, United States
CATEGORIES:Networking
ATTACH;FMTTYPE=image/jpeg:https://www.globalatlanta.com/wp-content/uploads/gacc.jpg
GEO:33.7369699;-84.3857638
X-APPLE-STRUCTURED-LOCATION;VALUE=URI;X-ADDRESS=Halfway Crooks Beer 60 Georgia Ave SE Atlanta GA 30312 United States;X-APPLE-RADIUS=500;X-TITLE=60 Georgia Ave SE:geo:-84.3857638,33.7369699
END:VEVENT
BEGIN:VEVENT
DTSTART;TZID=America/New_York:20230223T173000
DTEND;TZID=America/New_York:20230223T193000
DTSTAMP:20260422T100453
CREATED:20230120T194026Z
LAST-MODIFIED:20230120T194026Z
UID:10007201-1677173400-1677180600@www.globalatlanta.com
SUMMARY:Multi-Chamber Young Professional Mixer
DESCRIPTION:Join the Atlanta based Multi-Chambers for the first young professional event of the year. This event is a a great way to expand your network and connect with other young professionals\, entrepreneurs\, small business owners and members of the Bilateral-Chambers business communities! One beverage is included with your ticket as well as some bites. \n\n\n\nRegistration is required. \n\nParticipating Chambers include: \n\nBelgian American Chamber of Commerce of the South\nBritish American Business Council – Georgia\nFrench American Chamber of Commerce- Southeast\nGerman American Chamber of Commerce of the South\nJapan American Society of Georgia\nNetherlands American Chamber of Commerce of the Southeastern US\nSoutheast US Korean Chamber of Commerce\nSwedish American Chamber of Commerce – Georgia\nSwiss American Chamber of Commerce of the Southeast\n\n\n\n  \n\n\n\n\n\n\n\n\n\n\n\n\n\n\n\n	From the archive:
URL:https://www.globalatlanta.com/event/multi-chamber-young-professional-mixer/
LOCATION:Halfway Crooks Beer\, 60 Georgia Ave SE\, Atlanta\, GA\, 30312\, United States
CATEGORIES:Networking
GEO:33.7369699;-84.3857638
X-APPLE-STRUCTURED-LOCATION;VALUE=URI;X-ADDRESS=Halfway Crooks Beer 60 Georgia Ave SE Atlanta GA 30312 United States;X-APPLE-RADIUS=500;X-TITLE=60 Georgia Ave SE:geo:-84.3857638,33.7369699
END:VEVENT
BEGIN:VEVENT
DTSTART;TZID=America/New_York:20211116T173000
DTEND;TZID=America/New_York:20211116T193000
DTSTAMP:20260422T100453
CREATED:20210827T200119Z
LAST-MODIFIED:20210827T200119Z
UID:10039499-1637083800-1637091000@www.globalatlanta.com
SUMMARY:GACC South Atlanta Stammtisch with Consul General Melanie Moltmann
DESCRIPTION:Re-connect and expand your network at Halfway Crooks Beer. \nIf you are interested in networking with the German American business community\, you are welcome to join the German American Chamber of Commerce of the Southern United States (GACC South). You will have the chance to meet the Consul General in Atlanta\, Melanie Moltmann\, and GACC South President & CEO\, Matthias Hoffmann. \nLight appetizers and a free drink along with your registration will be provided. \n\nGACC South Members: Free of charge\nNon-Members Price: $15\n\n\n\n	From the archive:
URL:https://www.globalatlanta.com/event/atlanta-stammtisch-halfway-crooks-beer-2/
LOCATION:Halfway Crooks Beer\, 60 Georgia Ave SE\, Atlanta\, GA\, 30312\, United States
CATEGORIES:Networking
ATTACH;FMTTYPE=image/jpeg:https://www.globalatlanta.com/wp-content/uploads/gacc.jpg
GEO:33.7369699;-84.3857638
X-APPLE-STRUCTURED-LOCATION;VALUE=URI;X-ADDRESS=Halfway Crooks Beer 60 Georgia Ave SE Atlanta GA 30312 United States;X-APPLE-RADIUS=500;X-TITLE=60 Georgia Ave SE:geo:-84.3857638,33.7369699
END:VEVENT
BEGIN:VEVENT
DTSTART;TZID=America/New_York:20210909T160000
DTEND;TZID=America/New_York:20211003T190000
DTSTAMP:20260422T100453
CREATED:20210909T193156Z
LAST-MODIFIED:20210909T193156Z
UID:10039512-1631203200-1633287600@www.globalatlanta.com
SUMMARY:Oktoberfest - Halfway Crooks Beer
DESCRIPTION:Halfway Crooks Beer will host a celebration of German beer and culture from Thursday\, September 9 to Sunday\, October 3. \nThe brewery will have several German-style beers available as well as food specials and music for the event. The outdoor Biergarten will also be open each weekend on Fridays\, Saturdays\, and Sundays with food provided by the local food pop-up\, Gourmet Street Foods. \nThe featured beers will be All Caps\, Festbier\, Kelvin\, and Shell. All Caps is a German-style Export Lager\, Festbier is a German-style Seasonal Lager\, Kelvin is a German-style Smoked Helles\, and Shell is a German-style Schwarzbier. Each beer will be available at various points during the 25-day Oktoberfest event and offered in classic\, liter pours. \n\n\n	From the archive:
URL:https://www.globalatlanta.com/event/oktoberfest-halfway-crooks-beer/
LOCATION:Halfway Crooks Beer\, 60 Georgia Ave SE\, Atlanta\, GA\, 30312\, United States
CATEGORIES:Culture,Drink
ATTACH;FMTTYPE=image/jpeg:https://www.globalatlanta.com/wp-content/uploads/hc_social_2021_oktoberfest_twitter-scaled.jpg
GEO:33.7369699;-84.3857638
X-APPLE-STRUCTURED-LOCATION;VALUE=URI;X-ADDRESS=Halfway Crooks Beer 60 Georgia Ave SE Atlanta GA 30312 United States;X-APPLE-RADIUS=500;X-TITLE=60 Georgia Ave SE:geo:-84.3857638,33.7369699
END:VEVENT
BEGIN:VEVENT
DTSTART;TZID=America/New_York:20210810T053000
DTEND;TZID=America/New_York:20210810T193000
DTSTAMP:20260422T100453
CREATED:20210706T144216Z
LAST-MODIFIED:20210706T144216Z
UID:10038061-1628573400-1628623800@www.globalatlanta.com
SUMMARY:Atlanta Stammtisch - Halfway Crooks Beer
DESCRIPTION:Reconnect and expand your network at Halfway Crooks Beer. If you are interested in networking with the German American business community\, you are welcome to join. Light appetizers and a free drink along with your registration will be provided. \nThe German American Chambers of Commerce (GACC) has undertaken a variety of safety protocols to guard against the spread of COVID-19. In keeping with these efforts\, they ask that any individuals who are experiencing symptoms of COVID-19 refrain from attending this event. In light of the current CDC guidance\, they ask that anyone who has not been fully vaccinated wear a mask while on their premises. By registering for and attending this event\, attendees acknowledge that the GACC is not responsible for any COVID-19 infection or any other illness or injury suffered by the attendee or any other member of the attendee’s household while or as a result of their electing to be on the GACC’s premises. \n\n\n	From the archive:
URL:https://www.globalatlanta.com/event/atlanta-stammtisch-halfway-crooks-beer/
LOCATION:Halfway Crooks Beer\, 60 Georgia Ave SE\, Atlanta\, GA\, 30312\, United States
CATEGORIES:Networking
ATTACH;FMTTYPE=image/jpeg:https://www.globalatlanta.com/wp-content/uploads/gacc.jpg
GEO:33.7369699;-84.3857638
X-APPLE-STRUCTURED-LOCATION;VALUE=URI;X-ADDRESS=Halfway Crooks Beer 60 Georgia Ave SE Atlanta GA 30312 United States;X-APPLE-RADIUS=500;X-TITLE=60 Georgia Ave SE:geo:-84.3857638,33.7369699
END:VEVENT
BEGIN:VEVENT
DTSTART;TZID=America/New_York:20210515T000000
DTEND;TZID=America/New_York:20210531T190000
DTSTAMP:20260422T100453
CREATED:20210506T175443Z
LAST-MODIFIED:20210506T175443Z
UID:10039416-1621036800-1622487600@www.globalatlanta.com
SUMMARY:Czech Beer Days
DESCRIPTION:Halfway Crooks Beer will host a celebration of Czech beer and culture from Saturday\, May 15 to Monday\, May 31. The opening of the event on May 15th will be officiated by Mr. Zdenek Beranek\, Deputy Chief of Mission at the Czech Embassy in Washington\, DC. The brewery will have several Czech-style beers available as well as food specials for the event. The new outdoor Biergarten will also be open each weekend for the allotted dates. The featured beers will be Mavy\, Var\, Deset\, and Vary. \nMavy is a Czech-style Dark Lager\, Var is a Czech-style Pilsner\, Deset is a Czech-style Table Lager\, and Vary is a Czech-style Pilsner. Each beer will be available at various points during the 17-day Czech beer event and offered in classic\, Hladinka pours. \n\n\n	From the archive:
URL:https://www.globalatlanta.com/event/czech-beer-days/
LOCATION:Halfway Crooks Beer\, 60 Georgia Ave SE\, Atlanta\, GA\, 30312\, United States
CATEGORIES:Drink
ATTACH;FMTTYPE=image/jpeg:https://www.globalatlanta.com/wp-content/uploads/hc_czech_02.jpg
GEO:33.7369699;-84.3857638
X-APPLE-STRUCTURED-LOCATION;VALUE=URI;X-ADDRESS=Halfway Crooks Beer 60 Georgia Ave SE Atlanta GA 30312 United States;X-APPLE-RADIUS=500;X-TITLE=60 Georgia Ave SE:geo:-84.3857638,33.7369699
END:VEVENT
BEGIN:VEVENT
DTSTART;TZID=America/New_York:20200225T173000
DTEND;TZID=America/New_York:20200225T193000
DTSTAMP:20260422T100453
CREATED:20200113T160521Z
LAST-MODIFIED:20200113T160521Z
UID:10038787-1582651800-1582659000@www.globalatlanta.com
SUMMARY:Stammtisch: Halfway Crooks Beer\, February 25
DESCRIPTION:Connect\, expand your network and exchange ideas in a casual atmosphere at Halfway Crooks Beer. Everybody interested in networking with the German American business community is welcome to join. \nLight appetizers and a free drink per registration will be provided. \n \n\n\n	From the archive:
URL:https://www.globalatlanta.com/event/stammtisch-halfway-crooks-beer-february-25/
LOCATION:Halfway Crooks Beer\, 60 Georgia Ave SE\, Atlanta\, GA\, 30312\, United States
CATEGORIES:Networking
ATTACH;FMTTYPE=image/jpeg:https://www.globalatlanta.com/wp-content/uploads/AHK_Logo-1-2.jpg
GEO:33.7369699;-84.3857638
X-APPLE-STRUCTURED-LOCATION;VALUE=URI;X-ADDRESS=Halfway Crooks Beer 60 Georgia Ave SE Atlanta GA 30312 United States;X-APPLE-RADIUS=500;X-TITLE=60 Georgia Ave SE:geo:-84.3857638,33.7369699
END:VEVENT
END:VCALENDAR