BEGIN:VCALENDAR
VERSION:2.0
PRODID:-//Global Atlanta - ECPv6.15.20//NONSGML v1.0//EN
CALSCALE:GREGORIAN
METHOD:PUBLISH
X-ORIGINAL-URL:https://www.globalatlanta.com
X-WR-CALDESC:Events for Global Atlanta
REFRESH-INTERVAL;VALUE=DURATION:PT1H
X-Robots-Tag:noindex
X-PUBLISHED-TTL:PT1H
BEGIN:VTIMEZONE
TZID:America/New_York
BEGIN:DAYLIGHT
TZOFFSETFROM:-0500
TZOFFSETTO:-0400
TZNAME:EDT
DTSTART:20170312T070000
END:DAYLIGHT
BEGIN:STANDARD
TZOFFSETFROM:-0400
TZOFFSETTO:-0500
TZNAME:EST
DTSTART:20171105T060000
END:STANDARD
BEGIN:DAYLIGHT
TZOFFSETFROM:-0500
TZOFFSETTO:-0400
TZNAME:EDT
DTSTART:20180311T070000
END:DAYLIGHT
BEGIN:STANDARD
TZOFFSETFROM:-0400
TZOFFSETTO:-0500
TZNAME:EST
DTSTART:20181104T060000
END:STANDARD
BEGIN:DAYLIGHT
TZOFFSETFROM:-0500
TZOFFSETTO:-0400
TZNAME:EDT
DTSTART:20190310T070000
END:DAYLIGHT
BEGIN:STANDARD
TZOFFSETFROM:-0400
TZOFFSETTO:-0500
TZNAME:EST
DTSTART:20191103T060000
END:STANDARD
END:VTIMEZONE
BEGIN:VEVENT
DTSTART;TZID=America/New_York:20181019T183000
DTEND;TZID=America/New_York:20181019T230000
DTSTAMP:20260420T163055
CREATED:20181009T014253Z
LAST-MODIFIED:20181009T014253Z
UID:10036929-1539973800-1539990000@www.globalatlanta.com
SUMMARY:Friday Night "World of Taste" Kick off Party
DESCRIPTION:“World of Taste” will showcase international flavors from across the globe\, bringing together over two dozen local chefs to prepare unique dishes representing a variety of cuisines\, including Salmon Usuzukuri with pickled wasabi stem\, chives\, black volcano salt and crispy crunchies from O-Ku\, Crispy Mortadella with giardiniera from Donetto and Lamb Steak with coffee molasses steak sauce\, arugula pesto and new potatoes from Twisted Soul. Other participating restaurants include CO\, Deep End\, il Giallo Osteria & Bar\, Porch Light Latin Kitchen\, The Mercury\, Tiny Lou’s and more. Dixie Vodka\, the official vodka of Taste of Atlanta\, as well as Bulleit Bourbon will serve tastings of cocktail creations alongside pours of international beers and beverages from Long Drink\, Ravage Wines\, Proximo Spirits\, Topo Chico and White Claw Hard Seltzer. \nFriday night guests will be treated to live music from funk and soul band Bumpin’ The Mango and The Cordon Blues Band\, which features chef and foodie band members. Cheney Brothers\, a leading food service distributor serving the Southeast\, is the official food distributor of “World of Taste” and will be providing  chefs with protein for their culinary creations.  \n\n\n	From the archive:
URL:https://www.globalatlanta.com/event/friday-night-world-of-taste-kick-off-party/
LOCATION:Historic Fourth Ward Park\, 680 Dallas St NE\, Atlanta\, GA\, 30308\, United States
CATEGORIES:Food
ATTACH;FMTTYPE=image/jpeg:https://www.globalatlanta.com/wp-content/uploads/taste-of-atl.jpeg
GEO:33.7691911;-84.3649423
X-APPLE-STRUCTURED-LOCATION;VALUE=URI;X-ADDRESS=Historic Fourth Ward Park 680 Dallas St NE Atlanta GA 30308 United States;X-APPLE-RADIUS=500;X-TITLE=680 Dallas St NE:geo:-84.3649423,33.7691911
END:VEVENT
END:VCALENDAR